BEGIN:VCALENDAR
VERSION:2.0
PRODID:-//Cottage Home Neighborhood Indianapolis - ECPv6.15.20//NONSGML v1.0//EN
CALSCALE:GREGORIAN
METHOD:PUBLISH
X-ORIGINAL-URL:https://cottagehome.info
X-WR-CALDESC:Events for Cottage Home Neighborhood Indianapolis
REFRESH-INTERVAL;VALUE=DURATION:PT1H
X-Robots-Tag:noindex
X-PUBLISHED-TTL:PT1H
BEGIN:VTIMEZONE
TZID:America/Indiana/Indianapolis
BEGIN:DAYLIGHT
TZOFFSETFROM:-0500
TZOFFSETTO:-0400
TZNAME:EDT
DTSTART:20160313T070000
END:DAYLIGHT
BEGIN:STANDARD
TZOFFSETFROM:-0400
TZOFFSETTO:-0500
TZNAME:EST
DTSTART:20161106T060000
END:STANDARD
BEGIN:DAYLIGHT
TZOFFSETFROM:-0500
TZOFFSETTO:-0400
TZNAME:EDT
DTSTART:20170312T070000
END:DAYLIGHT
BEGIN:STANDARD
TZOFFSETFROM:-0400
TZOFFSETTO:-0500
TZNAME:EST
DTSTART:20171105T060000
END:STANDARD
BEGIN:DAYLIGHT
TZOFFSETFROM:-0500
TZOFFSETTO:-0400
TZNAME:EDT
DTSTART:20180311T070000
END:DAYLIGHT
BEGIN:STANDARD
TZOFFSETFROM:-0400
TZOFFSETTO:-0500
TZNAME:EST
DTSTART:20181104T060000
END:STANDARD
END:VTIMEZONE
BEGIN:VEVENT
DTSTART;TZID=America/Indiana/Indianapolis:20170417T180000
DTEND;TZID=America/Indiana/Indianapolis:20170417T220000
DTSTAMP:20260424T100730
CREATED:20170417T131206Z
LAST-MODIFIED:20220920T201805Z
UID:10009221-1492452000-1492466400@cottagehome.info
SUMMARY:Rivoli Revelry
DESCRIPTION:Join us for an evening of drinks and comedy! This fundraising event will feature a silent auction and the improvisation talents of Off Topic. The fun starts at 6 p.m.\, with Off Topic performing at 7 p.m. And remember\, for every drink you drink\, the Rivoli will receive a portion of the profit. \nCurious about the Rivoli? Here\, you’ll learn the latest happenings. You also can purchase RIvoli-themed memorabilia (T-shirts and coffee mugs included). See you at Tick Tock! Let’s raise our glasses to the Rivoli.
URL:https://cottagehome.info/event/rivoli-revelry/
LOCATION:Tick Tock Lounge\, 2602 E 10th St\, Indianapolis\, IN\, 46201\, United States
CATEGORIES:Local Theater
ATTACH;FMTTYPE=image/jpeg:https://cottagehome.info/wp-content/uploads/2017/04/49888f5eef1ca97e63daba09a5ddb281.jpg
END:VEVENT
END:VCALENDAR