BEGIN:VCALENDAR
VERSION:2.0
PRODID:-//Cottage Home Neighborhood Indianapolis - ECPv6.15.20//NONSGML v1.0//EN
CALSCALE:GREGORIAN
METHOD:PUBLISH
X-ORIGINAL-URL:https://cottagehome.info
X-WR-CALDESC:Events for Cottage Home Neighborhood Indianapolis
REFRESH-INTERVAL;VALUE=DURATION:PT1H
X-Robots-Tag:noindex
X-PUBLISHED-TTL:PT1H
BEGIN:VTIMEZONE
TZID:America/Indiana/Indianapolis
BEGIN:DAYLIGHT
TZOFFSETFROM:-0500
TZOFFSETTO:-0400
TZNAME:EDT
DTSTART:20160313T070000
END:DAYLIGHT
BEGIN:STANDARD
TZOFFSETFROM:-0400
TZOFFSETTO:-0500
TZNAME:EST
DTSTART:20161106T060000
END:STANDARD
BEGIN:DAYLIGHT
TZOFFSETFROM:-0500
TZOFFSETTO:-0400
TZNAME:EDT
DTSTART:20170312T070000
END:DAYLIGHT
BEGIN:STANDARD
TZOFFSETFROM:-0400
TZOFFSETTO:-0500
TZNAME:EST
DTSTART:20171105T060000
END:STANDARD
BEGIN:DAYLIGHT
TZOFFSETFROM:-0500
TZOFFSETTO:-0400
TZNAME:EDT
DTSTART:20180311T070000
END:DAYLIGHT
BEGIN:STANDARD
TZOFFSETFROM:-0400
TZOFFSETTO:-0500
TZNAME:EST
DTSTART:20181104T060000
END:STANDARD
BEGIN:DAYLIGHT
TZOFFSETFROM:-0500
TZOFFSETTO:-0400
TZNAME:EDT
DTSTART:20190310T070000
END:DAYLIGHT
BEGIN:STANDARD
TZOFFSETFROM:-0400
TZOFFSETTO:-0500
TZNAME:EST
DTSTART:20191103T060000
END:STANDARD
END:VTIMEZONE
BEGIN:VEVENT
DTSTART;TZID=America/Indiana/Indianapolis:20180925T190000
DTEND;TZID=America/Indiana/Indianapolis:20180925T203000
DTSTAMP:20260424T033258
CREATED:20170417T022430Z
LAST-MODIFIED:20170711T130811Z
UID:10009128-1537902000-1537907400@cottagehome.info
SUMMARY:Conservation Committee meeting
DESCRIPTION:contact Andy Beck: andyhighland12@yahoo.com
URL:https://cottagehome.info/event/conservation-committee-meeting-18/
LOCATION:TBA
END:VEVENT
BEGIN:VEVENT
DTSTART;TZID=America/Indiana/Indianapolis:20180828T190000
DTEND;TZID=America/Indiana/Indianapolis:20180828T203000
DTSTAMP:20260424T033258
CREATED:20170417T022421Z
LAST-MODIFIED:20170711T130803Z
UID:10009121-1535482800-1535488200@cottagehome.info
SUMMARY:Conservation Committee meeting
DESCRIPTION:contact Andy Beck: andyhighland12@yahoo.com
URL:https://cottagehome.info/event/conservation-committee-meeting-17/
LOCATION:TBA
END:VEVENT
BEGIN:VEVENT
DTSTART;TZID=America/Indiana/Indianapolis:20180724T190000
DTEND;TZID=America/Indiana/Indianapolis:20180724T203000
DTSTAMP:20260424T033258
CREATED:20170417T022416Z
LAST-MODIFIED:20170711T130752Z
UID:10009110-1532458800-1532464200@cottagehome.info
SUMMARY:Conservation Committee meeting
DESCRIPTION:contact Andy Beck: andyhighland12@yahoo.com
URL:https://cottagehome.info/event/conservation-committee-meeting-16/
LOCATION:TBA
END:VEVENT
BEGIN:VEVENT
DTSTART;TZID=America/Indiana/Indianapolis:20180626T190000
DTEND;TZID=America/Indiana/Indianapolis:20180626T203000
DTSTAMP:20260424T033258
CREATED:20170417T022411Z
LAST-MODIFIED:20170711T130744Z
UID:10009102-1530039600-1530045000@cottagehome.info
SUMMARY:Conservation Committee meeting
DESCRIPTION:contact Andy Beck: andyhighland12@yahoo.com
URL:https://cottagehome.info/event/conservation-committee-meeting-15/
LOCATION:TBA
END:VEVENT
BEGIN:VEVENT
DTSTART;TZID=America/Indiana/Indianapolis:20180522T190000
DTEND;TZID=America/Indiana/Indianapolis:20180522T203000
DTSTAMP:20260424T033258
CREATED:20170417T022404Z
LAST-MODIFIED:20170711T130732Z
UID:10009090-1527015600-1527021000@cottagehome.info
SUMMARY:Conservation Committee meeting
DESCRIPTION:contact Andy Beck: andyhighland12@yahoo.com
URL:https://cottagehome.info/event/conservation-committee-meeting-14/
LOCATION:TBA
END:VEVENT
BEGIN:VEVENT
DTSTART;TZID=America/Indiana/Indianapolis:20180424T190000
DTEND;TZID=America/Indiana/Indianapolis:20180424T203000
DTSTAMP:20260424T033258
CREATED:20170417T022359Z
LAST-MODIFIED:20170711T130724Z
UID:10009083-1524596400-1524601800@cottagehome.info
SUMMARY:Conservation Committee meeting
DESCRIPTION:contact Andy Beck: andyhighland12@yahoo.com
URL:https://cottagehome.info/event/conservation-committee-meeting-13/
LOCATION:TBA
END:VEVENT
BEGIN:VEVENT
DTSTART;TZID=America/Indiana/Indianapolis:20180327T190000
DTEND;TZID=America/Indiana/Indianapolis:20180327T203000
DTSTAMP:20260424T033258
CREATED:20170417T022353Z
LAST-MODIFIED:20170711T130713Z
UID:10009074-1522177200-1522182600@cottagehome.info
SUMMARY:Conservation Committee meeting
DESCRIPTION:contact Andy Beck: andyhighland12@yahoo.com
URL:https://cottagehome.info/event/conservation-committee-meeting-12/
LOCATION:TBA
END:VEVENT
BEGIN:VEVENT
DTSTART;TZID=America/Indiana/Indianapolis:20180227T190000
DTEND;TZID=America/Indiana/Indianapolis:20180227T203000
DTSTAMP:20260424T033258
CREATED:20170417T022348Z
LAST-MODIFIED:20170711T130706Z
UID:10009065-1519758000-1519763400@cottagehome.info
SUMMARY:Conservation Committee meeting
DESCRIPTION:contact Andy Beck: andyhighland12@yahoo.com
URL:https://cottagehome.info/event/conservation-committee-meeting-11/
LOCATION:TBA
END:VEVENT
BEGIN:VEVENT
DTSTART;TZID=America/Indiana/Indianapolis:20180123T190000
DTEND;TZID=America/Indiana/Indianapolis:20180123T203000
DTSTAMP:20260424T033258
CREATED:20170417T022255Z
LAST-MODIFIED:20170711T130654Z
UID:10009053-1516734000-1516739400@cottagehome.info
SUMMARY:Conservation Committee meeting
DESCRIPTION:contact Andy Beck: andyhighland12@yahoo.com
URL:https://cottagehome.info/event/conservation-committee-meeting-10/
LOCATION:TBA
END:VEVENT
BEGIN:VEVENT
DTSTART;TZID=America/Indiana/Indianapolis:20171226T190000
DTEND;TZID=America/Indiana/Indianapolis:20171226T203000
DTSTAMP:20260424T033258
CREATED:20170417T020830Z
LAST-MODIFIED:20170711T130642Z
UID:10009044-1514314800-1514320200@cottagehome.info
SUMMARY:Conservation Committee meeting
DESCRIPTION:contact Andy Beck: andyhighland12@yahoo.com
URL:https://cottagehome.info/event/conservation-committee-meeting-9/
LOCATION:TBA
END:VEVENT
BEGIN:VEVENT
DTSTART;TZID=America/Indiana/Indianapolis:20171128T190000
DTEND;TZID=America/Indiana/Indianapolis:20171128T203000
DTSTAMP:20260424T033258
CREATED:20170417T011932Z
LAST-MODIFIED:20170711T130632Z
UID:10009033-1511895600-1511901000@cottagehome.info
SUMMARY:Conservation Committee meeting
DESCRIPTION:contact Andy Beck: andyhighland12@yahoo.com
URL:https://cottagehome.info/event/conservation-committee-meeting-8/
LOCATION:TBA
END:VEVENT
BEGIN:VEVENT
DTSTART;TZID=America/Indiana/Indianapolis:20171024T190000
DTEND;TZID=America/Indiana/Indianapolis:20171024T203000
DTSTAMP:20260424T033258
CREATED:20170417T004536Z
LAST-MODIFIED:20170711T130617Z
UID:10009022-1508871600-1508877000@cottagehome.info
SUMMARY:Conservation Committee meeting
DESCRIPTION:contact Andy Beck: andyhighland12@yahoo.com
URL:https://cottagehome.info/event/conservation-committee-meeting-7/
LOCATION:TBA
END:VEVENT
BEGIN:VEVENT
DTSTART;TZID=America/Indiana/Indianapolis:20170926T190000
DTEND;TZID=America/Indiana/Indianapolis:20170926T203000
DTSTAMP:20260424T033258
CREATED:20170417T003012Z
LAST-MODIFIED:20170711T130307Z
UID:10009009-1506452400-1506457800@cottagehome.info
SUMMARY:Conservation Committee meeting
DESCRIPTION:contact Andy Beck: andyhighland12@yahoo.com
URL:https://cottagehome.info/event/conservation-committee-meeting-6/
LOCATION:TBA
END:VEVENT
BEGIN:VEVENT
DTSTART;TZID=America/Indiana/Indianapolis:20170822T190000
DTEND;TZID=America/Indiana/Indianapolis:20170822T203000
DTSTAMP:20260424T033258
CREATED:20170417T001539Z
LAST-MODIFIED:20170711T130255Z
UID:10008998-1503428400-1503433800@cottagehome.info
SUMMARY:Conservation Committee meeting
DESCRIPTION:contact Andy Beck: andyhighland12@yahoo.com
URL:https://cottagehome.info/event/conservation-committee-meeting-5/
LOCATION:TBA
END:VEVENT
BEGIN:VEVENT
DTSTART;TZID=America/Indiana/Indianapolis:20170725T190000
DTEND;TZID=America/Indiana/Indianapolis:20170725T203000
DTSTAMP:20260424T033258
CREATED:20170417T001103Z
LAST-MODIFIED:20170711T130205Z
UID:10008986-1501009200-1501014600@cottagehome.info
SUMMARY:Conservation Committee meeting
DESCRIPTION:contact Andy Beck: andyhighland12@yahoo.com
URL:https://cottagehome.info/event/conservation-committee-meeting-4/
LOCATION:TBA
END:VEVENT
BEGIN:VEVENT
DTSTART;TZID=America/Indiana/Indianapolis:20170627T190000
DTEND;TZID=America/Indiana/Indianapolis:20170627T203000
DTSTAMP:20260424T033258
CREATED:20170417T001058Z
LAST-MODIFIED:20170520T071545Z
UID:10008977-1498590000-1498595400@cottagehome.info
SUMMARY:Conservation Committee meeting
DESCRIPTION:contact Andy Beck: andyhighland12@yahoo.com
URL:https://cottagehome.info/event/conservation-committee-meeting-3/
LOCATION:TBA
END:VEVENT
BEGIN:VEVENT
DTSTART;TZID=America/Indiana/Indianapolis:20170523T190000
DTEND;TZID=America/Indiana/Indianapolis:20170523T203000
DTSTAMP:20260424T033258
CREATED:20170417T001047Z
LAST-MODIFIED:20170520T063723Z
UID:10008960-1495566000-1495571400@cottagehome.info
SUMMARY:Conservation Committee meeting
DESCRIPTION:contact Andy Beck: andyhighland12@yahoo.com
URL:https://cottagehome.info/event/conservation-committee-meeting-2/
LOCATION:TBA
END:VEVENT
BEGIN:VEVENT
DTSTART;TZID=America/Indiana/Indianapolis:20170425T190000
DTEND;TZID=America/Indiana/Indianapolis:20170425T203000
DTSTAMP:20260424T033258
CREATED:20170417T001036Z
LAST-MODIFIED:20170425T030621Z
UID:10008945-1493146800-1493152200@cottagehome.info
SUMMARY:Conservation Committee meeting
DESCRIPTION:contact Andy Beck: andyhighland12@yahoo.com
URL:https://cottagehome.info/event/conservation-committee-meeting/
LOCATION:TBA
END:VEVENT
END:VCALENDAR