BEGIN:VCALENDAR
VERSION:2.0
PRODID:-//Cottage Home Neighborhood Indianapolis - ECPv6.15.20//NONSGML v1.0//EN
CALSCALE:GREGORIAN
METHOD:PUBLISH
X-WR-CALNAME:Cottage Home Neighborhood Indianapolis
X-ORIGINAL-URL:https://cottagehome.info
X-WR-CALDESC:Events for Cottage Home Neighborhood Indianapolis
REFRESH-INTERVAL;VALUE=DURATION:PT1H
X-Robots-Tag:noindex
X-PUBLISHED-TTL:PT1H
BEGIN:VTIMEZONE
TZID:America/Indiana/Indianapolis
BEGIN:DAYLIGHT
TZOFFSETFROM:-0500
TZOFFSETTO:-0400
TZNAME:EDT
DTSTART:20160313T070000
END:DAYLIGHT
BEGIN:STANDARD
TZOFFSETFROM:-0400
TZOFFSETTO:-0500
TZNAME:EST
DTSTART:20161106T060000
END:STANDARD
BEGIN:DAYLIGHT
TZOFFSETFROM:-0500
TZOFFSETTO:-0400
TZNAME:EDT
DTSTART:20170312T070000
END:DAYLIGHT
BEGIN:STANDARD
TZOFFSETFROM:-0400
TZOFFSETTO:-0500
TZNAME:EST
DTSTART:20171105T060000
END:STANDARD
BEGIN:DAYLIGHT
TZOFFSETFROM:-0500
TZOFFSETTO:-0400
TZNAME:EDT
DTSTART:20180311T070000
END:DAYLIGHT
BEGIN:STANDARD
TZOFFSETFROM:-0400
TZOFFSETTO:-0500
TZNAME:EST
DTSTART:20181104T060000
END:STANDARD
END:VTIMEZONE
BEGIN:VEVENT
DTSTART;TZID=America/Indiana/Indianapolis:20170504T173000
DTEND;TZID=America/Indiana/Indianapolis:20170504T220000
DTSTAMP:20260424T154810
CREATED:20170418T155647Z
LAST-MODIFIED:20170418T155647Z
UID:10009249-1493919000-1493935200@cottagehome.info
SUMMARY:Pachanga Awareness Party at Sun King Brewery
DESCRIPTION:This Cuarto De Mayo we will come together for Pachanga Awareness!   \nPachanga\, which you may know is a dance\, is also Sun King’s newest seasonal.  We will be featuring 4 varieties of this Mexican-Style Lager during the party\, along with hourly guest taps (TBA). \nThe fun does not stop there…  Food from La Margarita Restaurant & Tequila Bar & Popcorn Bar from Just Pop In!.  Photo Booth\, Games\, and Make Your Own Marty station.
URL:https://cottagehome.info/event/pachanga-awareness-party-at-sun-king-brewery/
LOCATION:Sun King Brewing Company\, 135 N College Ave\, Indianapolis\, IN\, 46202\, United States
CATEGORIES:Local Business Events
ATTACH;FMTTYPE=image/jpeg:https://cottagehome.info/wp-content/uploads/2017/04/8be5b092a9f44d48513c255bc6e70eeb.jpg
END:VEVENT
BEGIN:VEVENT
DTSTART;TZID=America/Indiana/Indianapolis:20170424T173000
DTEND;TZID=America/Indiana/Indianapolis:20170424T190000
DTSTAMP:20260424T154810
CREATED:20170418T155645Z
LAST-MODIFIED:20170418T155645Z
UID:10009246-1493055000-1493060400@cottagehome.info
SUMMARY:Think & Drink: 90s Trivia (hosted by CHIP YP Group)
DESCRIPTION:Did you listen to NSYNC or Backstreet Boys? Collect Beanie Babies or Pokemon? Maybe slayed vampires with Buffy?  \nJoin CHIP YP Group for Think & Drink: 90s Trivia at Sun King Brewing Company. The event will test your knowledge of the 90s and allow you to meet and greet with CHIP’s YP Group\, as well as the opportunity to join. You must be 21+ in order to attend. Admission is FREE! \nCHIP YP Group provides unique opportunities for YPs to network\, socialize\, and use individual and collective talents to make an impact on homelessness in Indianapolis through community education\, advocacy\, and fundraising efforts and programs.
URL:https://cottagehome.info/event/think-drink-90s-trivia-hosted-by-chip-yp-group/
LOCATION:Sun King Brewing Company\, 135 N College Ave\, Indianapolis\, IN\, 46202\, United States
CATEGORIES:Local Business Events
ATTACH;FMTTYPE=image/jpeg:https://cottagehome.info/wp-content/uploads/2017/04/fff71f4351159848c56a378785f706e7.jpg
END:VEVENT
END:VCALENDAR