BEGIN:VCALENDAR
VERSION:2.0
PRODID:-//Cottage Home Neighborhood Indianapolis - ECPv6.15.20//NONSGML v1.0//EN
CALSCALE:GREGORIAN
METHOD:PUBLISH
X-ORIGINAL-URL:https://cottagehome.info
X-WR-CALDESC:Events for Cottage Home Neighborhood Indianapolis
REFRESH-INTERVAL;VALUE=DURATION:PT1H
X-Robots-Tag:noindex
X-PUBLISHED-TTL:PT1H
BEGIN:VTIMEZONE
TZID:America/Indiana/Indianapolis
BEGIN:DAYLIGHT
TZOFFSETFROM:-0500
TZOFFSETTO:-0400
TZNAME:EDT
DTSTART:20160313T070000
END:DAYLIGHT
BEGIN:STANDARD
TZOFFSETFROM:-0400
TZOFFSETTO:-0500
TZNAME:EST
DTSTART:20161106T060000
END:STANDARD
BEGIN:DAYLIGHT
TZOFFSETFROM:-0500
TZOFFSETTO:-0400
TZNAME:EDT
DTSTART:20170312T070000
END:DAYLIGHT
BEGIN:STANDARD
TZOFFSETFROM:-0400
TZOFFSETTO:-0500
TZNAME:EST
DTSTART:20171105T060000
END:STANDARD
BEGIN:DAYLIGHT
TZOFFSETFROM:-0500
TZOFFSETTO:-0400
TZNAME:EDT
DTSTART:20180311T070000
END:DAYLIGHT
BEGIN:STANDARD
TZOFFSETFROM:-0400
TZOFFSETTO:-0500
TZNAME:EST
DTSTART:20181104T060000
END:STANDARD
END:VTIMEZONE
BEGIN:VEVENT
DTSTART;TZID=America/Indiana/Indianapolis:20170720T180000
DTEND;TZID=America/Indiana/Indianapolis:20170720T210000
DTSTAMP:20260424T083246
CREATED:20170711T130527Z
LAST-MODIFIED:20170711T130527Z
UID:10009434-1500573600-1500584400@cottagehome.info
SUMMARY:Holy Cross Neighborhood Celebration of Community
DESCRIPTION:4th Annual HCNA July Meeting & Summer Celebration! \nSocial Meeting/Pitch-in to celebrate another great year in Holy Cross Neighborhood. HCNA will take care of main course item and beverages.  \nIf you have the time please feel free to bring something to share –  side dish or dessert. We always have more than enough so don’t feel pressured to bring something.
URL:https://cottagehome.info/event/holy-cross-neighborhood-celebration-of-community/
LOCATION:Spotts Garden Service\, 1117 Michigan Pl\, Indianapolis\, IN\, 46202\, United States
CATEGORIES:Nearby Neighborhood Events
END:VEVENT
END:VCALENDAR