BEGIN:VCALENDAR
VERSION:2.0
PRODID:-//Cottage Home Neighborhood Indianapolis - ECPv6.15.20//NONSGML v1.0//EN
CALSCALE:GREGORIAN
METHOD:PUBLISH
X-ORIGINAL-URL:https://cottagehome.info
X-WR-CALDESC:Events for Cottage Home Neighborhood Indianapolis
REFRESH-INTERVAL;VALUE=DURATION:PT1H
X-Robots-Tag:noindex
X-PUBLISHED-TTL:PT1H
BEGIN:VTIMEZONE
TZID:America/Indiana/Indianapolis
BEGIN:DAYLIGHT
TZOFFSETFROM:-0500
TZOFFSETTO:-0400
TZNAME:EDT
DTSTART:20160313T070000
END:DAYLIGHT
BEGIN:STANDARD
TZOFFSETFROM:-0400
TZOFFSETTO:-0500
TZNAME:EST
DTSTART:20161106T060000
END:STANDARD
BEGIN:DAYLIGHT
TZOFFSETFROM:-0500
TZOFFSETTO:-0400
TZNAME:EDT
DTSTART:20170312T070000
END:DAYLIGHT
BEGIN:STANDARD
TZOFFSETFROM:-0400
TZOFFSETTO:-0500
TZNAME:EST
DTSTART:20171105T060000
END:STANDARD
BEGIN:DAYLIGHT
TZOFFSETFROM:-0500
TZOFFSETTO:-0400
TZNAME:EDT
DTSTART:20180311T070000
END:DAYLIGHT
BEGIN:STANDARD
TZOFFSETFROM:-0400
TZOFFSETTO:-0500
TZNAME:EST
DTSTART:20181104T060000
END:STANDARD
END:VTIMEZONE
BEGIN:VEVENT
DTSTART;TZID=America/Indiana/Indianapolis:20170425T180000
DTEND;TZID=America/Indiana/Indianapolis:20170425T193000
DTSTAMP:20260424T125018
CREATED:20170418T155422Z
LAST-MODIFIED:20170425T164818Z
UID:10009241-1493143200-1493148600@cottagehome.info
SUMMARY:U-Visas for Victims of Crime
DESCRIPTION:Jessica Topor\, attorney with the Center for Victim and Human Rights\, explains the U-Visa for victims of crimes (and their immediate family members) who have suffered mental or physical abuse and are willing to assist law enforcement and government officials in the investigation or prosecution of the criminal activity.  This includes domestic violence assaults.  Free and open to the public.  Light refreshments available.  Free child care available. \nThe Reuben Educational Series is a legacy of Sara I. Reuben\, an immigrant from Belarus\, and Albert G. Reuben\, a first-generation American whose family also came from Eastern Europe. Longtime Indianapolis residents\, Mr. and Mrs. Reuben were an example of how immigrants truly enrich and give back to the community.
URL:https://cottagehome.info/event/u-visas-for-victims-of-crime/
LOCATION:Southeast Community Services\, 901 Shelby St\, Indianapolis\, IN\, 46203\, United States
CATEGORIES:Social Causes
ATTACH;FMTTYPE=image/jpeg:https://cottagehome.info/wp-content/uploads/2017/04/4afe7446de8f68cbb87540916991daa1.jpg
END:VEVENT
END:VCALENDAR