BEGIN:VCALENDAR
VERSION:2.0
PRODID:-//Cottage Home Neighborhood Indianapolis - ECPv6.15.20//NONSGML v1.0//EN
CALSCALE:GREGORIAN
METHOD:PUBLISH
X-ORIGINAL-URL:https://cottagehome.info
X-WR-CALDESC:Events for Cottage Home Neighborhood Indianapolis
REFRESH-INTERVAL;VALUE=DURATION:PT1H
X-Robots-Tag:noindex
X-PUBLISHED-TTL:PT1H
BEGIN:VTIMEZONE
TZID:America/Indiana/Indianapolis
BEGIN:DAYLIGHT
TZOFFSETFROM:-0500
TZOFFSETTO:-0400
TZNAME:EDT
DTSTART:20160313T070000
END:DAYLIGHT
BEGIN:STANDARD
TZOFFSETFROM:-0400
TZOFFSETTO:-0500
TZNAME:EST
DTSTART:20161106T060000
END:STANDARD
BEGIN:DAYLIGHT
TZOFFSETFROM:-0500
TZOFFSETTO:-0400
TZNAME:EDT
DTSTART:20170312T070000
END:DAYLIGHT
BEGIN:STANDARD
TZOFFSETFROM:-0400
TZOFFSETTO:-0500
TZNAME:EST
DTSTART:20171105T060000
END:STANDARD
BEGIN:DAYLIGHT
TZOFFSETFROM:-0500
TZOFFSETTO:-0400
TZNAME:EDT
DTSTART:20180311T070000
END:DAYLIGHT
BEGIN:STANDARD
TZOFFSETFROM:-0400
TZOFFSETTO:-0500
TZNAME:EST
DTSTART:20181104T060000
END:STANDARD
END:VTIMEZONE
BEGIN:VEVENT
DTSTART;TZID=America/Indiana/Indianapolis:20170727T190000
DTEND;TZID=America/Indiana/Indianapolis:20170727T220000
DTSTAMP:20260424T135314
CREATED:20170417T122234Z
LAST-MODIFIED:20170427T141206Z
UID:10009199-1501182000-1501192800@cottagehome.info
SUMMARY:Bob Schneider at The Rathskeller
DESCRIPTION:Bob Schneider at The Rathskeller
URL:https://cottagehome.info/event/bob-schneider-at-the-rathskeller/
LOCATION:Rathskeller Restaurant\, 401 E Michigan St\, Indianapolis\, IN\, 46204\, United States
CATEGORIES:Local Business Events
ATTACH;FMTTYPE=image/jpeg:https://cottagehome.info/wp-content/uploads/2017/04/f6f47f6b8afa5eb3a7bf4e773bb7b516.jpg
END:VEVENT
BEGIN:VEVENT
DTSTART;TZID=America/Indiana/Indianapolis:20170525T190000
DTEND;TZID=America/Indiana/Indianapolis:20170526T000000
DTSTAMP:20260424T135314
CREATED:20170417T122227Z
LAST-MODIFIED:20170427T140927Z
UID:10009198-1495738800-1495756800@cottagehome.info
SUMMARY:XEB - original members perform entire debut album "Third Eye Blind"
DESCRIPTION:XEB – original members perform entire debut album “Third Eye Blind” w/ special guest Brad Ray at The Rathskeller
URL:https://cottagehome.info/event/xeb-original-members-perform-entire-debut-album-third-eye-blind/
LOCATION:Rathskeller Restaurant\, 401 E Michigan St\, Indianapolis\, IN\, 46204\, United States
CATEGORIES:Local Business Events
ATTACH;FMTTYPE=image/jpeg:https://cottagehome.info/wp-content/uploads/2017/04/1c858c169a54ee47fa23b1bc40a6f080.jpg
END:VEVENT
BEGIN:VEVENT
DTSTART;TZID=America/Indiana/Indianapolis:20170523T190000
DTEND;TZID=America/Indiana/Indianapolis:20170523T220000
DTSTAMP:20260424T135314
CREATED:20170417T122226Z
LAST-MODIFIED:20170427T140927Z
UID:10009197-1495566000-1495576800@cottagehome.info
SUMMARY:Reeve Carney at The Rathskeller - Indianapolis\, IN
DESCRIPTION:Reeve Carney at The Rathskeller – Indianapolis\, IN
URL:https://cottagehome.info/event/reeve-carney-at-the-rathskeller-indianapolis-in/
LOCATION:Rathskeller Restaurant\, 401 E Michigan St\, Indianapolis\, IN\, 46204\, United States
CATEGORIES:Local Business Events
ATTACH;FMTTYPE=image/jpeg:https://cottagehome.info/wp-content/uploads/2017/04/4623618add701aac3e61fab30a627bff.jpg
END:VEVENT
BEGIN:VEVENT
DTSTART;TZID=America/Indiana/Indianapolis:20170511T190000
DTEND;TZID=America/Indiana/Indianapolis:20170511T230000
DTSTAMP:20260424T135314
CREATED:20170417T122226Z
LAST-MODIFIED:20170427T140927Z
UID:10009196-1494529200-1494543600@cottagehome.info
SUMMARY:Edwin McCain at The Rathskeller
DESCRIPTION:Edwin McCain at The Rathskeller
URL:https://cottagehome.info/event/edwin-mccain-at-the-rathskeller/
LOCATION:Rathskeller Restaurant\, 401 E Michigan St\, Indianapolis\, IN\, 46204\, United States
CATEGORIES:Local Business Events
ATTACH;FMTTYPE=image/jpeg:https://cottagehome.info/wp-content/uploads/2017/04/7bba01c077b91865fb8e22043375a001.jpg
END:VEVENT
BEGIN:VEVENT
DTSTART;TZID=America/Indiana/Indianapolis:20170504T193000
DTEND;TZID=America/Indiana/Indianapolis:20170505T000000
DTSTAMP:20260424T135314
CREATED:20170417T122225Z
LAST-MODIFIED:20170427T140927Z
UID:10009195-1493926200-1493942400@cottagehome.info
SUMMARY:Mersey Beatles at The Rathskeller
DESCRIPTION:Mersey Beatles at The Rathskeller
URL:https://cottagehome.info/event/mersey-beatles-at-the-rathskeller/
LOCATION:Rathskeller Restaurant\, 401 E Michigan St\, Indianapolis\, IN\, 46204\, United States
CATEGORIES:Local Business Events
ATTACH;FMTTYPE=image/jpeg:https://cottagehome.info/wp-content/uploads/2017/04/b4a3f7d7f5f38ede025a3404bd5cbd03.jpg
END:VEVENT
BEGIN:VEVENT
DTSTART;TZID=America/Indiana/Indianapolis:20170427T190000
DTEND;TZID=America/Indiana/Indianapolis:20170427T230000
DTSTAMP:20260424T135314
CREATED:20170417T122224Z
LAST-MODIFIED:20170427T140927Z
UID:10009194-1493319600-1493334000@cottagehome.info
SUMMARY:K Phillips at The Rathskeller
DESCRIPTION:K Phillips at The Rathskeller
URL:https://cottagehome.info/event/k-phillips-at-the-rathskeller/
LOCATION:Rathskeller Restaurant\, 401 E Michigan St\, Indianapolis\, IN\, 46204\, United States
CATEGORIES:Local Business Events
ATTACH;FMTTYPE=image/jpeg:https://cottagehome.info/wp-content/uploads/2017/04/e7d14afb8016c917425cb5e97c59c18e.jpg
END:VEVENT
END:VCALENDAR