BEGIN:VCALENDAR
VERSION:2.0
PRODID:-//Cottage Home Neighborhood Indianapolis - ECPv6.15.20//NONSGML v1.0//EN
CALSCALE:GREGORIAN
METHOD:PUBLISH
X-ORIGINAL-URL:https://cottagehome.info
X-WR-CALDESC:Events for Cottage Home Neighborhood Indianapolis
REFRESH-INTERVAL;VALUE=DURATION:PT1H
X-Robots-Tag:noindex
X-PUBLISHED-TTL:PT1H
BEGIN:VTIMEZONE
TZID:America/Indiana/Indianapolis
BEGIN:DAYLIGHT
TZOFFSETFROM:-0500
TZOFFSETTO:-0400
TZNAME:EDT
DTSTART:20160313T070000
END:DAYLIGHT
BEGIN:STANDARD
TZOFFSETFROM:-0400
TZOFFSETTO:-0500
TZNAME:EST
DTSTART:20161106T060000
END:STANDARD
BEGIN:DAYLIGHT
TZOFFSETFROM:-0500
TZOFFSETTO:-0400
TZNAME:EDT
DTSTART:20170312T070000
END:DAYLIGHT
BEGIN:STANDARD
TZOFFSETFROM:-0400
TZOFFSETTO:-0500
TZNAME:EST
DTSTART:20171105T060000
END:STANDARD
BEGIN:DAYLIGHT
TZOFFSETFROM:-0500
TZOFFSETTO:-0400
TZNAME:EDT
DTSTART:20180311T070000
END:DAYLIGHT
BEGIN:STANDARD
TZOFFSETFROM:-0400
TZOFFSETTO:-0500
TZNAME:EST
DTSTART:20181104T060000
END:STANDARD
END:VTIMEZONE
BEGIN:VEVENT
DTSTART;TZID=America/Indiana/Indianapolis:20170429T113000
DTEND;TZID=America/Indiana/Indianapolis:20170429T133000
DTSTAMP:20260424T190300
CREATED:20170418T155646Z
LAST-MODIFIED:20170418T155646Z
UID:10009248-1493465400-1493472600@cottagehome.info
SUMMARY:2017 Women Build Panel Build
DESCRIPTION:Be a part of the Indy Women Build! \nWe are just weeks away from kicking off the 4th annual Greater Indy Habitat for Humanity Women Build\, building a house for future homeowner Andrea and her daughters and we are kicking off this year’s event with a Panel Build (where you will be able to see the walls\, literally\, go up as volunteers construct the panels for Andrea’s house). \nJoin us\, April 29th from 11:30-1:30 in the parking lot of the Old National Centre to celebrate the kick-off of this year’s build!  \nWe are honored to have Karen and Mina\, mother and daughter construction team from Two Chicks and a Hammer/GoodBones join us for this inaugural event.  \nGrab a bite from the Market District food truck\, a drink from Sun King Brewing Company and shop at the Garish Gal boutique truck all while watching the wall panels being raised right in the parking lot!  \nThis is truly a celebration – so bring your family and tell your friends to stop by to support the Indy Women Build and learn more about Andrea and the 350+ women who are participating!  \nA portion of proceeds from the event will go directly to the 2017 Women Build and help reach the overall goal of $125\,000!  \nCan’t make the event?\nYou can still be a part of the action:\n        -Share the opportunity with friends and family\n        -Make a donation: Support a builder or the full project\, visit\n                    https://give.indyhabitat.org/womenbuild2017\n        -Participate in a future build!\n                    Email womenbuild@indyhabitat.org to be added to our\n                    interest list and receive future communication about\n                    joining the team!
URL:https://cottagehome.info/event/2017-women-build-panel-build/
LOCATION:Old National Centre\, 502 N New Jersey St\, Indianapolis\, IN\, 46204\, United States
CATEGORIES:Local Business Events
ATTACH;FMTTYPE=image/jpeg:https://cottagehome.info/wp-content/uploads/2017/04/0b050442e9d45d430d9fc133f9beaa45.jpg
END:VEVENT
END:VCALENDAR