BEGIN:VCALENDAR
VERSION:2.0
PRODID:-//Cottage Home Neighborhood Indianapolis - ECPv6.15.20//NONSGML v1.0//EN
CALSCALE:GREGORIAN
METHOD:PUBLISH
X-WR-CALNAME:Cottage Home Neighborhood Indianapolis
X-ORIGINAL-URL:https://cottagehome.info
X-WR-CALDESC:Events for Cottage Home Neighborhood Indianapolis
REFRESH-INTERVAL;VALUE=DURATION:PT1H
X-Robots-Tag:noindex
X-PUBLISHED-TTL:PT1H
BEGIN:VTIMEZONE
TZID:America/Indiana/Indianapolis
BEGIN:DAYLIGHT
TZOFFSETFROM:-0500
TZOFFSETTO:-0400
TZNAME:EDT
DTSTART:20250309T070000
END:DAYLIGHT
BEGIN:STANDARD
TZOFFSETFROM:-0400
TZOFFSETTO:-0500
TZNAME:EST
DTSTART:20251102T060000
END:STANDARD
BEGIN:DAYLIGHT
TZOFFSETFROM:-0500
TZOFFSETTO:-0400
TZNAME:EDT
DTSTART:20260308T070000
END:DAYLIGHT
BEGIN:STANDARD
TZOFFSETFROM:-0400
TZOFFSETTO:-0500
TZNAME:EST
DTSTART:20261101T060000
END:STANDARD
BEGIN:DAYLIGHT
TZOFFSETFROM:-0500
TZOFFSETTO:-0400
TZNAME:EDT
DTSTART:20270314T070000
END:DAYLIGHT
BEGIN:STANDARD
TZOFFSETFROM:-0400
TZOFFSETTO:-0500
TZNAME:EST
DTSTART:20271107T060000
END:STANDARD
END:VTIMEZONE
BEGIN:VEVENT
DTSTART;TZID=America/Indiana/Indianapolis:20260425T090000
DTEND;TZID=America/Indiana/Indianapolis:20260425T150000
DTSTAMP:20260423T122155
CREATED:20260228T041735Z
LAST-MODIFIED:20260228T041739Z
UID:10009711-1777107600-1777129200@cottagehome.info
SUMMARY:ALL NEIGHBORS WELCOME: Cottage Home Spring Cleanup
DESCRIPTION:Usher in spring and lay the foundation for summer at our annual spring cleanup. Neighbors spread throughout the Community Space and the streets (and greenspaces) of Cottage Home to help clean up\, weed\, plant\, and repair our shared amenities. All cleanup supplies will be provided\, but feel free to bring your own (labeled) tools\, gloves\, and water bottles\, if you like. CHNA will provide food & drink\, and you are welcome to stop by whenever fits your schedule. Even 30 minutes would make a world of difference!
URL:https://cottagehome.info/event/all-neighbors-welcome-cottage-home-spring-cleanup/
LOCATION:Cottage Home Community Space\, 714 N. Highland Avenue\, Indianapolis\, IN\, United States
END:VEVENT
BEGIN:VEVENT
DTSTART;TZID=America/Indiana/Indianapolis:20260502T090000
DTEND;TZID=America/Indiana/Indianapolis:20260502T120000
DTSTAMP:20260423T122155
CREATED:20260324T005313Z
LAST-MODIFIED:20260324T005316Z
UID:10009713-1777712400-1777723200@cottagehome.info
SUMMARY:Cottage Home Park Cleanup with KIB
DESCRIPTION:Join KIB and the Cottage Home Greenspace committee to give the neighborhood playground a little bit of TLC and get it ready for summer!
URL:https://cottagehome.info/event/cottage-home-park-cleanup-with-kib/
LOCATION:Cottage Home Community Space\, 714 N. Highland Avenue\, Indianapolis\, IN\, United States
END:VEVENT
BEGIN:VEVENT
DTSTART;TZID=America/Indiana/Indianapolis:20260601T190000
DTEND;TZID=America/Indiana/Indianapolis:20260601T200000
DTSTAMP:20260423T122155
CREATED:20260117T200335Z
LAST-MODIFIED:20260117T200341Z
UID:10009706-1780340400-1780344000@cottagehome.info
SUMMARY:Cottage Home Neighborhood Meeting - ALL NEIGHBORS WELCOME
DESCRIPTION:The first Monday of every even month\, neighbors gather in the Paramount gym (enter near the garden on the south side of the building) or the Community Space at 714 N. Highland to hear about what’s happening in our community and the communities around us\, and to learn about opportunities to get engaged.
URL:https://cottagehome.info/event/cottage-home-neighborhood-meeting-all-neighbors-welcome-7/
LOCATION:Cottage Home Community Space\, 714 N. Highland Avenue\, Indianapolis\, IN\, United States
END:VEVENT
BEGIN:VEVENT
DTSTART;TZID=America/Indiana/Indianapolis:20260803T190000
DTEND;TZID=America/Indiana/Indianapolis:20260803T200000
DTSTAMP:20260423T122155
CREATED:20260117T200420Z
LAST-MODIFIED:20260117T200424Z
UID:10009707-1785783600-1785787200@cottagehome.info
SUMMARY:Cottage Home Neighborhood Meeting - ALL NEIGHBORS WELCOME
DESCRIPTION:The first Monday of every even month\, neighbors gather in the Paramount gym (enter near the garden on the south side of the building) or the Community Space at 714 N. Highland to hear about what’s happening in our community and the communities around us\, and to learn about opportunities to get engaged.
URL:https://cottagehome.info/event/cottage-home-neighborhood-meeting-all-neighbors-welcome-8/
LOCATION:Cottage Home Community Space\, 714 N. Highland Avenue\, Indianapolis\, IN\, United States
END:VEVENT
BEGIN:VEVENT
DTSTART;TZID=America/Indiana/Indianapolis:20261005T190000
DTEND;TZID=America/Indiana/Indianapolis:20261005T200000
DTSTAMP:20260423T122155
CREATED:20260117T200507Z
LAST-MODIFIED:20260117T200511Z
UID:10009708-1791226800-1791230400@cottagehome.info
SUMMARY:Cottage Home Neighborhood Meeting - ALL NEIGHBORS WELCOME
DESCRIPTION:The first Monday of every even month\, neighbors gather in the Paramount gym (enter near the garden on the south side of the building) or the Community Space at 714 N. Highland to hear about what’s happening in our community and the communities around us\, and to learn about opportunities to get engaged.
URL:https://cottagehome.info/event/cottage-home-neighborhood-meeting-all-neighbors-welcome-9/
LOCATION:Cottage Home Community Space\, 714 N. Highland Avenue\, Indianapolis\, IN\, United States
END:VEVENT
BEGIN:VEVENT
DTSTART;TZID=America/Indiana/Indianapolis:20261010T170000
DTEND;TZID=America/Indiana/Indianapolis:20261010T230000
DTSTAMP:20260423T122155
CREATED:20260117T200759Z
LAST-MODIFIED:20260117T200805Z
UID:10009710-1791651600-1791673200@cottagehome.info
SUMMARY:Cottage Home Block Party
DESCRIPTION:
URL:https://cottagehome.info/event/cottage-home-block-party-3/
LOCATION:Cottage Home Community Space\, 714 N. Highland Avenue\, Indianapolis\, IN\, United States
ATTACH;FMTTYPE=image/jpeg:https://cottagehome.info/wp-content/uploads/2023/02/20211009_182842-1.jpg
END:VEVENT
END:VCALENDAR