BEGIN:VCALENDAR
VERSION:2.0
PRODID:-//Cottage Home Neighborhood Indianapolis - ECPv6.15.20//NONSGML v1.0//EN
CALSCALE:GREGORIAN
METHOD:PUBLISH
X-ORIGINAL-URL:https://cottagehome.info
X-WR-CALDESC:Events for Cottage Home Neighborhood Indianapolis
REFRESH-INTERVAL;VALUE=DURATION:PT1H
X-Robots-Tag:noindex
X-PUBLISHED-TTL:PT1H
BEGIN:VTIMEZONE
TZID:America/Indiana/Indianapolis
BEGIN:DAYLIGHT
TZOFFSETFROM:-0500
TZOFFSETTO:-0400
TZNAME:EDT
DTSTART:20160313T070000
END:DAYLIGHT
BEGIN:STANDARD
TZOFFSETFROM:-0400
TZOFFSETTO:-0500
TZNAME:EST
DTSTART:20161106T060000
END:STANDARD
BEGIN:DAYLIGHT
TZOFFSETFROM:-0500
TZOFFSETTO:-0400
TZNAME:EDT
DTSTART:20170312T070000
END:DAYLIGHT
BEGIN:STANDARD
TZOFFSETFROM:-0400
TZOFFSETTO:-0500
TZNAME:EST
DTSTART:20171105T060000
END:STANDARD
BEGIN:DAYLIGHT
TZOFFSETFROM:-0500
TZOFFSETTO:-0400
TZNAME:EDT
DTSTART:20180311T070000
END:DAYLIGHT
BEGIN:STANDARD
TZOFFSETFROM:-0400
TZOFFSETTO:-0500
TZNAME:EST
DTSTART:20181104T060000
END:STANDARD
END:VTIMEZONE
BEGIN:VEVENT
DTSTART;TZID=America/Indiana/Indianapolis:20171203T180000
DTEND;TZID=America/Indiana/Indianapolis:20171203T184500
DTSTAMP:20260424T121747
CREATED:20170417T131549Z
LAST-MODIFIED:20170505T145700Z
UID:10009230-1512324000-1512326700@cottagehome.info
SUMMARY:December Moving Meditation
DESCRIPTION:Please note our monthly Meditation and Pranayama classes will take a slightly different spin and are now Moving Meditation classes taught by Laura Henderson. \nThis 45 minute\, all-levels class includes centering pranayama to begin class\, a vinyasa flow sequence to warm up\, followed by a specific set of Kundalini-inspired yoga postures\, savasana and a closing meditation. This unique practice provides many benefits including: energizing\, stress relief\, weight management\, stimulation of lymphatic flow for detoxification\, development of will power\, confidence\, endurance and personal empowerment with regular practice. Students will experience benefits to the nervous system\, glandular system and the immune system.  \nThis is a donation-based class\, with donations beginning at $10. Donations from the class directly benefit Growing Places Indy\, a non-profit organization founded by Invoke Studio teacher\, Laura Henderson\, with the mission to empower people to cultivate personal\, family and community wellness through urban agriculture\, access to fresh\, local food and mind-body education. Laura teaches this unique Kundinyasa Yoga practice to Growing Places Indy Summer Apprentices and it is always a memorable and transformative aspect of their experience. Learn more at http://www.growingplacesindy.org
URL:https://cottagehome.info/event/december-moving-meditation/
LOCATION:Invoke Studio\, 970 Fort Wayne Ave\, Indianapolis\, IN\, 46202\, United States
CATEGORIES:Local Business Events
ATTACH;FMTTYPE=image/jpeg:https://cottagehome.info/wp-content/uploads/2017/04/0b2f1d9eaaf98fdec97165a973fbc082.jpg
END:VEVENT
BEGIN:VEVENT
DTSTART;TZID=America/Indiana/Indianapolis:20171105T180000
DTEND;TZID=America/Indiana/Indianapolis:20171105T184500
DTSTAMP:20260424T121747
CREATED:20170417T131547Z
LAST-MODIFIED:20170505T145700Z
UID:10009229-1509904800-1509907500@cottagehome.info
SUMMARY:November Moving Meditation
DESCRIPTION:Please note our monthly Meditation and Pranayama classes will take a slightly different spin and are now Moving Meditation classes taught by Laura Henderson. \nThis 45 minute\, all-levels class includes centering pranayama to begin class\, a vinyasa flow sequence to warm up\, followed by a specific set of Kundalini-inspired yoga postures\, savasana and a closing meditation. This unique practice provides many benefits including: energizing\, stress relief\, weight management\, stimulation of lymphatic flow for detoxification\, development of will power\, confidence\, endurance and personal empowerment with regular practice. Students will experience benefits to the nervous system\, glandular system and the immune system.  \nThis is a donation-based class\, with donations beginning at $10. Donations from the class directly benefit Growing Places Indy\, a non-profit organization founded by Invoke Studio teacher\, Laura Henderson\, with the mission to empower people to cultivate personal\, family and community wellness through urban agriculture\, access to fresh\, local food and mind-body education. Laura teaches this unique Kundinyasa Yoga practice to Growing Places Indy Summer Apprentices and it is always a memorable and transformative aspect of their experience. Learn more at http://www.growingplacesindy.org
URL:https://cottagehome.info/event/november-moving-meditation/
LOCATION:Invoke Studio\, 970 Fort Wayne Ave\, Indianapolis\, IN\, 46202\, United States
CATEGORIES:Local Business Events
ATTACH;FMTTYPE=image/jpeg:https://cottagehome.info/wp-content/uploads/2017/04/2b73c8acad9bf7e787904c60efb7ca5d.jpg
END:VEVENT
BEGIN:VEVENT
DTSTART;TZID=America/Indiana/Indianapolis:20171001T180000
DTEND;TZID=America/Indiana/Indianapolis:20171001T184500
DTSTAMP:20260424T121747
CREATED:20170417T131546Z
LAST-MODIFIED:20170505T145634Z
UID:10009228-1506880800-1506883500@cottagehome.info
SUMMARY:October Moving Meditation
DESCRIPTION:Please note our monthly Meditation and Pranayama classes will take a slightly different spin and are now Moving Meditation classes taught by Laura Henderson. \nThis 45 minute\, all-levels class includes centering pranayama to begin class\, a vinyasa flow sequence to warm up\, followed by a specific set of Kundalini-inspired yoga postures\, savasana and a closing meditation. This unique practice provides many benefits including: energizing\, stress relief\, weight management\, stimulation of lymphatic flow for detoxification\, development of will power\, confidence\, endurance and personal empowerment with regular practice. Students will experience benefits to the nervous system\, glandular system and the immune system.  \nThis is a donation-based class\, with donations beginning at $10. Donations from the class directly benefit Growing Places Indy\, a non-profit organization founded by Invoke Studio teacher\, Laura Henderson\, with the mission to empower people to cultivate personal\, family and community wellness through urban agriculture\, access to fresh\, local food and mind-body education. Laura teaches this unique Kundinyasa Yoga practice to Growing Places Indy Summer Apprentices and it is always a memorable and transformative aspect of their experience. Learn more at http://www.growingplacesindy.org
URL:https://cottagehome.info/event/october-moving-meditation/
LOCATION:Invoke Studio\, 970 Fort Wayne Ave\, Indianapolis\, IN\, 46202\, United States
CATEGORIES:Local Business Events
ATTACH;FMTTYPE=image/jpeg:https://cottagehome.info/wp-content/uploads/2017/04/bbb031de9290dfb2f6ddada792add186.jpg
END:VEVENT
BEGIN:VEVENT
DTSTART;TZID=America/Indiana/Indianapolis:20170903T180000
DTEND;TZID=America/Indiana/Indianapolis:20170903T184500
DTSTAMP:20260424T121747
CREATED:20170417T131545Z
LAST-MODIFIED:20170505T145634Z
UID:10009227-1504461600-1504464300@cottagehome.info
SUMMARY:September Moving Meditation
DESCRIPTION:Please note our monthly Meditation and Pranayama classes will take a slightly different spin and are now Moving Meditation classes taught by Laura Henderson. \nThis 45 minute\, all-levels class includes centering pranayama to begin class\, a vinyasa flow sequence to warm up\, followed by a specific set of Kundalini-inspired yoga postures\, savasana and a closing meditation. This unique practice provides many benefits including: energizing\, stress relief\, weight management\, stimulation of lymphatic flow for detoxification\, development of will power\, confidence\, endurance and personal empowerment with regular practice. Students will experience benefits to the nervous system\, glandular system and the immune system.  \nThis is a donation-based class\, with donations beginning at $10. Donations from the class directly benefit Growing Places Indy\, a non-profit organization founded by Invoke Studio teacher\, Laura Henderson\, with the mission to empower people to cultivate personal\, family and community wellness through urban agriculture\, access to fresh\, local food and mind-body education. Laura teaches this unique Kundinyasa Yoga practice to Growing Places Indy Summer Apprentices and it is always a memorable and transformative aspect of their experience. Learn more at http://www.growingplacesindy.org
URL:https://cottagehome.info/event/september-moving-meditation/
LOCATION:Invoke Studio\, 970 Fort Wayne Ave\, Indianapolis\, IN\, 46202\, United States
CATEGORIES:Local Business Events
ATTACH;FMTTYPE=image/jpeg:https://cottagehome.info/wp-content/uploads/2017/04/4736a2a5edd1ca79e9ef33d30f496cb6.jpg
END:VEVENT
BEGIN:VEVENT
DTSTART;TZID=America/Indiana/Indianapolis:20170806T180000
DTEND;TZID=America/Indiana/Indianapolis:20170806T184500
DTSTAMP:20260424T121747
CREATED:20170417T131537Z
LAST-MODIFIED:20170505T145634Z
UID:10009226-1502042400-1502045100@cottagehome.info
SUMMARY:August Moving Meditation
DESCRIPTION:Please note our monthly Meditation and Pranayama classes will take a slightly different spin and are now Moving Meditation classes taught by Laura Henderson. \nThis 45 minute\, all-levels class includes centering pranayama to begin class\, a vinyasa flow sequence to warm up\, followed by a specific set of Kundalini-inspired yoga postures\, savasana and a closing meditation. This unique practice provides many benefits including: energizing\, stress relief\, weight management\, stimulation of lymphatic flow for detoxification\, development of will power\, confidence\, endurance and personal empowerment with regular practice. Students will experience benefits to the nervous system\, glandular system and the immune system.  \nThis is a donation-based class\, with donations beginning at $10. Donations from the class directly benefit Growing Places Indy\, a non-profit organization founded by Invoke Studio teacher\, Laura Henderson\, with the mission to empower people to cultivate personal\, family and community wellness through urban agriculture\, access to fresh\, local food and mind-body education. Laura teaches this unique Kundinyasa Yoga practice to Growing Places Indy Summer Apprentices and it is always a memorable and transformative aspect of their experience. Learn more at http://www.growingplacesindy.org
URL:https://cottagehome.info/event/august-moving-meditation/
LOCATION:Invoke Studio\, 970 Fort Wayne Ave\, Indianapolis\, IN\, 46202\, United States
CATEGORIES:Local Business Events
ATTACH;FMTTYPE=image/jpeg:https://cottagehome.info/wp-content/uploads/2017/04/92542cb732595e6a8e625ace32fe2eb7.jpg
END:VEVENT
BEGIN:VEVENT
DTSTART;TZID=America/Indiana/Indianapolis:20170604T180000
DTEND;TZID=America/Indiana/Indianapolis:20170604T184500
DTSTAMP:20260424T121747
CREATED:20170417T131536Z
LAST-MODIFIED:20170505T145634Z
UID:10009225-1496599200-1496601900@cottagehome.info
SUMMARY:June Moving Meditation
DESCRIPTION:Please note our monthly Meditation and Pranayama classes will take a slightly different spin and are now Moving Meditation classes taught by Laura Henderson. \nThis 45 minute\, all-levels class includes centering pranayama to begin class\, a vinyasa flow sequence to warm up\, followed by a specific set of Kundalini-inspired yoga postures\, savasana and a closing meditation. This unique practice provides many benefits including: energizing\, stress relief\, weight management\, stimulation of lymphatic flow for detoxification\, development of will power\, confidence\, endurance and personal empowerment with regular practice. Students will experience benefits to the nervous system\, glandular system and the immune system.  \nThis is a donation-based class\, with donations beginning at $10. Donations from the class directly benefit Growing Places Indy\, a non-profit organization founded by Invoke Studio teacher\, Laura Henderson\, with the mission to empower people to cultivate personal\, family and community wellness through urban agriculture\, access to fresh\, local food and mind-body education. Laura teaches this unique Kundinyasa Yoga practice to Growing Places Indy Summer Apprentices and it is always a memorable and transformative aspect of their experience. Learn more at http://www.growingplacesindy.org
URL:https://cottagehome.info/event/june-moving-meditation/
LOCATION:Invoke Studio\, 970 Fort Wayne Ave\, Indianapolis\, IN\, 46202\, United States
CATEGORIES:Local Business Events
ATTACH;FMTTYPE=image/jpeg:https://cottagehome.info/wp-content/uploads/2017/05/811c5ad710af6e213d6846f2244c7dbe.jpg
END:VEVENT
BEGIN:VEVENT
DTSTART;TZID=America/Indiana/Indianapolis:20170507T180000
DTEND;TZID=America/Indiana/Indianapolis:20170507T184500
DTSTAMP:20260424T121747
CREATED:20170417T131534Z
LAST-MODIFIED:20170505T145633Z
UID:10009224-1494180000-1494182700@cottagehome.info
SUMMARY:May Moving Meditation
DESCRIPTION:Please note our monthly Meditation and Pranayama classes will take a slightly different spin and are now Moving Meditation classes taught by Laura Henderson. \nThis 45 minute\, all-levels class includes centering pranayama to begin class\, a vinyasa flow sequence to warm up\, followed by a specific set of Kundalini-inspired yoga postures\, savasana and a closing meditation. This unique practice provides many benefits including: energizing\, stress relief\, weight management\, stimulation of lymphatic flow for detoxification\, development of will power\, confidence\, endurance and personal empowerment with regular practice. Students will experience benefits to the nervous system\, glandular system and the immune system.  \nThis is a donation-based class\, with donations beginning at $10. Donations from the class directly benefit Growing Places Indy\, a non-profit organization founded by Invoke Studio teacher\, Laura Henderson\, with the mission to empower people to cultivate personal\, family and community wellness through urban agriculture\, access to fresh\, local food and mind-body education. Laura teaches this unique Kundinyasa Yoga practice to Growing Places Indy Summer Apprentices and it is always a memorable and transformative aspect of their experience. Learn more at http://www.growingplacesindy.org
URL:https://cottagehome.info/event/may-moving-meditation/
LOCATION:Invoke Studio\, 970 Fort Wayne Ave\, Indianapolis\, IN\, 46202\, United States
CATEGORIES:Local Business Events
ATTACH;FMTTYPE=image/jpeg:https://cottagehome.info/wp-content/uploads/2017/05/18cfbac809ab4fecbe97c1fb7ad0887b.jpg
END:VEVENT
END:VCALENDAR