BEGIN:VCALENDAR
VERSION:2.0
PRODID:-//Cottage Home Neighborhood Indianapolis - ECPv6.15.20//NONSGML v1.0//EN
CALSCALE:GREGORIAN
METHOD:PUBLISH
X-ORIGINAL-URL:https://cottagehome.info
X-WR-CALDESC:Events for Cottage Home Neighborhood Indianapolis
REFRESH-INTERVAL;VALUE=DURATION:PT1H
X-Robots-Tag:noindex
X-PUBLISHED-TTL:PT1H
BEGIN:VTIMEZONE
TZID:America/Indiana/Indianapolis
BEGIN:DAYLIGHT
TZOFFSETFROM:-0500
TZOFFSETTO:-0400
TZNAME:EDT
DTSTART:20160313T070000
END:DAYLIGHT
BEGIN:STANDARD
TZOFFSETFROM:-0400
TZOFFSETTO:-0500
TZNAME:EST
DTSTART:20161106T060000
END:STANDARD
BEGIN:DAYLIGHT
TZOFFSETFROM:-0500
TZOFFSETTO:-0400
TZNAME:EDT
DTSTART:20170312T070000
END:DAYLIGHT
BEGIN:STANDARD
TZOFFSETFROM:-0400
TZOFFSETTO:-0500
TZNAME:EST
DTSTART:20171105T060000
END:STANDARD
BEGIN:DAYLIGHT
TZOFFSETFROM:-0500
TZOFFSETTO:-0400
TZNAME:EDT
DTSTART:20180311T070000
END:DAYLIGHT
BEGIN:STANDARD
TZOFFSETFROM:-0400
TZOFFSETTO:-0500
TZNAME:EST
DTSTART:20181104T060000
END:STANDARD
END:VTIMEZONE
BEGIN:VEVENT
DTSTART;TZID=America/Indiana/Indianapolis:20170504T173000
DTEND;TZID=America/Indiana/Indianapolis:20170504T200000
DTSTAMP:20260424T125322
CREATED:20170426T170159Z
LAST-MODIFIED:20170426T170159Z
UID:10009395-1493919000-1493928000@cottagehome.info
SUMMARY:Indy Reads Event
DESCRIPTION:The next bi-monthly training will be “Coffee with a Cop”\, aimed at breaking down the barriers between police officers and the citizens they serve. Coffee with a Cop brings police officers and the community members they serve together–over coffee–to discuss issues and learn more about each other. \nOne of the keys to Coffee with a Cop’s success is that it removes the physical barriers between officers and residents and happens outside of the crisis situations that routinely define interactions between law enforcement officials and community members. Instead it allows for relaxed\, informal one-on-one interactions in a friendly atmosphere. \nThe IMPD will also like to answer questions before the event date. So please if you have any questions\, don’t hesitate to send them to me and you will surely get back your answers before the May 4th. We want to do this to help ease the tension amongst immigrants and refugees. Thank you and don’t forget to mark your calendar and reserve your spot.
URL:https://cottagehome.info/event/indy-reads-event-2/
LOCATION:Indy Reads\, 911 Massachusetts Avenue\, Indianapolis\, IN\, 46202\, United States
CATEGORIES:Social Causes
ATTACH;FMTTYPE=image/jpeg:https://cottagehome.info/wp-content/uploads/2017/04/4c324d4b2a9defdbbc565a5f954de874.jpg
END:VEVENT
END:VCALENDAR