BEGIN:VCALENDAR
VERSION:2.0
PRODID:-//Cottage Home Neighborhood Indianapolis - ECPv6.15.20//NONSGML v1.0//EN
CALSCALE:GREGORIAN
METHOD:PUBLISH
X-WR-CALNAME:Cottage Home Neighborhood Indianapolis
X-ORIGINAL-URL:https://cottagehome.info
X-WR-CALDESC:Events for Cottage Home Neighborhood Indianapolis
REFRESH-INTERVAL;VALUE=DURATION:PT1H
X-Robots-Tag:noindex
X-PUBLISHED-TTL:PT1H
BEGIN:VTIMEZONE
TZID:America/Indiana/Indianapolis
BEGIN:DAYLIGHT
TZOFFSETFROM:-0500
TZOFFSETTO:-0400
TZNAME:EDT
DTSTART:20160313T070000
END:DAYLIGHT
BEGIN:STANDARD
TZOFFSETFROM:-0400
TZOFFSETTO:-0500
TZNAME:EST
DTSTART:20161106T060000
END:STANDARD
BEGIN:DAYLIGHT
TZOFFSETFROM:-0500
TZOFFSETTO:-0400
TZNAME:EDT
DTSTART:20170312T070000
END:DAYLIGHT
BEGIN:STANDARD
TZOFFSETFROM:-0400
TZOFFSETTO:-0500
TZNAME:EST
DTSTART:20171105T060000
END:STANDARD
BEGIN:DAYLIGHT
TZOFFSETFROM:-0500
TZOFFSETTO:-0400
TZNAME:EDT
DTSTART:20180311T070000
END:DAYLIGHT
BEGIN:STANDARD
TZOFFSETFROM:-0400
TZOFFSETTO:-0500
TZNAME:EST
DTSTART:20181104T060000
END:STANDARD
END:VTIMEZONE
BEGIN:VEVENT
DTSTART;TZID=America/Indiana/Indianapolis:20170513T090000
DTEND;TZID=America/Indiana/Indianapolis:20170513T235900
DTSTAMP:20260424T155924
CREATED:20170418T161303Z
LAST-MODIFIED:20170427T180023Z
UID:10009298-1494666000-1494719940@cottagehome.info
SUMMARY:2017 Virginia Avenue Folk Fest
DESCRIPTION:The 2017 Virginia Avenue Folk Fest will be the third annual version of the largest single day music festival in the state of Indiana and one the largest in the country. 100 acts playing across 13 stages take over Virginia Avenue on May 13 throughout the neighborhoods of Fountain Square and Fletcher Place in Indianapolis. The festival is free and all ages. A portion of the proceeds from the event goes to Southeast Community Services in Fountain Square. There will be dozens of art vendors and organizations set up with booths in addition to the music.
URL:https://cottagehome.info/event/2017-virginia-avenue-folk-fest/
LOCATION:Indianapolis\, IN\, Indianapolis\, IN\, United States
CATEGORIES:Local Business Events
ATTACH;FMTTYPE=image/jpeg:https://cottagehome.info/wp-content/uploads/2017/04/ed5c5ec55157f4757d75749cf0397da8.jpg
END:VEVENT
END:VCALENDAR