BEGIN:VCALENDAR
VERSION:2.0
PRODID:-//Cottage Home Neighborhood Indianapolis - ECPv6.15.20//NONSGML v1.0//EN
CALSCALE:GREGORIAN
METHOD:PUBLISH
X-WR-CALNAME:Cottage Home Neighborhood Indianapolis
X-ORIGINAL-URL:https://cottagehome.info
X-WR-CALDESC:Events for Cottage Home Neighborhood Indianapolis
REFRESH-INTERVAL;VALUE=DURATION:PT1H
X-Robots-Tag:noindex
X-PUBLISHED-TTL:PT1H
BEGIN:VTIMEZONE
TZID:America/Indiana/Indianapolis
BEGIN:DAYLIGHT
TZOFFSETFROM:-0500
TZOFFSETTO:-0400
TZNAME:EDT
DTSTART:20160313T070000
END:DAYLIGHT
BEGIN:STANDARD
TZOFFSETFROM:-0400
TZOFFSETTO:-0500
TZNAME:EST
DTSTART:20161106T060000
END:STANDARD
BEGIN:DAYLIGHT
TZOFFSETFROM:-0500
TZOFFSETTO:-0400
TZNAME:EDT
DTSTART:20170312T070000
END:DAYLIGHT
BEGIN:STANDARD
TZOFFSETFROM:-0400
TZOFFSETTO:-0500
TZNAME:EST
DTSTART:20171105T060000
END:STANDARD
BEGIN:DAYLIGHT
TZOFFSETFROM:-0500
TZOFFSETTO:-0400
TZNAME:EDT
DTSTART:20180311T070000
END:DAYLIGHT
BEGIN:STANDARD
TZOFFSETFROM:-0400
TZOFFSETTO:-0500
TZNAME:EST
DTSTART:20181104T060000
END:STANDARD
END:VTIMEZONE
BEGIN:VEVENT
DTSTART;TZID=America/Indiana/Indianapolis:20170423T130000
DTEND;TZID=America/Indiana/Indianapolis:20170423T150000
DTSTAMP:20260424T125018
CREATED:20170418T155421Z
LAST-MODIFIED:20170423T164125Z
UID:10009239-1492952400-1492959600@cottagehome.info
SUMMARY:Know Your Rights
DESCRIPTION:Immigration attorney Angela Adams will present information on the latest executive orders\, how to seek potential relief and how to respond to any emergency situations that might arise during this time of uncertainty.  Free and open to the public. \nPresentation will be made in English.
URL:https://cottagehome.info/event/know-your-rights/
LOCATION:HTCI Hindu Temple\, 3350 N German Church Rd\, Indianapolis\, IN\, 46235\, United States
CATEGORIES:Social Causes
ATTACH;FMTTYPE=image/jpeg:https://cottagehome.info/wp-content/uploads/2017/04/aa5900d8db5a024496dafa595295b43b.jpg
END:VEVENT
END:VCALENDAR