BEGIN:VCALENDAR
VERSION:2.0
PRODID:-//Cottage Home Neighborhood Indianapolis - ECPv6.15.20//NONSGML v1.0//EN
CALSCALE:GREGORIAN
METHOD:PUBLISH
X-ORIGINAL-URL:https://cottagehome.info
X-WR-CALDESC:Events for Cottage Home Neighborhood Indianapolis
REFRESH-INTERVAL;VALUE=DURATION:PT1H
X-Robots-Tag:noindex
X-PUBLISHED-TTL:PT1H
BEGIN:VTIMEZONE
TZID:America/Indiana/Indianapolis
BEGIN:DAYLIGHT
TZOFFSETFROM:-0500
TZOFFSETTO:-0400
TZNAME:EDT
DTSTART:20160313T070000
END:DAYLIGHT
BEGIN:STANDARD
TZOFFSETFROM:-0400
TZOFFSETTO:-0500
TZNAME:EST
DTSTART:20161106T060000
END:STANDARD
BEGIN:DAYLIGHT
TZOFFSETFROM:-0500
TZOFFSETTO:-0400
TZNAME:EDT
DTSTART:20170312T070000
END:DAYLIGHT
BEGIN:STANDARD
TZOFFSETFROM:-0400
TZOFFSETTO:-0500
TZNAME:EST
DTSTART:20171105T060000
END:STANDARD
BEGIN:DAYLIGHT
TZOFFSETFROM:-0500
TZOFFSETTO:-0400
TZNAME:EDT
DTSTART:20180311T070000
END:DAYLIGHT
BEGIN:STANDARD
TZOFFSETFROM:-0400
TZOFFSETTO:-0500
TZNAME:EST
DTSTART:20181104T060000
END:STANDARD
BEGIN:DAYLIGHT
TZOFFSETFROM:-0500
TZOFFSETTO:-0400
TZNAME:EDT
DTSTART:20190310T070000
END:DAYLIGHT
BEGIN:STANDARD
TZOFFSETFROM:-0400
TZOFFSETTO:-0500
TZNAME:EST
DTSTART:20191103T060000
END:STANDARD
END:VTIMEZONE
BEGIN:VEVENT
DTSTART;TZID=America/Indiana/Indianapolis:20180816T000000
DTEND;TZID=America/Indiana/Indianapolis:20180816T230000
DTSTAMP:20260424T050317
CREATED:20170417T022419Z
LAST-MODIFIED:20220920T184358Z
UID:10009117-1534377600-1534460400@cottagehome.info
SUMMARY:Heavy Trash Day (North of 9th St)
DESCRIPTION:http://maps.indy.gov/GovProfile/  \nHeavy Trash Collection \nHeavy trash is collected monthly. Find your designated heavy trash days by entering your address here.\nUp to two items of heavy trash will be collected each month.\nThe following items are acceptable for heavy trash:\nLarge Yard Waste- Tie limbs\, shrubbery cuttings\, etc. in bundles no larger than 3 feet by 3 feet. Each bundle counts as one heavy trash item.\nBags of trash and bags of leaves – Each bag counts as one heavy trash item.\nMattresses\nTires with Rims\nAppliances without Freon Gas: stoves\, water heaters and water softeners\nLawn Mowers (Drain of all fluids.)\nDisassembled Bicycles and Swing Sets\nTelevision Shells (Remove all tubing inside.)
URL:https://cottagehome.info/event/heavy-trash-day-north-of-9th-st-17/
LOCATION:Homes north of 9th St.
END:VEVENT
BEGIN:VEVENT
DTSTART;TZID=America/Indiana/Indianapolis:20180719T000000
DTEND;TZID=America/Indiana/Indianapolis:20180719T230000
DTSTAMP:20260424T050317
CREATED:20170417T022414Z
LAST-MODIFIED:20220920T184534Z
UID:10009108-1531958400-1532041200@cottagehome.info
SUMMARY:Heavy Trash Day (North of 9th St)
DESCRIPTION:http://maps.indy.gov/GovProfile/  \nHeavy Trash Collection \nHeavy trash is collected monthly. Find your designated heavy trash days by entering your address here.\nUp to two items of heavy trash will be collected each month.\nThe following items are acceptable for heavy trash:\nLarge Yard Waste- Tie limbs\, shrubbery cuttings\, etc. in bundles no larger than 3 feet by 3 feet. Each bundle counts as one heavy trash item.\nBags of trash and bags of leaves – Each bag counts as one heavy trash item.\nMattresses\nTires with Rims\nAppliances without Freon Gas: stoves\, water heaters and water softeners\nLawn Mowers (Drain of all fluids.)\nDisassembled Bicycles and Swing Sets\nTelevision Shells (Remove all tubing inside.)
URL:https://cottagehome.info/event/heavy-trash-day-north-of-9th-st-16/
LOCATION:Homes north of 9th St.
END:VEVENT
BEGIN:VEVENT
DTSTART;TZID=America/Indiana/Indianapolis:20180621T000000
DTEND;TZID=America/Indiana/Indianapolis:20180621T230000
DTSTAMP:20260424T050317
CREATED:20170417T022409Z
LAST-MODIFIED:20220920T215235Z
UID:10009100-1529539200-1529622000@cottagehome.info
SUMMARY:Heavy Trash Day (North of 9th St)
DESCRIPTION:http://maps.indy.gov/GovProfile/  \nHeavy Trash Collection \nHeavy trash is collected monthly. Find your designated heavy trash days by entering your address here.\nUp to two items of heavy trash will be collected each month.\nThe following items are acceptable for heavy trash:\nLarge Yard Waste- Tie limbs\, shrubbery cuttings\, etc. in bundles no larger than 3 feet by 3 feet. Each bundle counts as one heavy trash item.\nBags of trash and bags of leaves – Each bag counts as one heavy trash item.\nMattresses\nTires with Rims\nAppliances without Freon Gas: stoves\, water heaters and water softeners\nLawn Mowers (Drain of all fluids.)\nDisassembled Bicycles and Swing Sets\nTelevision Shells (Remove all tubing inside.)
URL:https://cottagehome.info/event/heavy-trash-day-north-of-9th-st-15/
LOCATION:Homes north of 9th St.
END:VEVENT
BEGIN:VEVENT
DTSTART;TZID=America/Indiana/Indianapolis:20180517T000000
DTEND;TZID=America/Indiana/Indianapolis:20180517T230000
DTSTAMP:20260424T050317
CREATED:20170417T022403Z
LAST-MODIFIED:20220920T215357Z
UID:10009089-1526515200-1526598000@cottagehome.info
SUMMARY:Heavy Trash Day (North of 9th St)
DESCRIPTION:http://maps.indy.gov/GovProfile/  \nHeavy Trash Collection \nHeavy trash is collected monthly. Find your designated heavy trash days by entering your address here.\nUp to two items of heavy trash will be collected each month.\nThe following items are acceptable for heavy trash:\nLarge Yard Waste- Tie limbs\, shrubbery cuttings\, etc. in bundles no larger than 3 feet by 3 feet. Each bundle counts as one heavy trash item.\nBags of trash and bags of leaves – Each bag counts as one heavy trash item.\nMattresses\nTires with Rims\nAppliances without Freon Gas: stoves\, water heaters and water softeners\nLawn Mowers (Drain of all fluids.)\nDisassembled Bicycles and Swing Sets\nTelevision Shells (Remove all tubing inside.)
URL:https://cottagehome.info/event/heavy-trash-day-north-of-9th-st-14/
LOCATION:Homes north of 9th St.
END:VEVENT
BEGIN:VEVENT
DTSTART;TZID=America/Indiana/Indianapolis:20180419T000000
DTEND;TZID=America/Indiana/Indianapolis:20180419T230000
DTSTAMP:20260424T050317
CREATED:20170417T022359Z
LAST-MODIFIED:20220920T215544Z
UID:10009081-1524096000-1524178800@cottagehome.info
SUMMARY:Heavy Trash Day (North of 9th St)
DESCRIPTION:http://maps.indy.gov/GovProfile/  \nHeavy Trash Collection \nHeavy trash is collected monthly. Find your designated heavy trash days by entering your address here.\nUp to two items of heavy trash will be collected each month.\nThe following items are acceptable for heavy trash:\nLarge Yard Waste- Tie limbs\, shrubbery cuttings\, etc. in bundles no larger than 3 feet by 3 feet. Each bundle counts as one heavy trash item.\nBags of trash and bags of leaves – Each bag counts as one heavy trash item.\nMattresses\nTires with Rims\nAppliances without Freon Gas: stoves\, water heaters and water softeners\nLawn Mowers (Drain of all fluids.)\nDisassembled Bicycles and Swing Sets\nTelevision Shells (Remove all tubing inside.)
URL:https://cottagehome.info/event/heavy-trash-day-north-of-9th-st-13/
LOCATION:Homes north of 9th St.
END:VEVENT
BEGIN:VEVENT
DTSTART;TZID=America/Indiana/Indianapolis:20180315T000000
DTEND;TZID=America/Indiana/Indianapolis:20180315T230000
DTSTAMP:20260424T050317
CREATED:20170417T022351Z
LAST-MODIFIED:20220920T215726Z
UID:10009070-1521072000-1521154800@cottagehome.info
SUMMARY:Heavy Trash Day (North of 9th St)
DESCRIPTION:http://maps.indy.gov/GovProfile/  \nHeavy Trash Collection \nHeavy trash is collected monthly. Find your designated heavy trash days by entering your address here.\nUp to two items of heavy trash will be collected each month.\nThe following items are acceptable for heavy trash:\nLarge Yard Waste- Tie limbs\, shrubbery cuttings\, etc. in bundles no larger than 3 feet by 3 feet. Each bundle counts as one heavy trash item.\nBags of trash and bags of leaves – Each bag counts as one heavy trash item.\nMattresses\nTires with Rims\nAppliances without Freon Gas: stoves\, water heaters and water softeners\nLawn Mowers (Drain of all fluids.)\nDisassembled Bicycles and Swing Sets\nTelevision Shells (Remove all tubing inside.)
URL:https://cottagehome.info/event/heavy-trash-day-north-of-9th-st-12/
LOCATION:Homes north of 9th St.
END:VEVENT
BEGIN:VEVENT
DTSTART;TZID=America/Indiana/Indianapolis:20180215T000000
DTEND;TZID=America/Indiana/Indianapolis:20180215T230000
DTSTAMP:20260424T050317
CREATED:20170417T022345Z
LAST-MODIFIED:20220921T015348Z
UID:10009061-1518652800-1518735600@cottagehome.info
SUMMARY:Heavy Trash Day (North of 9th St)
DESCRIPTION:http://maps.indy.gov/GovProfile/  \nHeavy Trash Collection \nHeavy trash is collected monthly. Find your designated heavy trash days by entering your address here.\nUp to two items of heavy trash will be collected each month.\nThe following items are acceptable for heavy trash:\nLarge Yard Waste- Tie limbs\, shrubbery cuttings\, etc. in bundles no larger than 3 feet by 3 feet. Each bundle counts as one heavy trash item.\nBags of trash and bags of leaves – Each bag counts as one heavy trash item.\nMattresses\nTires with Rims\nAppliances without Freon Gas: stoves\, water heaters and water softeners\nLawn Mowers (Drain of all fluids.)\nDisassembled Bicycles and Swing Sets\nTelevision Shells (Remove all tubing inside.)
URL:https://cottagehome.info/event/heavy-trash-day-north-of-9th-st-11/
LOCATION:Homes north of 9th St.
END:VEVENT
BEGIN:VEVENT
DTSTART;TZID=America/Indiana/Indianapolis:20180118T000000
DTEND;TZID=America/Indiana/Indianapolis:20180118T230000
DTSTAMP:20260424T050317
CREATED:20170417T022255Z
LAST-MODIFIED:20220921T015203Z
UID:10009051-1516233600-1516316400@cottagehome.info
SUMMARY:Heavy Trash Day (North of 9th St)
DESCRIPTION:http://maps.indy.gov/GovProfile/  \nHeavy Trash Collection \nHeavy trash is collected monthly. Find your designated heavy trash days by entering your address here.\nUp to two items of heavy trash will be collected each month.\nThe following items are acceptable for heavy trash:\nLarge Yard Waste- Tie limbs\, shrubbery cuttings\, etc. in bundles no larger than 3 feet by 3 feet. Each bundle counts as one heavy trash item.\nBags of trash and bags of leaves – Each bag counts as one heavy trash item.\nMattresses\nTires with Rims\nAppliances without Freon Gas: stoves\, water heaters and water softeners\nLawn Mowers (Drain of all fluids.)\nDisassembled Bicycles and Swing Sets\nTelevision Shells (Remove all tubing inside.)
URL:https://cottagehome.info/event/heavy-trash-day-north-of-9th-st-10/
LOCATION:Homes north of 9th St.
END:VEVENT
BEGIN:VEVENT
DTSTART;TZID=America/Indiana/Indianapolis:20171221T000000
DTEND;TZID=America/Indiana/Indianapolis:20171221T230000
DTSTAMP:20260424T050317
CREATED:20170417T020830Z
LAST-MODIFIED:20220921T015028Z
UID:10009042-1513814400-1513897200@cottagehome.info
SUMMARY:Heavy Trash Day (North of 9th St)
DESCRIPTION:http://maps.indy.gov/GovProfile/  \nHeavy Trash Collection \nHeavy trash is collected monthly. Find your designated heavy trash days by entering your address here.\nUp to two items of heavy trash will be collected each month.\nThe following items are acceptable for heavy trash:\nLarge Yard Waste- Tie limbs\, shrubbery cuttings\, etc. in bundles no larger than 3 feet by 3 feet. Each bundle counts as one heavy trash item.\nBags of trash and bags of leaves – Each bag counts as one heavy trash item.\nMattresses\nTires with Rims\nAppliances without Freon Gas: stoves\, water heaters and water softeners\nLawn Mowers (Drain of all fluids.)\nDisassembled Bicycles and Swing Sets\nTelevision Shells (Remove all tubing inside.)
URL:https://cottagehome.info/event/heavy-trash-day-north-of-9th-st-9/
LOCATION:Homes north of 9th St.
END:VEVENT
BEGIN:VEVENT
DTSTART;TZID=America/Indiana/Indianapolis:20171019T000000
DTEND;TZID=America/Indiana/Indianapolis:20171019T230000
DTSTAMP:20260424T050317
CREATED:20170417T004536Z
LAST-MODIFIED:20220921T014548Z
UID:10009020-1508371200-1508454000@cottagehome.info
SUMMARY:Heavy Trash Day (North of 9th St)
DESCRIPTION:http://maps.indy.gov/GovProfile/  \nHeavy Trash Collection \nHeavy trash is collected monthly. Find your designated heavy trash days by entering your address here.\nUp to two items of heavy trash will be collected each month.\nThe following items are acceptable for heavy trash:\nLarge Yard Waste- Tie limbs\, shrubbery cuttings\, etc. in bundles no larger than 3 feet by 3 feet. Each bundle counts as one heavy trash item.\nBags of trash and bags of leaves – Each bag counts as one heavy trash item.\nMattresses\nTires with Rims\nAppliances without Freon Gas: stoves\, water heaters and water softeners\nLawn Mowers (Drain of all fluids.)\nDisassembled Bicycles and Swing Sets\nTelevision Shells (Remove all tubing inside.)
URL:https://cottagehome.info/event/heavy-trash-day-north-of-9th-st-7/
LOCATION:Homes north of 9th St.
END:VEVENT
BEGIN:VEVENT
DTSTART;TZID=America/Indiana/Indianapolis:20170921T000000
DTEND;TZID=America/Indiana/Indianapolis:20170921T230000
DTSTAMP:20260424T050317
CREATED:20170417T003012Z
LAST-MODIFIED:20220921T015720Z
UID:10009007-1505952000-1506034800@cottagehome.info
SUMMARY:Heavy Trash Day (North of 9th St)
DESCRIPTION:http://maps.indy.gov/GovProfile/  \nHeavy Trash Collection \nHeavy trash is collected monthly. Find your designated heavy trash days by entering your address here.\nUp to two items of heavy trash will be collected each month.\nThe following items are acceptable for heavy trash:\nLarge Yard Waste- Tie limbs\, shrubbery cuttings\, etc. in bundles no larger than 3 feet by 3 feet. Each bundle counts as one heavy trash item.\nBags of trash and bags of leaves – Each bag counts as one heavy trash item.\nMattresses\nTires with Rims\nAppliances without Freon Gas: stoves\, water heaters and water softeners\nLawn Mowers (Drain of all fluids.)\nDisassembled Bicycles and Swing Sets\nTelevision Shells (Remove all tubing inside.)
URL:https://cottagehome.info/event/heavy-trash-day-north-of-9th-st-6/
LOCATION:Homes north of 9th St.
END:VEVENT
BEGIN:VEVENT
DTSTART;TZID=America/Indiana/Indianapolis:20170817T000000
DTEND;TZID=America/Indiana/Indianapolis:20170817T230000
DTSTAMP:20260424T050317
CREATED:20170417T001109Z
LAST-MODIFIED:20220921T020002Z
UID:10008997-1502928000-1503010800@cottagehome.info
SUMMARY:Heavy Trash Day (North of 9th St)
DESCRIPTION:http://maps.indy.gov/GovProfile/  \nHeavy Trash Collection \nHeavy trash is collected monthly. Find your designated heavy trash days by entering your address here.\nUp to two items of heavy trash will be collected each month.\nThe following items are acceptable for heavy trash:\nLarge Yard Waste- Tie limbs\, shrubbery cuttings\, etc. in bundles no larger than 3 feet by 3 feet. Each bundle counts as one heavy trash item.\nBags of trash and bags of leaves – Each bag counts as one heavy trash item.\nMattresses\nTires with Rims\nAppliances without Freon Gas: stoves\, water heaters and water softeners\nLawn Mowers (Drain of all fluids.)\nDisassembled Bicycles and Swing Sets\nTelevision Shells (Remove all tubing inside.)
URL:https://cottagehome.info/event/heavy-trash-day-north-of-9th-st-5/
LOCATION:Homes north of 9th St.
END:VEVENT
BEGIN:VEVENT
DTSTART;TZID=America/Indiana/Indianapolis:20170720T000000
DTEND;TZID=America/Indiana/Indianapolis:20170720T230000
DTSTAMP:20260424T050317
CREATED:20170417T001101Z
LAST-MODIFIED:20220921T020254Z
UID:10008984-1500508800-1500591600@cottagehome.info
SUMMARY:Heavy Trash Day (North of 9th St)
DESCRIPTION:http://maps.indy.gov/GovProfile/  \nHeavy Trash Collection \nHeavy trash is collected monthly. Find your designated heavy trash days by entering your address here.\nUp to two items of heavy trash will be collected each month.\nThe following items are acceptable for heavy trash:\nLarge Yard Waste- Tie limbs\, shrubbery cuttings\, etc. in bundles no larger than 3 feet by 3 feet. Each bundle counts as one heavy trash item.\nBags of trash and bags of leaves – Each bag counts as one heavy trash item.\nMattresses\nTires with Rims\nAppliances without Freon Gas: stoves\, water heaters and water softeners\nLawn Mowers (Drain of all fluids.)\nDisassembled Bicycles and Swing Sets\nTelevision Shells (Remove all tubing inside.)
URL:https://cottagehome.info/event/heavy-trash-day-north-of-9th-st-4/
LOCATION:Homes north of 9th St.
END:VEVENT
BEGIN:VEVENT
DTSTART;TZID=America/Indiana/Indianapolis:20170518T000000
DTEND;TZID=America/Indiana/Indianapolis:20170518T230000
DTSTAMP:20260424T050317
CREATED:20170417T001044Z
LAST-MODIFIED:20220921T020827Z
UID:10008956-1495065600-1495148400@cottagehome.info
SUMMARY:Heavy Trash Day (North of 9th St)
DESCRIPTION:https://maps.indy.gov/GovProfile/  \nHeavy Trash Collection \nHeavy trash is collected monthly. Find your designated heavy trash days by entering your address here.\nUp to two items of heavy trash will be collected each month.\nThe following items are acceptable for heavy trash:\nLarge Yard Waste- Tie limbs\, shrubbery cuttings\, etc. in bundles no larger than 3 feet by 3 feet. Each bundle counts as one heavy trash item.\nBags of trash and bags of leaves – Each bag counts as one heavy trash item.\nMattresses\nTires with Rims\nAppliances without Freon Gas: stoves\, water heaters and water softeners\nLawn Mowers (Drain of all fluids.)\nDisassembled Bicycles and Swing Sets\nTelevision Shells (Remove all tubing inside.)
URL:https://cottagehome.info/event/heavy-trash-day-north-of-9th-st-2/
LOCATION:Homes north of 9th St.
END:VEVENT
END:VCALENDAR