BEGIN:VCALENDAR
VERSION:2.0
PRODID:-//Cottage Home Neighborhood Indianapolis - ECPv6.15.20//NONSGML v1.0//EN
CALSCALE:GREGORIAN
METHOD:PUBLISH
X-ORIGINAL-URL:https://cottagehome.info
X-WR-CALDESC:Events for Cottage Home Neighborhood Indianapolis
REFRESH-INTERVAL;VALUE=DURATION:PT1H
X-Robots-Tag:noindex
X-PUBLISHED-TTL:PT1H
BEGIN:VTIMEZONE
TZID:America/Indiana/Indianapolis
BEGIN:DAYLIGHT
TZOFFSETFROM:-0500
TZOFFSETTO:-0400
TZNAME:EDT
DTSTART:20160313T070000
END:DAYLIGHT
BEGIN:STANDARD
TZOFFSETFROM:-0400
TZOFFSETTO:-0500
TZNAME:EST
DTSTART:20161106T060000
END:STANDARD
BEGIN:DAYLIGHT
TZOFFSETFROM:-0500
TZOFFSETTO:-0400
TZNAME:EDT
DTSTART:20170312T070000
END:DAYLIGHT
BEGIN:STANDARD
TZOFFSETFROM:-0400
TZOFFSETTO:-0500
TZNAME:EST
DTSTART:20171105T060000
END:STANDARD
BEGIN:DAYLIGHT
TZOFFSETFROM:-0500
TZOFFSETTO:-0400
TZNAME:EDT
DTSTART:20180311T070000
END:DAYLIGHT
BEGIN:STANDARD
TZOFFSETFROM:-0400
TZOFFSETTO:-0500
TZNAME:EST
DTSTART:20181104T060000
END:STANDARD
END:VTIMEZONE
BEGIN:VEVENT
DTSTART;TZID=America/Indiana/Indianapolis:20170430T143000
DTEND;TZID=America/Indiana/Indianapolis:20170430T153000
DTSTAMP:20260424T125322
CREATED:20170418T155424Z
LAST-MODIFIED:20170427T172241Z
UID:10009243-1493562600-1493566200@cottagehome.info
SUMMARY:Know Your Rights/Conoce Tus Derechos
DESCRIPTION:Immigration attorney Angela Adams will present information on the latest executive orders\, how to seek potential relief and how to respond to any emergency situations that might arise during this time of uncertainty.  Free and open to the public. \nAngela Adams presentara información sobre la recientes ordenes executivas\, encontrar opciones de ayuda y como prepararse para cualquier situación en estos tiempos inciertos.
URL:https://cottagehome.info/event/know-your-rightsconoce-tus-derechos/
LOCATION:Holy Spirit Catholic Church East Side\, 7243 East 10th Street\, Indianapolis\, IN\, 46219\, United States
CATEGORIES:Social Causes
ATTACH;FMTTYPE=image/jpeg:https://cottagehome.info/wp-content/uploads/2017/04/ee8615ef5b91b8d63933fadff1633cbf.jpg
END:VEVENT
END:VCALENDAR