BEGIN:VCALENDAR
VERSION:2.0
PRODID:-//Cottage Home Neighborhood Indianapolis - ECPv6.15.20//NONSGML v1.0//EN
CALSCALE:GREGORIAN
METHOD:PUBLISH
X-ORIGINAL-URL:https://cottagehome.info
X-WR-CALDESC:Events for Cottage Home Neighborhood Indianapolis
REFRESH-INTERVAL;VALUE=DURATION:PT1H
X-Robots-Tag:noindex
X-PUBLISHED-TTL:PT1H
BEGIN:VTIMEZONE
TZID:America/Indiana/Indianapolis
BEGIN:DAYLIGHT
TZOFFSETFROM:-0500
TZOFFSETTO:-0400
TZNAME:EDT
DTSTART:20160313T070000
END:DAYLIGHT
BEGIN:STANDARD
TZOFFSETFROM:-0400
TZOFFSETTO:-0500
TZNAME:EST
DTSTART:20161106T060000
END:STANDARD
BEGIN:DAYLIGHT
TZOFFSETFROM:-0500
TZOFFSETTO:-0400
TZNAME:EDT
DTSTART:20170312T070000
END:DAYLIGHT
BEGIN:STANDARD
TZOFFSETFROM:-0400
TZOFFSETTO:-0500
TZNAME:EST
DTSTART:20171105T060000
END:STANDARD
BEGIN:DAYLIGHT
TZOFFSETFROM:-0500
TZOFFSETTO:-0400
TZNAME:EDT
DTSTART:20180311T070000
END:DAYLIGHT
BEGIN:STANDARD
TZOFFSETFROM:-0400
TZOFFSETTO:-0500
TZNAME:EST
DTSTART:20181104T060000
END:STANDARD
END:VTIMEZONE
BEGIN:VEVENT
DTSTART;TZID=America/Indiana/Indianapolis:20170502T180000
DTEND;TZID=America/Indiana/Indianapolis:20170502T193000
DTSTAMP:20260424T124942
CREATED:20170426T170156Z
LAST-MODIFIED:20170427T172241Z
UID:10009389-1493748000-1493753400@cottagehome.info
SUMMARY:Conoce Tus Derechos
DESCRIPTION:La Clínica Legal Cristiana del Vecindario presentara información sobre la recientes ordenes executivas\, encontrar opciones de ayuda y como prepararse para cualquier situación en estos tiempos inciertos.
URL:https://cottagehome.info/event/conoce-tus-derechos/
LOCATION:Hawthorne Community Center\, 2440 W Ohio St\, Indianapolis\, IN\, 46222\, United States
CATEGORIES:Social Causes
ATTACH;FMTTYPE=image/jpeg:https://cottagehome.info/wp-content/uploads/2017/04/d1c564d64129de3f0fa58cad34752937.jpg
END:VEVENT
END:VCALENDAR