BEGIN:VCALENDAR
VERSION:2.0
PRODID:-//Cottage Home Neighborhood Indianapolis - ECPv6.15.20//NONSGML v1.0//EN
CALSCALE:GREGORIAN
METHOD:PUBLISH
X-ORIGINAL-URL:https://cottagehome.info
X-WR-CALDESC:Events for Cottage Home Neighborhood Indianapolis
REFRESH-INTERVAL;VALUE=DURATION:PT1H
X-Robots-Tag:noindex
X-PUBLISHED-TTL:PT1H
BEGIN:VTIMEZONE
TZID:America/Indiana/Indianapolis
BEGIN:DAYLIGHT
TZOFFSETFROM:-0500
TZOFFSETTO:-0400
TZNAME:EDT
DTSTART:20160313T070000
END:DAYLIGHT
BEGIN:STANDARD
TZOFFSETFROM:-0400
TZOFFSETTO:-0500
TZNAME:EST
DTSTART:20161106T060000
END:STANDARD
BEGIN:DAYLIGHT
TZOFFSETFROM:-0500
TZOFFSETTO:-0400
TZNAME:EDT
DTSTART:20170312T070000
END:DAYLIGHT
BEGIN:STANDARD
TZOFFSETFROM:-0400
TZOFFSETTO:-0500
TZNAME:EST
DTSTART:20171105T060000
END:STANDARD
BEGIN:DAYLIGHT
TZOFFSETFROM:-0500
TZOFFSETTO:-0400
TZNAME:EDT
DTSTART:20180311T070000
END:DAYLIGHT
BEGIN:STANDARD
TZOFFSETFROM:-0400
TZOFFSETTO:-0500
TZNAME:EST
DTSTART:20181104T060000
END:STANDARD
BEGIN:DAYLIGHT
TZOFFSETFROM:-0500
TZOFFSETTO:-0400
TZNAME:EDT
DTSTART:20190310T070000
END:DAYLIGHT
BEGIN:STANDARD
TZOFFSETFROM:-0400
TZOFFSETTO:-0500
TZNAME:EST
DTSTART:20191103T060000
END:STANDARD
BEGIN:DAYLIGHT
TZOFFSETFROM:-0500
TZOFFSETTO:-0400
TZNAME:EDT
DTSTART:20200308T070000
END:DAYLIGHT
BEGIN:STANDARD
TZOFFSETFROM:-0400
TZOFFSETTO:-0500
TZNAME:EST
DTSTART:20201101T060000
END:STANDARD
BEGIN:DAYLIGHT
TZOFFSETFROM:-0500
TZOFFSETTO:-0400
TZNAME:EDT
DTSTART:20210314T070000
END:DAYLIGHT
BEGIN:STANDARD
TZOFFSETFROM:-0400
TZOFFSETTO:-0500
TZNAME:EST
DTSTART:20211107T060000
END:STANDARD
BEGIN:DAYLIGHT
TZOFFSETFROM:-0500
TZOFFSETTO:-0400
TZNAME:EDT
DTSTART:20220313T070000
END:DAYLIGHT
BEGIN:STANDARD
TZOFFSETFROM:-0400
TZOFFSETTO:-0500
TZNAME:EST
DTSTART:20221106T060000
END:STANDARD
BEGIN:DAYLIGHT
TZOFFSETFROM:-0500
TZOFFSETTO:-0400
TZNAME:EDT
DTSTART:20230312T070000
END:DAYLIGHT
BEGIN:STANDARD
TZOFFSETFROM:-0400
TZOFFSETTO:-0500
TZNAME:EST
DTSTART:20231105T060000
END:STANDARD
BEGIN:DAYLIGHT
TZOFFSETFROM:-0500
TZOFFSETTO:-0400
TZNAME:EDT
DTSTART:20240310T070000
END:DAYLIGHT
BEGIN:STANDARD
TZOFFSETFROM:-0400
TZOFFSETTO:-0500
TZNAME:EST
DTSTART:20241103T060000
END:STANDARD
END:VTIMEZONE
BEGIN:VEVENT
DTSTART;TZID=America/Indiana/Indianapolis:20230521T160000
DTEND;TZID=America/Indiana/Indianapolis:20230521T180000
DTSTAMP:20260423T220258
CREATED:20230505T151156Z
LAST-MODIFIED:20230505T171118Z
UID:10009643-1684684800-1684692000@cottagehome.info
SUMMARY:Gather in the Greenspace
DESCRIPTION:Let’s gather to have a meal together and learn more about what’s going on in the neighborhood\, the various committees\, and have an opportunity for sharing ideas about ways to improve our community space! \n\n\n\n\n\n\n\nWhat to bring: \n\n\n\n\n\n\n\n– A dish with a serving utensil. \n\n\n\n– Your own reusable plates/utensils if you have ’em\, to cut down on trash! We’ll also have plates\, utensils\, napkins out from the picnic supplies in the shelter if anyone needs those. \n\n\n\n– We’ll have water and probably lemonade\, feel free to bring anything else you want to drink! \n\n\n\n– For seating we’ll have some seating with the picnic tables\, but if you have a camp chair for the folding tables feel free to bring one. \n\n\n\n\n\n\n\n \n\n\n\nFeel free to start discussion threads on FB (link below) with what you are planning to bring. \n\n\n\nhttps://www.facebook.com/events/1862090714170690 \n\n\n\n\n\n\n\n\n\n\n\n\n\n\n\nEvent Organizer\n\n\n\n\n\nEvent Venue
URL:https://cottagehome.info/event/gather-in-the-greenspace-3/
LOCATION:Community Space\, 714 N Highland Ave\, Indianapolis\, IN\, 46202\, United States
CATEGORIES:CoHo Neighborhood Events,Greenspace
ATTACH;FMTTYPE=image/jpeg:https://cottagehome.info/wp-content/uploads/2023/05/Social-Media-Post-Greenspace-Event-May-23-modified.jpg
END:VEVENT
BEGIN:VEVENT
DTSTART;TZID=America/Indiana/Indianapolis:20220623T193000
DTEND;TZID=America/Indiana/Indianapolis:20220623T210000
DTSTAMP:20260423T220258
CREATED:20220526T214829Z
LAST-MODIFIED:20221202T164349Z
UID:10009468-1656012600-1656018000@cottagehome.info
SUMMARY:Red Flag Comedy
DESCRIPTION:Join us for Red Flag Comedy\, the free outdoor comedy show. \n\n\n\nThe night’s headliner is Gwen Sunkel. Featuring Cottage Home Neighborhood’s own Shannon Samson\, with Terry Shepard\, Sarah Hemmersbach\, and Daryl Hollonquest Jr. \n\n\n\n \n\n\n\nHosted by Dustin Burkert
URL:https://cottagehome.info/event/red-flag-comedy/
LOCATION:Community Space\, 714 N Highland Ave\, Indianapolis\, IN\, 46202\, United States
CATEGORIES:CoHo Neighborhood Events
ATTACH;FMTTYPE=image/jpeg:https://cottagehome.info/wp-content/uploads/2022/05/red-flag-comedy.jpg
END:VEVENT
BEGIN:VEVENT
DTSTART;TZID=America/Indiana/Indianapolis:20211020T183000
DTEND;TZID=America/Indiana/Indianapolis:20211020T193000
DTSTAMP:20260423T220258
CREATED:20211018T214808Z
LAST-MODIFIED:20220524T195154Z
UID:10009464-1634754600-1634758200@cottagehome.info
SUMMARY:Rock E Bassoon Concert
DESCRIPTION:Enjoy the music of these awesome musicians right in our own neighborhood! \n\n\n\n\nRock E Bassoon is an electric rock band comprised of six bassoonists and a drummer. Rock E Bassoon performs classic rock and pop\, such as Led Zeppelin\, The Beatles\, The Rolling Stones\, Queen\, Metallica\, Michael Jackson and The Who. Rock E Bassoon’s musicians include three members of the Indianapolis Symphony Orchestra\, a professor of bassoon at the Butler University School of Music and professional free-lance bassoonists.  \n\n\n\n\n\n\n\n\n\n\nEvent Venue\n\n\n\n\n\n\n\n\n\n\n\n\n\nEvent Organizer\n\n\n\n\n\n\n\n\n\n\n\n\n\nEvent Price
URL:https://cottagehome.info/event/rock-e-bassoon-concert-event/
LOCATION:Community Space\, 714 N Highland Ave\, Indianapolis\, IN\, 46202\, United States
CATEGORIES:CoHo Neighborhood Events,Membership
ATTACH;FMTTYPE=image/jpeg:https://cottagehome.info/wp-content/uploads/2021/10/rock-e-basson2-e1634656247336.jpg
ORGANIZER;CN="Membership Committee":MAILTO:CHNAMembership@gmail.com
END:VEVENT
BEGIN:VEVENT
DTSTART;TZID=America/Indiana/Indianapolis:20210420T083000
DTEND;TZID=America/Indiana/Indianapolis:20210420T210000
DTSTAMP:20260423T220258
CREATED:20210420T165328Z
LAST-MODIFIED:20210420T165643Z
UID:10009456-1618907400-1618952400@cottagehome.info
SUMMARY:Private Community Space Rental -Star
DESCRIPTION:
URL:https://cottagehome.info/event/private-community-space-rental-star/
LOCATION:Community Space\, 714 N Highland Ave\, Indianapolis\, IN\, 46202\, United States
CATEGORIES:Rental
END:VEVENT
BEGIN:VEVENT
DTSTART;TZID=America/Indiana/Indianapolis:20190618T190000
DTEND;TZID=America/Indiana/Indianapolis:20190618T203000
DTSTAMP:20260423T220258
CREATED:20170711T130933Z
LAST-MODIFIED:20170711T130933Z
UID:10009450-1560884400-1560889800@cottagehome.info
SUMMARY:Greenspace Committee
DESCRIPTION:
URL:https://cottagehome.info/event/greenspace-committee-27/
LOCATION:Community Space\, 714 N Highland Ave\, Indianapolis\, IN\, 46202\, United States
END:VEVENT
BEGIN:VEVENT
DTSTART;TZID=America/Indiana/Indianapolis:20190521T190000
DTEND;TZID=America/Indiana/Indianapolis:20190521T203000
DTSTAMP:20260423T220258
CREATED:20170711T130924Z
LAST-MODIFIED:20170711T130924Z
UID:10009441-1558465200-1558470600@cottagehome.info
SUMMARY:Greenspace Committee
DESCRIPTION:
URL:https://cottagehome.info/event/greenspace-committee-26/
LOCATION:Community Space\, 714 N Highland Ave\, Indianapolis\, IN\, 46202\, United States
END:VEVENT
BEGIN:VEVENT
DTSTART;TZID=America/Indiana/Indianapolis:20190416T190000
DTEND;TZID=America/Indiana/Indianapolis:20190416T203000
DTSTAMP:20260423T220258
CREATED:20170417T022519Z
LAST-MODIFIED:20170711T130912Z
UID:10009191-1555441200-1555446600@cottagehome.info
SUMMARY:Greenspace Committee
DESCRIPTION:
URL:https://cottagehome.info/event/greenspace-committee-25/
LOCATION:Community Space\, 714 N Highland Ave\, Indianapolis\, IN\, 46202\, United States
END:VEVENT
BEGIN:VEVENT
DTSTART;TZID=America/Indiana/Indianapolis:20190319T190000
DTEND;TZID=America/Indiana/Indianapolis:20190319T203000
DTSTAMP:20260423T220258
CREATED:20170417T022514Z
LAST-MODIFIED:20170711T130904Z
UID:10009181-1553022000-1553027400@cottagehome.info
SUMMARY:Greenspace Committee
DESCRIPTION:
URL:https://cottagehome.info/event/greenspace-committee-24/
LOCATION:Community Space\, 714 N Highland Ave\, Indianapolis\, IN\, 46202\, United States
END:VEVENT
BEGIN:VEVENT
DTSTART;TZID=America/Indiana/Indianapolis:20190219T190000
DTEND;TZID=America/Indiana/Indianapolis:20190219T203000
DTSTAMP:20260423T220258
CREATED:20170417T022510Z
LAST-MODIFIED:20170711T130857Z
UID:10009173-1550602800-1550608200@cottagehome.info
SUMMARY:Greenspace Committee
DESCRIPTION:
URL:https://cottagehome.info/event/greenspace-committee-23/
LOCATION:Community Space\, 714 N Highland Ave\, Indianapolis\, IN\, 46202\, United States
END:VEVENT
BEGIN:VEVENT
DTSTART;TZID=America/Indiana/Indianapolis:20190115T190000
DTEND;TZID=America/Indiana/Indianapolis:20190115T203000
DTSTAMP:20260423T220258
CREATED:20170417T022503Z
LAST-MODIFIED:20170711T130843Z
UID:10009162-1547578800-1547584200@cottagehome.info
SUMMARY:Greenspace Committee
DESCRIPTION:
URL:https://cottagehome.info/event/greenspace-committee-22/
LOCATION:Community Space\, 714 N Highland Ave\, Indianapolis\, IN\, 46202\, United States
END:VEVENT
BEGIN:VEVENT
DTSTART;TZID=America/Indiana/Indianapolis:20181218T190000
DTEND;TZID=America/Indiana/Indianapolis:20181218T203000
DTSTAMP:20260423T220258
CREATED:20170417T022458Z
LAST-MODIFIED:20170711T130839Z
UID:10009154-1545159600-1545165000@cottagehome.info
SUMMARY:Greenspace Committee
DESCRIPTION:
URL:https://cottagehome.info/event/greenspace-committee-21/
LOCATION:Community Space\, 714 N Highland Ave\, Indianapolis\, IN\, 46202\, United States
END:VEVENT
BEGIN:VEVENT
DTSTART;TZID=America/Indiana/Indianapolis:20181120T190000
DTEND;TZID=America/Indiana/Indianapolis:20181120T203000
DTSTAMP:20260423T220258
CREATED:20170417T022445Z
LAST-MODIFIED:20170711T130827Z
UID:10009144-1542740400-1542745800@cottagehome.info
SUMMARY:Greenspace Committee
DESCRIPTION:
URL:https://cottagehome.info/event/greenspace-committee-20/
LOCATION:Community Space\, 714 N Highland Ave\, Indianapolis\, IN\, 46202\, United States
END:VEVENT
BEGIN:VEVENT
DTSTART;TZID=America/Indiana/Indianapolis:20181016T190000
DTEND;TZID=America/Indiana/Indianapolis:20181016T203000
DTSTAMP:20260423T220258
CREATED:20170417T022435Z
LAST-MODIFIED:20170711T130820Z
UID:10009135-1539716400-1539721800@cottagehome.info
SUMMARY:Greenspace Committee
DESCRIPTION:
URL:https://cottagehome.info/event/greenspace-committee-19/
LOCATION:Community Space\, 714 N Highland Ave\, Indianapolis\, IN\, 46202\, United States
END:VEVENT
BEGIN:VEVENT
DTSTART;TZID=America/Indiana/Indianapolis:20180918T190000
DTEND;TZID=America/Indiana/Indianapolis:20180918T203000
DTSTAMP:20260423T220258
CREATED:20170417T022424Z
LAST-MODIFIED:20170711T130807Z
UID:10009125-1537297200-1537302600@cottagehome.info
SUMMARY:Greenspace Committee
DESCRIPTION:
URL:https://cottagehome.info/event/greenspace-committee-18/
LOCATION:Community Space\, 714 N Highland Ave\, Indianapolis\, IN\, 46202\, United States
END:VEVENT
BEGIN:VEVENT
DTSTART;TZID=America/Indiana/Indianapolis:20180821T190000
DTEND;TZID=America/Indiana/Indianapolis:20180821T203000
DTSTAMP:20260423T220258
CREATED:20170417T022421Z
LAST-MODIFIED:20170711T130800Z
UID:10009118-1534878000-1534883400@cottagehome.info
SUMMARY:Greenspace Committee
DESCRIPTION:
URL:https://cottagehome.info/event/greenspace-committee-17/
LOCATION:Community Space\, 714 N Highland Ave\, Indianapolis\, IN\, 46202\, United States
END:VEVENT
BEGIN:VEVENT
DTSTART;TZID=America/Indiana/Indianapolis:20180717T190000
DTEND;TZID=America/Indiana/Indianapolis:20180717T203000
DTSTAMP:20260423T220258
CREATED:20170417T022414Z
LAST-MODIFIED:20170711T130747Z
UID:10009106-1531854000-1531859400@cottagehome.info
SUMMARY:Greenspace Committee
DESCRIPTION:
URL:https://cottagehome.info/event/greenspace-committee-16/
LOCATION:Community Space\, 714 N Highland Ave\, Indianapolis\, IN\, 46202\, United States
END:VEVENT
BEGIN:VEVENT
DTSTART;TZID=America/Indiana/Indianapolis:20180619T190000
DTEND;TZID=America/Indiana/Indianapolis:20180619T203000
DTSTAMP:20260423T220258
CREATED:20170417T022409Z
LAST-MODIFIED:20170711T130740Z
UID:10009098-1529434800-1529440200@cottagehome.info
SUMMARY:Greenspace Committee
DESCRIPTION:
URL:https://cottagehome.info/event/greenspace-committee-15/
LOCATION:Community Space\, 714 N Highland Ave\, Indianapolis\, IN\, 46202\, United States
END:VEVENT
BEGIN:VEVENT
DTSTART;TZID=America/Indiana/Indianapolis:20180515T190000
DTEND;TZID=America/Indiana/Indianapolis:20180515T203000
DTSTAMP:20260423T220258
CREATED:20170417T022401Z
LAST-MODIFIED:20170711T130727Z
UID:10009088-1526410800-1526416200@cottagehome.info
SUMMARY:Greenspace Committee
DESCRIPTION:
URL:https://cottagehome.info/event/greenspace-committee-14/
LOCATION:Community Space\, 714 N Highland Ave\, Indianapolis\, IN\, 46202\, United States
END:VEVENT
BEGIN:VEVENT
DTSTART;TZID=America/Indiana/Indianapolis:20180417T190000
DTEND;TZID=America/Indiana/Indianapolis:20180417T203000
DTSTAMP:20260423T220258
CREATED:20170417T022356Z
LAST-MODIFIED:20170711T130720Z
UID:10009080-1523991600-1523997000@cottagehome.info
SUMMARY:Greenspace Committee
DESCRIPTION:
URL:https://cottagehome.info/event/greenspace-committee-13/
LOCATION:Community Space\, 714 N Highland Ave\, Indianapolis\, IN\, 46202\, United States
END:VEVENT
BEGIN:VEVENT
DTSTART;TZID=America/Indiana/Indianapolis:20180320T190000
DTEND;TZID=America/Indiana/Indianapolis:20180320T203000
DTSTAMP:20260423T220258
CREATED:20170417T022351Z
LAST-MODIFIED:20170711T130712Z
UID:10009071-1521572400-1521577800@cottagehome.info
SUMMARY:Greenspace Committee
DESCRIPTION:
URL:https://cottagehome.info/event/greenspace-committee-12/
LOCATION:Community Space\, 714 N Highland Ave\, Indianapolis\, IN\, 46202\, United States
END:VEVENT
BEGIN:VEVENT
DTSTART;TZID=America/Indiana/Indianapolis:20180220T190000
DTEND;TZID=America/Indiana/Indianapolis:20180220T203000
DTSTAMP:20260423T220258
CREATED:20170417T022345Z
LAST-MODIFIED:20170711T130701Z
UID:10009062-1519153200-1519158600@cottagehome.info
SUMMARY:Greenspace Committee
DESCRIPTION:
URL:https://cottagehome.info/event/greenspace-committee-11/
LOCATION:Community Space\, 714 N Highland Ave\, Indianapolis\, IN\, 46202\, United States
END:VEVENT
BEGIN:VEVENT
DTSTART;TZID=America/Indiana/Indianapolis:20180116T190000
DTEND;TZID=America/Indiana/Indianapolis:20180116T203000
DTSTAMP:20260423T220258
CREATED:20170417T022255Z
LAST-MODIFIED:20170711T130648Z
UID:10009049-1516129200-1516134600@cottagehome.info
SUMMARY:Greenspace Committee
DESCRIPTION:
URL:https://cottagehome.info/event/greenspace-committee-10/
LOCATION:Community Space\, 714 N Highland Ave\, Indianapolis\, IN\, 46202\, United States
END:VEVENT
BEGIN:VEVENT
DTSTART;TZID=America/Indiana/Indianapolis:20171219T190000
DTEND;TZID=America/Indiana/Indianapolis:20171219T203000
DTSTAMP:20260423T220258
CREATED:20170417T020830Z
LAST-MODIFIED:20170711T130639Z
UID:10009040-1513710000-1513715400@cottagehome.info
SUMMARY:Greenspace Committee
DESCRIPTION:
URL:https://cottagehome.info/event/greenspace-committee-9/
LOCATION:Community Space\, 714 N Highland Ave\, Indianapolis\, IN\, 46202\, United States
END:VEVENT
BEGIN:VEVENT
DTSTART;TZID=America/Indiana/Indianapolis:20171121T190000
DTEND;TZID=America/Indiana/Indianapolis:20171121T203000
DTSTAMP:20260423T220258
CREATED:20170417T010012Z
LAST-MODIFIED:20170711T130628Z
UID:10009029-1511290800-1511296200@cottagehome.info
SUMMARY:Greenspace Committee
DESCRIPTION:
URL:https://cottagehome.info/event/greenspace-committee-8/
LOCATION:Community Space\, 714 N Highland Ave\, Indianapolis\, IN\, 46202\, United States
END:VEVENT
BEGIN:VEVENT
DTSTART;TZID=America/Indiana/Indianapolis:20171017T190000
DTEND;TZID=America/Indiana/Indianapolis:20171017T203000
DTSTAMP:20260423T220258
CREATED:20170417T004536Z
LAST-MODIFIED:20170711T130613Z
UID:10009019-1508266800-1508272200@cottagehome.info
SUMMARY:Greenspace Committee
DESCRIPTION:
URL:https://cottagehome.info/event/greenspace-committee-7/
LOCATION:Community Space\, 714 N Highland Ave\, Indianapolis\, IN\, 46202\, United States
END:VEVENT
BEGIN:VEVENT
DTSTART;TZID=America/Indiana/Indianapolis:20170919T190000
DTEND;TZID=America/Indiana/Indianapolis:20170919T203000
DTSTAMP:20260423T220258
CREATED:20170417T001540Z
LAST-MODIFIED:20170711T130303Z
UID:10009006-1505847600-1505853000@cottagehome.info
SUMMARY:Greenspace Committee
DESCRIPTION:
URL:https://cottagehome.info/event/greenspace-committee-6/
LOCATION:Community Space\, 714 N Highland Ave\, Indianapolis\, IN\, 46202\, United States
END:VEVENT
BEGIN:VEVENT
DTSTART;TZID=America/Indiana/Indianapolis:20170815T190000
DTEND;TZID=America/Indiana/Indianapolis:20170815T203000
DTSTAMP:20260423T220258
CREATED:20170417T001109Z
LAST-MODIFIED:20170711T130217Z
UID:10008995-1502823600-1502829000@cottagehome.info
SUMMARY:Greenspace Committee
DESCRIPTION:
URL:https://cottagehome.info/event/greenspace-committee-5/
LOCATION:Community Space\, 714 N Highland Ave\, Indianapolis\, IN\, 46202\, United States
END:VEVENT
BEGIN:VEVENT
DTSTART;TZID=America/Indiana/Indianapolis:20170718T190000
DTEND;TZID=America/Indiana/Indianapolis:20170718T203000
DTSTAMP:20260423T220258
CREATED:20170417T001100Z
LAST-MODIFIED:20170711T130201Z
UID:10008982-1500404400-1500409800@cottagehome.info
SUMMARY:Greenspace Committee
DESCRIPTION:
URL:https://cottagehome.info/event/greenspace-committee-4/
LOCATION:Community Space\, 714 N Highland Ave\, Indianapolis\, IN\, 46202\, United States
END:VEVENT
BEGIN:VEVENT
DTSTART;TZID=America/Indiana/Indianapolis:20170620T190000
DTEND;TZID=America/Indiana/Indianapolis:20170620T203000
DTSTAMP:20260423T220258
CREATED:20170417T001052Z
LAST-MODIFIED:20170520T070501Z
UID:10008972-1497985200-1497990600@cottagehome.info
SUMMARY:Greenspace Committee
DESCRIPTION:
URL:https://cottagehome.info/event/greenspace-committee-3/
LOCATION:Community Space\, 714 N Highland Ave\, Indianapolis\, IN\, 46202\, United States
END:VEVENT
BEGIN:VEVENT
DTSTART;TZID=America/Indiana/Indianapolis:20170516T190000
DTEND;TZID=America/Indiana/Indianapolis:20170516T203000
DTSTAMP:20260423T220258
CREATED:20170417T001041Z
LAST-MODIFIED:20170516T055614Z
UID:10008955-1494961200-1494966600@cottagehome.info
SUMMARY:Greenspace Committee
DESCRIPTION:
URL:https://cottagehome.info/event/greenspace-committee-2/
LOCATION:Community Space\, 714 N Highland Ave\, Indianapolis\, IN\, 46202\, United States
END:VEVENT
END:VCALENDAR