BEGIN:VCALENDAR
VERSION:2.0
PRODID:-//Cottage Home Neighborhood Indianapolis - ECPv6.15.20//NONSGML v1.0//EN
CALSCALE:GREGORIAN
METHOD:PUBLISH
X-WR-CALNAME:Cottage Home Neighborhood Indianapolis
X-ORIGINAL-URL:https://cottagehome.info
X-WR-CALDESC:Events for Cottage Home Neighborhood Indianapolis
REFRESH-INTERVAL;VALUE=DURATION:PT1H
X-Robots-Tag:noindex
X-PUBLISHED-TTL:PT1H
BEGIN:VTIMEZONE
TZID:America/Indiana/Indianapolis
BEGIN:DAYLIGHT
TZOFFSETFROM:-0500
TZOFFSETTO:-0400
TZNAME:EDT
DTSTART:20160313T070000
END:DAYLIGHT
BEGIN:STANDARD
TZOFFSETFROM:-0400
TZOFFSETTO:-0500
TZNAME:EST
DTSTART:20161106T060000
END:STANDARD
BEGIN:DAYLIGHT
TZOFFSETFROM:-0500
TZOFFSETTO:-0400
TZNAME:EDT
DTSTART:20170312T070000
END:DAYLIGHT
BEGIN:STANDARD
TZOFFSETFROM:-0400
TZOFFSETTO:-0500
TZNAME:EST
DTSTART:20171105T060000
END:STANDARD
BEGIN:DAYLIGHT
TZOFFSETFROM:-0500
TZOFFSETTO:-0400
TZNAME:EDT
DTSTART:20180311T070000
END:DAYLIGHT
BEGIN:STANDARD
TZOFFSETFROM:-0400
TZOFFSETTO:-0500
TZNAME:EST
DTSTART:20181104T060000
END:STANDARD
END:VTIMEZONE
BEGIN:VEVENT
DTSTART;TZID=America/Indiana/Indianapolis:20170504T183000
DTEND;TZID=America/Indiana/Indianapolis:20170504T203000
DTSTAMP:20260424T144232
CREATED:20170418T020934Z
LAST-MODIFIED:20220921T021526Z
UID:10009260-1493922600-1493929800@cottagehome.info
SUMMARY:Ukulele Strum Along/Jam & Open Mic
DESCRIPTION:The first EVER ukulele strum along and open Mic night at Centerpoint Brewery. The first half we will do a strum along (packet coming soon) second half will be open mic. Hoping for a good turn out…so just say “yes” you’re coming…it will be great. All levels welcome and wanted. Extra ukulele will be on hand to borrow. All instruments welcome for open Mic! 🙂 \nhttps://www.facebook.com/events/1207185416047208/
URL:https://cottagehome.info/event/ukulele-strum-alongjam-open-mic/
LOCATION:Centerpoint Brewing Company\, 1125 E. Brookside Ave\, Suite B2\, Indianapolis\, IN 46202\, USA
END:VEVENT
END:VCALENDAR