BEGIN:VCALENDAR
VERSION:2.0
PRODID:-//Cottage Home Neighborhood Indianapolis - ECPv6.15.20//NONSGML v1.0//EN
CALSCALE:GREGORIAN
METHOD:PUBLISH
X-WR-CALNAME:Cottage Home Neighborhood Indianapolis
X-ORIGINAL-URL:https://cottagehome.info
X-WR-CALDESC:Events for Cottage Home Neighborhood Indianapolis
REFRESH-INTERVAL;VALUE=DURATION:PT1H
X-Robots-Tag:noindex
X-PUBLISHED-TTL:PT1H
BEGIN:VTIMEZONE
TZID:America/Indiana/Indianapolis
BEGIN:DAYLIGHT
TZOFFSETFROM:-0500
TZOFFSETTO:-0400
TZNAME:EDT
DTSTART:20160313T070000
END:DAYLIGHT
BEGIN:STANDARD
TZOFFSETFROM:-0400
TZOFFSETTO:-0500
TZNAME:EST
DTSTART:20161106T060000
END:STANDARD
BEGIN:DAYLIGHT
TZOFFSETFROM:-0500
TZOFFSETTO:-0400
TZNAME:EDT
DTSTART:20170312T070000
END:DAYLIGHT
BEGIN:STANDARD
TZOFFSETFROM:-0400
TZOFFSETTO:-0500
TZNAME:EST
DTSTART:20171105T060000
END:STANDARD
BEGIN:DAYLIGHT
TZOFFSETFROM:-0500
TZOFFSETTO:-0400
TZNAME:EDT
DTSTART:20180311T070000
END:DAYLIGHT
BEGIN:STANDARD
TZOFFSETFROM:-0400
TZOFFSETTO:-0500
TZNAME:EST
DTSTART:20181104T060000
END:STANDARD
END:VTIMEZONE
BEGIN:VEVENT
DTSTART;TZID=America/Indiana/Indianapolis:20170807T183000
DTEND;TZID=America/Indiana/Indianapolis:20170807T200000
DTSTAMP:20260424T124025
CREATED:20170417T001106Z
LAST-MODIFIED:20170520T074803Z
UID:10008991-1502130600-1502136000@cottagehome.info
SUMMARY:General Membership Meeting
DESCRIPTION:
URL:https://cottagehome.info/event/general-membership-meeting-2/
LOCATION:Centerpoint Brewing Company\, 1125 E. Brookside Ave\, Suite B2\, Indianapolis\, IN 46202\, United States
END:VEVENT
BEGIN:VEVENT
DTSTART;TZID=America/Indiana/Indianapolis:20170605T183000
DTEND;TZID=America/Indiana/Indianapolis:20170605T200000
DTSTAMP:20260424T124025
CREATED:20170417T001049Z
LAST-MODIFIED:20170520T064603Z
UID:10008965-1496687400-1496692800@cottagehome.info
SUMMARY:General Membership Meeting
DESCRIPTION:
URL:https://cottagehome.info/event/general-membership-meeting/
LOCATION:Centerpoint Brewing Company\, 1125 E. Brookside Ave\, Suite B2\, Indianapolis\, IN 46202\, United States
END:VEVENT
END:VCALENDAR