BEGIN:VCALENDAR
VERSION:2.0
PRODID:-//Cottage Home Neighborhood Indianapolis - ECPv6.15.20//NONSGML v1.0//EN
CALSCALE:GREGORIAN
METHOD:PUBLISH
X-WR-CALNAME:Cottage Home Neighborhood Indianapolis
X-ORIGINAL-URL:https://cottagehome.info
X-WR-CALDESC:Events for Cottage Home Neighborhood Indianapolis
REFRESH-INTERVAL;VALUE=DURATION:PT1H
X-Robots-Tag:noindex
X-PUBLISHED-TTL:PT1H
BEGIN:VTIMEZONE
TZID:America/Indiana/Indianapolis
BEGIN:DAYLIGHT
TZOFFSETFROM:-0500
TZOFFSETTO:-0400
TZNAME:EDT
DTSTART:20160313T070000
END:DAYLIGHT
BEGIN:STANDARD
TZOFFSETFROM:-0400
TZOFFSETTO:-0500
TZNAME:EST
DTSTART:20161106T060000
END:STANDARD
BEGIN:DAYLIGHT
TZOFFSETFROM:-0500
TZOFFSETTO:-0400
TZNAME:EDT
DTSTART:20170312T070000
END:DAYLIGHT
BEGIN:STANDARD
TZOFFSETFROM:-0400
TZOFFSETTO:-0500
TZNAME:EST
DTSTART:20171105T060000
END:STANDARD
BEGIN:DAYLIGHT
TZOFFSETFROM:-0500
TZOFFSETTO:-0400
TZNAME:EDT
DTSTART:20180311T070000
END:DAYLIGHT
BEGIN:STANDARD
TZOFFSETFROM:-0400
TZOFFSETTO:-0500
TZNAME:EST
DTSTART:20181104T060000
END:STANDARD
BEGIN:DAYLIGHT
TZOFFSETFROM:-0500
TZOFFSETTO:-0400
TZNAME:EDT
DTSTART:20190310T070000
END:DAYLIGHT
BEGIN:STANDARD
TZOFFSETFROM:-0400
TZOFFSETTO:-0500
TZNAME:EST
DTSTART:20191103T060000
END:STANDARD
BEGIN:DAYLIGHT
TZOFFSETFROM:-0500
TZOFFSETTO:-0400
TZNAME:EDT
DTSTART:20200308T070000
END:DAYLIGHT
BEGIN:STANDARD
TZOFFSETFROM:-0400
TZOFFSETTO:-0500
TZNAME:EST
DTSTART:20201101T060000
END:STANDARD
END:VTIMEZONE
BEGIN:VEVENT
DTSTART;TZID=America/Indiana/Indianapolis:20190401T183000
DTEND;TZID=America/Indiana/Indianapolis:20190401T200000
DTSTAMP:20260424T103618
CREATED:20170417T022517Z
LAST-MODIFIED:20170520T141518Z
UID:10009187-1554143400-1554148800@cottagehome.info
SUMMARY:General Membership Meeting
DESCRIPTION:
URL:https://cottagehome.info/event/general-membership-meeting-12/
LOCATION:Centerpoint Brewing Company\, 1125 E. Brookside Ave\, Suite B2\, Indianapolis\, IN 46202\, United States
END:VEVENT
BEGIN:VEVENT
DTSTART;TZID=America/Indiana/Indianapolis:20190204T183000
DTEND;TZID=America/Indiana/Indianapolis:20190204T200000
DTSTAMP:20260424T103618
CREATED:20170417T022507Z
LAST-MODIFIED:20170520T135311Z
UID:10009169-1549305000-1549310400@cottagehome.info
SUMMARY:General Membership Meeting
DESCRIPTION:
URL:https://cottagehome.info/event/general-membership-meeting-11/
LOCATION:Centerpoint Brewing Company\, 1125 E. Brookside Ave\, Suite B2\, Indianapolis\, IN 46202\, United States
END:VEVENT
BEGIN:VEVENT
DTSTART;TZID=America/Indiana/Indianapolis:20181203T183000
DTEND;TZID=America/Indiana/Indianapolis:20181203T200000
DTSTAMP:20260424T103618
CREATED:20170417T022454Z
LAST-MODIFIED:20170520T132611Z
UID:10009150-1543861800-1543867200@cottagehome.info
SUMMARY:General Membership Meeting
DESCRIPTION:
URL:https://cottagehome.info/event/general-membership-meeting-10/
LOCATION:Centerpoint Brewing Company\, 1125 E. Brookside Ave\, Suite B2\, Indianapolis\, IN 46202\, United States
END:VEVENT
BEGIN:VEVENT
DTSTART;TZID=America/Indiana/Indianapolis:20181001T183000
DTEND;TZID=America/Indiana/Indianapolis:20181001T200000
DTSTAMP:20260424T103618
CREATED:20170417T022433Z
LAST-MODIFIED:20170520T123327Z
UID:10009131-1538418600-1538424000@cottagehome.info
SUMMARY:General Membership Meeting
DESCRIPTION:
URL:https://cottagehome.info/event/general-membership-meeting-9/
LOCATION:Centerpoint Brewing Company\, 1125 E. Brookside Ave\, Suite B2\, Indianapolis\, IN 46202\, United States
END:VEVENT
BEGIN:VEVENT
DTSTART;TZID=America/Indiana/Indianapolis:20180806T183000
DTEND;TZID=America/Indiana/Indianapolis:20180806T200000
DTSTAMP:20260424T103618
CREATED:20170417T022419Z
LAST-MODIFIED:20170520T120016Z
UID:10009114-1533580200-1533585600@cottagehome.info
SUMMARY:General Membership Meeting
DESCRIPTION:
URL:https://cottagehome.info/event/general-membership-meeting-8/
LOCATION:Centerpoint Brewing Company\, 1125 E. Brookside Ave\, Suite B2\, Indianapolis\, IN 46202\, United States
END:VEVENT
BEGIN:VEVENT
DTSTART;TZID=America/Indiana/Indianapolis:20180604T183000
DTEND;TZID=America/Indiana/Indianapolis:20180604T200000
DTSTAMP:20260424T103618
CREATED:20170417T022406Z
LAST-MODIFIED:20170520T113918Z
UID:10009094-1528137000-1528142400@cottagehome.info
SUMMARY:General Membership Meeting
DESCRIPTION:
URL:https://cottagehome.info/event/general-membership-meeting-7/
LOCATION:Centerpoint Brewing Company\, 1125 E. Brookside Ave\, Suite B2\, Indianapolis\, IN 46202\, United States
END:VEVENT
BEGIN:VEVENT
DTSTART;TZID=America/Indiana/Indianapolis:20180402T183000
DTEND;TZID=America/Indiana/Indianapolis:20180402T200000
DTSTAMP:20260424T103618
CREATED:20170417T022353Z
LAST-MODIFIED:20170520T105014Z
UID:10009076-1522693800-1522699200@cottagehome.info
SUMMARY:General Membership Meeting
DESCRIPTION:
URL:https://cottagehome.info/event/general-membership-meeting-6/
LOCATION:Centerpoint Brewing Company\, 1125 E. Brookside Ave\, Suite B2\, Indianapolis\, IN 46202\, United States
END:VEVENT
BEGIN:VEVENT
DTSTART;TZID=America/Indiana/Indianapolis:20180205T183000
DTEND;TZID=America/Indiana/Indianapolis:20180205T200000
DTSTAMP:20260424T103618
CREATED:20170417T022342Z
LAST-MODIFIED:20170520T102050Z
UID:10009058-1517855400-1517860800@cottagehome.info
SUMMARY:General Membership Meeting
DESCRIPTION:
URL:https://cottagehome.info/event/general-membership-meeting-5/
LOCATION:Centerpoint Brewing Company\, 1125 E. Brookside Ave\, Suite B2\, Indianapolis\, IN 46202\, United States
END:VEVENT
BEGIN:VEVENT
DTSTART;TZID=America/Indiana/Indianapolis:20171204T183000
DTEND;TZID=America/Indiana/Indianapolis:20171204T200000
DTSTAMP:20260424T103618
CREATED:20170417T011933Z
LAST-MODIFIED:20170520T093044Z
UID:10009036-1512412200-1512417600@cottagehome.info
SUMMARY:General Membership Meeting
DESCRIPTION:
URL:https://cottagehome.info/event/general-membership-meeting-4/
LOCATION:Centerpoint Brewing Company\, 1125 E. Brookside Ave\, Suite B2\, Indianapolis\, IN 46202\, United States
END:VEVENT
BEGIN:VEVENT
DTSTART;TZID=America/Indiana/Indianapolis:20171002T183000
DTEND;TZID=America/Indiana/Indianapolis:20171002T200000
DTSTAMP:20260424T103618
CREATED:20170417T003012Z
LAST-MODIFIED:20170520T084622Z
UID:10009013-1506969000-1506974400@cottagehome.info
SUMMARY:General Membership Meeting
DESCRIPTION:
URL:https://cottagehome.info/event/general-membership-meeting-3/
LOCATION:Centerpoint Brewing Company\, 1125 E. Brookside Ave\, Suite B2\, Indianapolis\, IN 46202\, United States
END:VEVENT
BEGIN:VEVENT
DTSTART;TZID=America/Indiana/Indianapolis:20170807T183000
DTEND;TZID=America/Indiana/Indianapolis:20170807T200000
DTSTAMP:20260424T103618
CREATED:20170417T001106Z
LAST-MODIFIED:20170520T074803Z
UID:10008991-1502130600-1502136000@cottagehome.info
SUMMARY:General Membership Meeting
DESCRIPTION:
URL:https://cottagehome.info/event/general-membership-meeting-2/
LOCATION:Centerpoint Brewing Company\, 1125 E. Brookside Ave\, Suite B2\, Indianapolis\, IN 46202\, United States
END:VEVENT
BEGIN:VEVENT
DTSTART;TZID=America/Indiana/Indianapolis:20170605T183000
DTEND;TZID=America/Indiana/Indianapolis:20170605T200000
DTSTAMP:20260424T103618
CREATED:20170417T001049Z
LAST-MODIFIED:20170520T064603Z
UID:10008965-1496687400-1496692800@cottagehome.info
SUMMARY:General Membership Meeting
DESCRIPTION:
URL:https://cottagehome.info/event/general-membership-meeting/
LOCATION:Centerpoint Brewing Company\, 1125 E. Brookside Ave\, Suite B2\, Indianapolis\, IN 46202\, United States
END:VEVENT
END:VCALENDAR