BEGIN:VCALENDAR
VERSION:2.0
PRODID:-//Cottage Home Neighborhood Indianapolis - ECPv6.15.20//NONSGML v1.0//EN
CALSCALE:GREGORIAN
METHOD:PUBLISH
X-ORIGINAL-URL:https://cottagehome.info
X-WR-CALDESC:Events for Cottage Home Neighborhood Indianapolis
REFRESH-INTERVAL;VALUE=DURATION:PT1H
X-Robots-Tag:noindex
X-PUBLISHED-TTL:PT1H
BEGIN:VTIMEZONE
TZID:America/Indiana/Indianapolis
BEGIN:DAYLIGHT
TZOFFSETFROM:-0500
TZOFFSETTO:-0400
TZNAME:EDT
DTSTART:20160313T070000
END:DAYLIGHT
BEGIN:STANDARD
TZOFFSETFROM:-0400
TZOFFSETTO:-0500
TZNAME:EST
DTSTART:20161106T060000
END:STANDARD
BEGIN:DAYLIGHT
TZOFFSETFROM:-0500
TZOFFSETTO:-0400
TZNAME:EDT
DTSTART:20170312T070000
END:DAYLIGHT
BEGIN:STANDARD
TZOFFSETFROM:-0400
TZOFFSETTO:-0500
TZNAME:EST
DTSTART:20171105T060000
END:STANDARD
BEGIN:DAYLIGHT
TZOFFSETFROM:-0500
TZOFFSETTO:-0400
TZNAME:EDT
DTSTART:20180311T070000
END:DAYLIGHT
BEGIN:STANDARD
TZOFFSETFROM:-0400
TZOFFSETTO:-0500
TZNAME:EST
DTSTART:20181104T060000
END:STANDARD
END:VTIMEZONE
BEGIN:VEVENT
DTSTART;TZID=America/Indiana/Indianapolis:20170422T100000
DTEND;TZID=America/Indiana/Indianapolis:20170422T110000
DTSTAMP:20260424T073502
CREATED:20170418T160541Z
LAST-MODIFIED:20170422T162035Z
UID:10009293-1492855200-1492858800@cottagehome.info
SUMMARY:$5 Pick-A-Mug Fundraiser for Exodus Refugee
DESCRIPTION:$5 gets you a mug of your choosing (coffee included) from my grandfather’s coffee mug collection. Proceeds will benefit Exodus Refugee. Confused? Open event for more info.
URL:https://cottagehome.info/event/5-pick-a-mug-fundraiser-for-exodus-refugee/
LOCATION:Calvin Fletcher’s Coffee Company\, 647 Virginia Ave\, Indianapolis\, IN\, 46203\, United States
CATEGORIES:Social Causes
ATTACH;FMTTYPE=image/jpeg:https://cottagehome.info/wp-content/uploads/2017/04/0f260fbaf3c32696b6b285bd38e8197a.jpg
END:VEVENT
END:VCALENDAR