BEGIN:VCALENDAR
VERSION:2.0
PRODID:-//Cottage Home Neighborhood Indianapolis - ECPv6.15.20//NONSGML v1.0//EN
CALSCALE:GREGORIAN
METHOD:PUBLISH
X-ORIGINAL-URL:https://cottagehome.info
X-WR-CALDESC:Events for Cottage Home Neighborhood Indianapolis
REFRESH-INTERVAL;VALUE=DURATION:PT1H
X-Robots-Tag:noindex
X-PUBLISHED-TTL:PT1H
BEGIN:VTIMEZONE
TZID:America/Indiana/Indianapolis
BEGIN:DAYLIGHT
TZOFFSETFROM:-0500
TZOFFSETTO:-0400
TZNAME:EDT
DTSTART:20160313T070000
END:DAYLIGHT
BEGIN:STANDARD
TZOFFSETFROM:-0400
TZOFFSETTO:-0500
TZNAME:EST
DTSTART:20161106T060000
END:STANDARD
BEGIN:DAYLIGHT
TZOFFSETFROM:-0500
TZOFFSETTO:-0400
TZNAME:EDT
DTSTART:20170312T070000
END:DAYLIGHT
BEGIN:STANDARD
TZOFFSETFROM:-0400
TZOFFSETTO:-0500
TZNAME:EST
DTSTART:20171105T060000
END:STANDARD
BEGIN:DAYLIGHT
TZOFFSETFROM:-0500
TZOFFSETTO:-0400
TZNAME:EDT
DTSTART:20180311T070000
END:DAYLIGHT
BEGIN:STANDARD
TZOFFSETFROM:-0400
TZOFFSETTO:-0500
TZNAME:EST
DTSTART:20181104T060000
END:STANDARD
END:VTIMEZONE
BEGIN:VEVENT
DTSTART;TZID=America/Indiana/Indianapolis:20170424T173000
DTEND;TZID=America/Indiana/Indianapolis:20170424T203000
DTSTAMP:20260424T160402
CREATED:20170417T131907Z
LAST-MODIFIED:20170424T135252Z
UID:10009234-1493055000-1493065800@cottagehome.info
SUMMARY:Indy Food Cooperative Board of Directors April Meeting
DESCRIPTION:The Indy Food Cooperative Board of Directors meets on the 4th Monday of every month to discuss the business of the co-op and Pogue’s Run Grocer.
URL:https://cottagehome.info/event/indy-food-cooperative-board-of-directors-april-meeting/
LOCATION:Boner Fitness & Learning Center\, 727 N Oriental St\, Indianapolis\, IN\, 46202\, United States
CATEGORIES:Local Business Events
ATTACH;FMTTYPE=image/jpeg:https://cottagehome.info/wp-content/uploads/2017/04/20d1db2f0cd8abe7a616def81df3d3d4.jpg
END:VEVENT
END:VCALENDAR