BEGIN:VCALENDAR
VERSION:2.0
PRODID:-//Cottage Home Neighborhood Indianapolis - ECPv6.15.20//NONSGML v1.0//EN
CALSCALE:GREGORIAN
METHOD:PUBLISH
X-ORIGINAL-URL:https://cottagehome.info
X-WR-CALDESC:Events for Cottage Home Neighborhood Indianapolis
REFRESH-INTERVAL;VALUE=DURATION:PT1H
X-Robots-Tag:noindex
X-PUBLISHED-TTL:PT1H
BEGIN:VTIMEZONE
TZID:America/Indiana/Indianapolis
BEGIN:DAYLIGHT
TZOFFSETFROM:-0500
TZOFFSETTO:-0400
TZNAME:EDT
DTSTART:20200308T070000
END:DAYLIGHT
BEGIN:STANDARD
TZOFFSETFROM:-0400
TZOFFSETTO:-0500
TZNAME:EST
DTSTART:20201101T060000
END:STANDARD
BEGIN:DAYLIGHT
TZOFFSETFROM:-0500
TZOFFSETTO:-0400
TZNAME:EDT
DTSTART:20210314T070000
END:DAYLIGHT
BEGIN:STANDARD
TZOFFSETFROM:-0400
TZOFFSETTO:-0500
TZNAME:EST
DTSTART:20211107T060000
END:STANDARD
BEGIN:DAYLIGHT
TZOFFSETFROM:-0500
TZOFFSETTO:-0400
TZNAME:EDT
DTSTART:20220313T070000
END:DAYLIGHT
BEGIN:STANDARD
TZOFFSETFROM:-0400
TZOFFSETTO:-0500
TZNAME:EST
DTSTART:20221106T060000
END:STANDARD
END:VTIMEZONE
BEGIN:VEVENT
DTSTART;TZID=America/Indiana/Indianapolis:20210824T170000
DTEND;TZID=America/Indiana/Indianapolis:20210824T215000
DTSTAMP:20260423T195434
CREATED:20210803T202321Z
LAST-MODIFIED:20210824T152744Z
UID:10009439-1629824400-1629841800@cottagehome.info
SUMMARY:Cottage Home Night at Ash & Elm
DESCRIPTION:Come join your Cottage Home neighbors for dinner at Ash & Elm’s new restaurant on Washington Street. 10% of all purchases from 5pm to close will be donated to the Cottage Home Neighborhood Association! \n\n\n\n \n\n\n\n\n\n\n\nEvent Venue
URL:https://cottagehome.info/event/cottage-home-night-at-ash-elm/
LOCATION:Ash & Elm Restaurant\, 1301 E. WASHINGTON ST.\, Indianapolis\, 46202\, United States
CATEGORIES:CoHo Neighbor Businesses,Local Business Events
ATTACH;FMTTYPE=image/jpeg:https://cottagehome.info/wp-content/uploads/2021/08/Cottage-Home-Nigh-at-Ash-Elm-August-24th-5pm-Close-10-of-procceeds-going-back-to-the-neighborhood.-e1629817961261-1-e1629818846651.jpg
END:VEVENT
END:VCALENDAR