BEGIN:VCALENDAR
VERSION:2.0
PRODID:-//Cottage Home Neighborhood Indianapolis - ECPv6.15.20//NONSGML v1.0//EN
CALSCALE:GREGORIAN
METHOD:PUBLISH
X-ORIGINAL-URL:https://cottagehome.info
X-WR-CALDESC:Events for Cottage Home Neighborhood Indianapolis
REFRESH-INTERVAL;VALUE=DURATION:PT1H
X-Robots-Tag:noindex
X-PUBLISHED-TTL:PT1H
BEGIN:VTIMEZONE
TZID:America/Indiana/Indianapolis
BEGIN:DAYLIGHT
TZOFFSETFROM:-0500
TZOFFSETTO:-0400
TZNAME:EDT
DTSTART:20160313T070000
END:DAYLIGHT
BEGIN:STANDARD
TZOFFSETFROM:-0400
TZOFFSETTO:-0500
TZNAME:EST
DTSTART:20161106T060000
END:STANDARD
BEGIN:DAYLIGHT
TZOFFSETFROM:-0500
TZOFFSETTO:-0400
TZNAME:EDT
DTSTART:20170312T070000
END:DAYLIGHT
BEGIN:STANDARD
TZOFFSETFROM:-0400
TZOFFSETTO:-0500
TZNAME:EST
DTSTART:20171105T060000
END:STANDARD
BEGIN:DAYLIGHT
TZOFFSETFROM:-0500
TZOFFSETTO:-0400
TZNAME:EDT
DTSTART:20180311T070000
END:DAYLIGHT
BEGIN:STANDARD
TZOFFSETFROM:-0400
TZOFFSETTO:-0500
TZNAME:EST
DTSTART:20181104T060000
END:STANDARD
END:VTIMEZONE
BEGIN:VEVENT
DTSTART;TZID=America/Indiana/Indianapolis:20170523T160000
DTEND;TZID=America/Indiana/Indianapolis:20170523T230000
DTSTAMP:20260424T102002
CREATED:20170425T140321Z
LAST-MODIFIED:20170427T141206Z
UID:10009378-1495555200-1495580400@cottagehome.info
SUMMARY:Mad Anthony Takeover & Q'Bert Competition
DESCRIPTION:Our buds from the great Fort Wayne\, Indiana are coming down to showcase thier time tested brew! These’s guys have been doing it for well over 15 years! What better to pair it with than another all time classic\, Q*Bert! Come out\, put up a high score and get some t-shirts and other swag! \nBeer Line-Up (2 more TBD)\nBlood and Bullets (Blood Orange IPA)\nHopsquatch (Mosaic Hoped IPA)\nRuby Raspberry (Fruited Wheat)\nAuburn Lager (Gold Medal Winning Amber Lager)
URL:https://cottagehome.info/event/mad-anthony-takeover-qbert-competition/
LOCATION:Tappers Arcade Bar\, 501 Virginia Ave\, Indianapolis\, IN\, 46203\, United States
CATEGORIES:Local Business Events
END:VEVENT
BEGIN:VEVENT
DTSTART;TZID=America/Indiana/Indianapolis:20170518T190000
DTEND;TZID=America/Indiana/Indianapolis:20170518T230000
DTSTAMP:20260424T102002
CREATED:20170418T130035Z
LAST-MODIFIED:20170427T141206Z
UID:10009272-1495134000-1495148400@cottagehome.info
SUMMARY:Tappers Cosplay Party!
DESCRIPTION:Come check out our cosplay party and contest! Don’t have a cosplay? No worries! Come and see all of the great cosplay\, drink beer\, and play some arcade games! \nOur hostess Annebelle will be our judge for the cosplay contest and will be dishing out sweet prizes! \nThe contest will start at 9:00pm! Here are the categories we have so far: \n– Best Cosplay\n– Best Video Game Cosplay\n– Best Superhero Cosplay\n– Best Couples Cosplay\n– Funniest Cosplay\n– Most Original Cosplay \nPrizes TBA!
URL:https://cottagehome.info/event/tappers-cosplay-party/
LOCATION:Tappers Arcade Bar\, 501 Virginia Ave\, Indianapolis\, IN\, 46203\, United States
CATEGORIES:Local Business Events
ATTACH;FMTTYPE=image/jpeg:https://cottagehome.info/wp-content/uploads/2017/04/1ec29dfdf9cb1cc2dba080f5d6f0ad8b.jpg
END:VEVENT
BEGIN:VEVENT
DTSTART;TZID=America/Indiana/Indianapolis:20170510T190000
DTEND;TZID=America/Indiana/Indianapolis:20170510T213000
DTSTAMP:20260424T102002
CREATED:20170417T122334Z
LAST-MODIFIED:20170427T140930Z
UID:10009206-1494442800-1494451800@cottagehome.info
SUMMARY:Guardians of the Galaxy Trivia
DESCRIPTION:Tickets for this event will go on sale Friday\, April 28th at 1PM here:\nhttps://guardiansofthegalaxy.eventbrite.com \nHey all you extraterrestrial misfits! \nWith the release of Guardians of the Galaxy Vol. 2 right around the corner let’s see what you’ve got on Volume 1\, and we’re not talking about a dance off bro… but if one happens it happens. \nYou can pull a Ronan and try to conquer this infinity stone on your own\, but there is strength in numbers. So grab the hands of your friends\, and see if you have what it takes! \nTeams from 1-4 people will battle their way to claim treasure beyond Yondu’s wildest dreams. \nGet your reserved seating tickets now! The more reserved teams we have\, the greater the treasures will be. Once tickets are sold out\, walk-in standing room only teams are still welcome at $3 per person the day of the event. \nThe contents of the trivia will solely be based on the film itself. \nCOME AND GET YOUR LOVE!!!
URL:https://cottagehome.info/event/guardians-of-the-galaxy-trivia/
LOCATION:Tappers Arcade Bar\, 501 Virginia Ave\, Indianapolis\, IN\, 46203\, United States
CATEGORIES:Local Business Events
ATTACH;FMTTYPE=image/jpeg:https://cottagehome.info/wp-content/uploads/2017/04/905d0e3220e816a380badbfbe440ce44.jpg
END:VEVENT
BEGIN:VEVENT
DTSTART;TZID=America/Indiana/Indianapolis:20170507T180000
DTEND;TZID=America/Indiana/Indianapolis:20170507T220000
DTSTAMP:20260424T102002
CREATED:20170420T124931Z
LAST-MODIFIED:20170427T140930Z
UID:10009366-1494180000-1494194400@cottagehome.info
SUMMARY:Spring Pinball Tournament
DESCRIPTION:The PinVault\, Tappers and Fountain Square Brewing are teaming up to throw a Pinball Tournament this May!  \nWe’ll be bringing in extra machines but we will have these machines to play: \nBad Cats\nBreakshot\nDiner\nElvira and the Party Monsters\nThe Machine: Bride of Pinbot\n…and more TBD \n$5 entry fee the day of\, winner takes the pot!  \nCome in and practice before the tourney to hone your skills!
URL:https://cottagehome.info/event/spring-pinball-tournament/
LOCATION:Tappers Arcade Bar\, 501 Virginia Ave\, Indianapolis\, IN\, 46203\, United States
CATEGORIES:Local Business Events
ATTACH;FMTTYPE=image/jpeg:https://cottagehome.info/wp-content/uploads/2017/04/f4cb3a3ba1bb0412aa804a2cde793257.jpg
END:VEVENT
BEGIN:VEVENT
DTSTART;TZID=America/Indiana/Indianapolis:20170504T160000
DTEND;TZID=America/Indiana/Indianapolis:20170504T230000
DTSTAMP:20260424T102002
CREATED:20170426T141553Z
LAST-MODIFIED:20170427T140930Z
UID:10009385-1493913600-1493938800@cottagehome.info
SUMMARY:May The Fourth Be With You
DESCRIPTION:We’re awakening the Force on the 4th! \nMicrosoft Store The Fashion Mall at Keystone is bringing down 6 Star Wars Battlefront stations on XBox Ones! Come check it out! \nDo you hate JarJar? Take out that rage on hundreds of innocent Gungans! \nCosmic Chrome Cafe will be here serving up delicious Southwest Style Comfort Food in their awesome sci-fi themed food truck from outer space! \nWe’ll also be having our first ever Don’t Let the Wookie Win competition at 8PM! We’ll be seeing who can do the best Wookie impersonation by round of applause. The best ‘bear / lion / badger’ sound could win cool stuff from Microsoft Store The Fashion Mall at Keystone! \nWe’ll have some space beers too! Watto else ya gonna do?
URL:https://cottagehome.info/event/may-the-fourth-be-with-you/
LOCATION:Tappers Arcade Bar\, 501 Virginia Ave\, Indianapolis\, IN\, 46203\, United States
CATEGORIES:Local Business Events
ATTACH;FMTTYPE=image/jpeg:https://cottagehome.info/wp-content/uploads/2017/04/f75177f93255c7978bf6c909ee3483a3.jpg
END:VEVENT
BEGIN:VEVENT
DTSTART;TZID=America/Indiana/Indianapolis:20170503T190000
DTEND;TZID=America/Indiana/Indianapolis:20170503T213000
DTSTAMP:20260424T102002
CREATED:20170417T122333Z
LAST-MODIFIED:20170427T140930Z
UID:10009205-1493838000-1493847000@cottagehome.info
SUMMARY:Star Wars Trivia
DESCRIPTION:TICKETS FOR SEATS ARE SOLD OUT! BUUUT\, standing walk-ins are $3 each on the day of the event! See you then!! \nIt’s not a Trap! Come fly casual with us but don’t get cocky kid! \nMay Fourth\, National Star Wars Day is coming up and we’re going to kick off the night before with Star Wars Trivia! Last time we just covered the original trilogy\, this time\, all 7 Episodes of Star Wars movies are fair game! \nDo you have midichlorian flowing through your veins? Come prove it! Use can use the force\, but not your phones. \nRemember\, do or do not\, there is no try!
URL:https://cottagehome.info/event/star-wars-trivia/
LOCATION:Tappers Arcade Bar\, 501 Virginia Ave\, Indianapolis\, IN\, 46203\, United States
CATEGORIES:Local Business Events
ATTACH;FMTTYPE=image/jpeg:https://cottagehome.info/wp-content/uploads/2017/04/3abc4ffda3728c3884c33a09fa516140.jpg
END:VEVENT
BEGIN:VEVENT
DTSTART;TZID=America/Indiana/Indianapolis:20170430T160000
DTEND;TZID=America/Indiana/Indianapolis:20170430T213000
DTSTAMP:20260424T102002
CREATED:20170427T140928Z
LAST-MODIFIED:20170427T140928Z
UID:10009401-1493568000-1493587800@cottagehome.info
SUMMARY:Smash Bros. Tournament
DESCRIPTION:Tappers is having a Smash Bros. Wii U Tournament!!! April 30th at 6:30PM! Casuals will start at 4PM. \nHere’s the rules:\n1. BE RESPECTFUL: This is fun and should be a great tournament. Let’s make sure we all have a great time and practice our best e-sportsmanship!! \n2. FINISH THE FIGHT: Rage quit\, and you’ll forfeit any winnings you might have won. \n3. BRING YOUR OWN CONTROLLER: If you have agreed to share a controller with someone that’s great\, but everyone is expected to bring their own. PLEASE COME PREPARED \n4. CONSIDER BUYING A BEER: We’re excited to have you win the fight night! But we win when we sell some brews. If you don’t drink beer\, that’s cool\, try a fountain soda or root beer. \nSIGN UPS START AT 5:30PM. $10 ENTRY.\nTOURNAMENT EXPECTED TO START AT 6:30PM \nIf you can bring a setup please let Adrian Bledsoe know via messenger. \nSetup Includes: Lagless Monitor\, Wii U\, Smash Bros. Wii U game
URL:https://cottagehome.info/event/smash-bros-tournament/
LOCATION:Tappers Arcade Bar\, 501 Virginia Ave\, Indianapolis\, IN\, 46203\, United States
CATEGORIES:Local Business Events
ATTACH;FMTTYPE=image/jpeg:https://cottagehome.info/wp-content/uploads/2017/04/15e877972a2f5784a72cbe6f9115e32c.jpg
END:VEVENT
BEGIN:VEVENT
DTSTART;TZID=America/Indiana/Indianapolis:20170426T190000
DTEND;TZID=America/Indiana/Indianapolis:20170426T213000
DTSTAMP:20260424T102002
CREATED:20170417T122326Z
LAST-MODIFIED:20170426T141553Z
UID:10009204-1493233200-1493242200@cottagehome.info
SUMMARY:Bob's Burgers Trivia
DESCRIPTION:Tickets for this event will go on sale Friday\, April 14th at 1PM here:\nbbtrivia.eventbrite.com \nCalling all Duderuses and Smart\, Strong\, Sensual Women! \nDo you think you’ve got what it takes to be the Burger Boss? Be ready for questions like “Is it possible to be in love with 25 people at once?” Don’t Louise out on getting tickets ’cause they’ll sell faster than the Burger of the Day! \nBoxBurger will also be serving up tasty Angus Beef Burgers and Sweet Potato Fries so bring your appetite along with your knowledge! \nSee you there!
URL:https://cottagehome.info/event/bobs-burgers-trivia/
LOCATION:Tappers Arcade Bar\, 501 Virginia Ave\, Indianapolis\, IN\, 46203\, United States
CATEGORIES:Local Business Events
ATTACH;FMTTYPE=image/jpeg:https://cottagehome.info/wp-content/uploads/2017/04/1efd397d414c7a7a462c2c26994c2de3.jpg
END:VEVENT
BEGIN:VEVENT
DTSTART;TZID=America/Indiana/Indianapolis:20170420T160000
DTEND;TZID=America/Indiana/Indianapolis:20170420T235900
DTSTAMP:20260424T102002
CREATED:20170417T122325Z
LAST-MODIFIED:20170420T124931Z
UID:10009203-1492704000-1492732740@cottagehome.info
SUMMARY:Space Party with Cosmic Chrome Cafe
DESCRIPTION:The Cosmic Chrome Cafe will be stopping by Tappers on April 20th for our “Space” Party! \nApollo 16 landed on the moon on April 20th\, marking the penultimate man lands on the moon event to happen in human history (so far)! \nHelp us celebrate all that “NASA did” with us and drink “space” beers and eat a bunch of awesome local diner food with the most spaced out food truck in this galaxy\, The Cosmic Chrome Cafe! \nBring your friends\, your appetite and your desire “to make spaceships go pew pew pew!” Its just a few small steps for you to have one giant leap of a good time! 😉 \nQuotation marks added “at random” for “fun.”
URL:https://cottagehome.info/event/space-party-with-cosmic-chrome-cafe/
LOCATION:Tappers Arcade Bar\, 501 Virginia Ave\, Indianapolis\, IN\, 46203\, United States
CATEGORIES:Local Business Events
ATTACH;FMTTYPE=image/jpeg:https://cottagehome.info/wp-content/uploads/2017/04/38dfa2c74afa01b3b8cca9375f84678f.jpg
END:VEVENT
BEGIN:VEVENT
DTSTART;TZID=America/Indiana/Indianapolis:20170419T190000
DTEND;TZID=America/Indiana/Indianapolis:20170419T213000
DTSTAMP:20260424T102002
CREATED:20170417T122324Z
LAST-MODIFIED:20170419T123412Z
UID:10009201-1492628400-1492637400@cottagehome.info
SUMMARY:Simpsons Trivia - April Edition
DESCRIPTION:Tickets for this event will go on sale Friday\, April 7th at 1PM here:\nwoohooapril.eventbrite.com/ \nAre you the S-M-R-T-est Simpsons trivia buff in Indianapolis? Prove it! Every month on the 3rd Wednesday\, we will get together to test your Simpsons knowledge and watch your favorite episodes.\nAll questions will come from seasons 1-10. \nWe’ll have Simpsons themed prizes for the top teams. Each competitor will receive D’ohnut holes from Jack’s Donuts!\nIf the event sells out before you get tickets\, we will accept walk-ins! $3/person and you can pay at the bar when you arrive on trivia night. \nWe’ll have two rounds of questions (20 per round – 10 general & 10 themed) along with the Super Final Question sponsored by Canyonero. \nTwo episodes being shown this month:\n– “Homer at the Bat” (Season 3)\n– “Itchy & Scratchy Land” (Season 6)
URL:https://cottagehome.info/event/simpsons-trivia-april-edition/
LOCATION:Tappers Arcade Bar\, 501 Virginia Ave\, Indianapolis\, IN\, 46203\, United States
CATEGORIES:Local Business Events
ATTACH;FMTTYPE=image/jpeg:https://cottagehome.info/wp-content/uploads/2017/04/a936fd7162b195adfa21c94371a93067.jpg
END:VEVENT
BEGIN:VEVENT
DTSTART;TZID=America/Indiana/Indianapolis:20170419T190000
DTEND;TZID=America/Indiana/Indianapolis:20170419T213000
DTSTAMP:20260424T102002
CREATED:20170417T122324Z
LAST-MODIFIED:20170419T123413Z
UID:10009202-1492628400-1492637400@cottagehome.info
SUMMARY:Simpsons Trivia - April Edition
DESCRIPTION:Tickets for this event will go on sale Friday\, April 7th at 1PM here:\nhttp://woohooapril.eventbrite.com/ \nAre you the S-M-R-T-est Simpsons trivia buff in Indianapolis? Prove it! Every month on the 3rd Wednesday\, we will get together to test your Simpsons knowledge and watch your favorite episodes. \nAll questions will come from seasons 1-10. \nWe’ll have Simpsons themed prizes for the top teams. Each competitor will receive D’ohnut holes from Jack’s Donuts! \nIf the event sells out before you get tickets\, we will accept walk-ins! $3/person and you can pay at the bar when you arrive on trivia night. \nWe’ll have two rounds of questions (20 per round – 10 general & 10 themed) along with the Super Final Question sponsored by Canyonero. \nTwo episodes being shown this month:\n– “Homer at the Bat” (Season 3)\n– “Itchy & Scratchy Land” (Season 6)
URL:https://cottagehome.info/event/simpsons-trivia-april-edition-2/
LOCATION:Tappers Arcade Bar\, 501 Virginia Ave\, Indianapolis\, IN\, 46203\, United States
CATEGORIES:Local Business Events
ATTACH;FMTTYPE=image/jpeg:https://cottagehome.info/wp-content/uploads/2017/04/505781d24c57386ceb52533c3dfae191.jpg
END:VEVENT
BEGIN:VEVENT
DTSTART;TZID=America/Indiana/Indianapolis:20170418T160000
DTEND;TZID=America/Indiana/Indianapolis:20170418T235900
DTSTAMP:20260424T102002
CREATED:20170417T122323Z
LAST-MODIFIED:20220920T200614Z
UID:10009200-1492531200-1492559940@cottagehome.info
SUMMARY:Taxman Tax Day Takeover
DESCRIPTION:Ready to put the last fiscal year behind you\, but not sure what to do to celebrate? We’ve got something… come celebrate Tax Day with a well crafted Taxman Brewing Company beer! You may indulge in this fine selection: \nApropos – Apricot Saison\nBoysenberry Spin-Off – Dry-Hopped Sour Saison\nBourbon Barreled Deduction (2016) – B.B. Belgian Dubbel\nBourbon Barreled Hop Collector – B.B. Belgian IPA\nTax Saison – Saison/Farmhouse\nGold Standard – Abbey Blonde\nWit-Held – Belgian Wit
URL:https://cottagehome.info/event/taxman-tax-day-takeover/
LOCATION:Tappers Arcade Bar\, 501 Virginia Ave\, Indianapolis\, IN\, 46203\, United States
CATEGORIES:Local Business Events
ATTACH;FMTTYPE=image/jpeg:https://cottagehome.info/wp-content/uploads/2017/04/8614cde45f5782084a6248aa682cb4fb.jpg
END:VEVENT
END:VCALENDAR