BEGIN:VCALENDAR
VERSION:2.0
PRODID:-//Cottage Home Neighborhood Indianapolis - ECPv6.15.20//NONSGML v1.0//EN
CALSCALE:GREGORIAN
METHOD:PUBLISH
X-WR-CALNAME:Cottage Home Neighborhood Indianapolis
X-ORIGINAL-URL:https://cottagehome.info
X-WR-CALDESC:Events for Cottage Home Neighborhood Indianapolis
REFRESH-INTERVAL;VALUE=DURATION:PT1H
X-Robots-Tag:noindex
X-PUBLISHED-TTL:PT1H
BEGIN:VTIMEZONE
TZID:America/Indiana/Indianapolis
BEGIN:DAYLIGHT
TZOFFSETFROM:-0500
TZOFFSETTO:-0400
TZNAME:EDT
DTSTART:20160313T070000
END:DAYLIGHT
BEGIN:STANDARD
TZOFFSETFROM:-0400
TZOFFSETTO:-0500
TZNAME:EST
DTSTART:20161106T060000
END:STANDARD
BEGIN:DAYLIGHT
TZOFFSETFROM:-0500
TZOFFSETTO:-0400
TZNAME:EDT
DTSTART:20170312T070000
END:DAYLIGHT
BEGIN:STANDARD
TZOFFSETFROM:-0400
TZOFFSETTO:-0500
TZNAME:EST
DTSTART:20171105T060000
END:STANDARD
BEGIN:DAYLIGHT
TZOFFSETFROM:-0500
TZOFFSETTO:-0400
TZNAME:EDT
DTSTART:20180311T070000
END:DAYLIGHT
BEGIN:STANDARD
TZOFFSETFROM:-0400
TZOFFSETTO:-0500
TZNAME:EST
DTSTART:20181104T060000
END:STANDARD
END:VTIMEZONE
BEGIN:VEVENT
DTSTART;TZID=America/Indiana/Indianapolis:20170430T110000
DTEND;TZID=America/Indiana/Indianapolis:20170430T150000
DTSTAMP:20260424T125018
CREATED:20170418T161250Z
LAST-MODIFIED:20170427T173628Z
UID:10009279-1493550000-1493564400@cottagehome.info
SUMMARY:Gomez BBQ Square Cat 3 Course Brunch FEAT. Luke Knight
DESCRIPTION:We’re introducing a very special ticketed brunch opportunity at Square Cat Vinyl. For $40\, you get a 3 course brunch from Gomez BBQ along with a special Fountain Square Brewery Square Cat Baltic Porter with coffee and cherries or mimosas. There will be a seating at 11 AM and 2 PM. Their will also be live music provided by Luke Knight. The three courses include: \n– Smoked Scotch Egg with Garlic Sage Aioli\n– Pulled Pork and Waffle with Bourbon Maple Syrup\n– Chocolate Panna Cotta with Cherries\n– Fountain Square Brewery Square Cat Baltic Porter with Coffee and Cherries\nor Mimosas Included
URL:https://cottagehome.info/event/gomez-bbq-square-cat-3-course-brunch-feat-luke-knight/
LOCATION:Square Cat Vinyl\, 1054 Virginia Avenue\, Indianapolis\, IN\, 46203\, United States
CATEGORIES:Local Business Events
ATTACH;FMTTYPE=image/jpeg:https://cottagehome.info/wp-content/uploads/2017/04/7e03c870ddc42f90617034c9d100eed8.jpg
END:VEVENT
BEGIN:VEVENT
DTSTART;TZID=America/Indiana/Indianapolis:20170429T190000
DTEND;TZID=America/Indiana/Indianapolis:20170429T220000
DTSTAMP:20260424T125018
CREATED:20170418T161249Z
LAST-MODIFIED:20170427T173628Z
UID:10009277-1493492400-1493503200@cottagehome.info
SUMMARY:SOLD OUT - Bigfoot Yancey Album Release NIGHT 2 w/ Rainwater & Luke Knight
DESCRIPTION:2nd night added due to sellout! \nThe time has finally come for these Voltron-esque city-billies to join together and complete the release of their much delayed album\, and crawl out from under their city rocks to perform with their best friends in a place that they built with their own hands. This all age’s gig will be intimate\, dark\, sweaty and the stage may suffer irreparable damage from stomping. \nJoin your favorite lovable heathen friends as they take to the stage with some of their best friends\, Luke Knight & RAINWATER\, some of the Midwest’s finest rising songwriters. \nApril 28th 2017\nDoors at 7pm\nLuke Knight – 8pm\nRAINWATER (Kenan Rainwater band) – 9pm\nBigfoot Yancey – 10pm \nThe brand new full length CD will be available as well as other merchandise.  \nVinyl’s will still be on Pre Order. \nLimited Tickets available for this intimate performance.
URL:https://cottagehome.info/event/bigfoot-yancey-album-release-night-2-w-rainwater-luke-knight/
LOCATION:Square Cat Vinyl\, 1054 Virginia Avenue\, Indianapolis\, IN\, 46203\, United States
CATEGORIES:Local Business Events
ATTACH;FMTTYPE=image/jpeg:https://cottagehome.info/wp-content/uploads/2017/04/09c3dbc3a96a86ff3cc581b1c38fcae8.jpg
END:VEVENT
BEGIN:VEVENT
DTSTART;TZID=America/Indiana/Indianapolis:20170428T190000
DTEND;TZID=America/Indiana/Indianapolis:20170428T230000
DTSTAMP:20260424T125018
CREATED:20170418T161248Z
LAST-MODIFIED:20170427T173628Z
UID:10009275-1493406000-1493420400@cottagehome.info
SUMMARY:SOLD OUT - Bigfoot Yancey Album Release w/ Luke Knight & Jeff Kelly
DESCRIPTION:The time has finally come for these Voltron-esque city-billies to join together and complete the release of their much delayed album\, and crawl out from under their city rocks to perform with their best friends in a place that they built with their own hands. This all age’s gig will be intimate\, dark\, sweaty and the stage may suffer irreparable damage from stomping. \nJoin your favorite loveable heathen friends as they take to the stage with some of their best friends\, Luke Knight & Jeff Kelly\, some of the Midwest’s finest rising songwriters. \nApril 28th 2017\nDoors at 7pm\nLuke Knight – 8pm\nJeff Kelly and the Graveyard Shift – 9pm\nBigfoot Yancey – 10pm \nThe brand new full length CD will be available as well as other merchandise.  \nVinyl’s will still be on Pre Order. \nLimited Tickets available for this intimate performance.\nTickets go on sale March 6th at 11am.
URL:https://cottagehome.info/event/sold-out-bigfoot-yancey-album-release-w-luke-knight-jeff-kelly/
LOCATION:Square Cat Vinyl\, 1054 Virginia Avenue\, Indianapolis\, IN\, 46203\, United States
CATEGORIES:Local Business Events
ATTACH;FMTTYPE=image/jpeg:https://cottagehome.info/wp-content/uploads/2017/04/9daad79ef4eb64c4aa6de3334fd17e07.jpg
END:VEVENT
BEGIN:VEVENT
DTSTART;TZID=America/Indiana/Indianapolis:20170427T190000
DTEND;TZID=America/Indiana/Indianapolis:20170427T220000
DTSTAMP:20260424T125018
CREATED:20170418T161241Z
LAST-MODIFIED:20170427T173627Z
UID:10009315-1493319600-1493330400@cottagehome.info
SUMMARY:Frances Luke Accord w/ Chris Wilson
DESCRIPTION:$5 Advance / $7 Door \nFrances Luke Accord are an independent Chicago-based duo hailing originally from South Bend\, Indiana. Both dedicated multi-instrumentalists and meticulous songwriters\, Nicholas Gunty and Brian Powers distinguish their music with genre fluidity\, buttery harmonies and acoustic ensembles. Although prevailingly a modern folk band\, FLA sip copious inspiration from Americana\, jazz\, soul\, and rock.\nSince forming during their senior year at the University of Notre Dame\, Frances Luke Accord’s approach to music has marked a boundless evolution. In December of 2012 the duo released their first record\, Kandote\, a not-for-profit\, intercultural collaboration with the Barefoot Truth Children’s Choir of Kkindu\, Uganda — an endeavor that continues to support the primary education and musical aspirations of the choir. Bringing their world/folk sound to Chicago in the summer of 2013\, the duo quickly garnered local and regional attention for their captivating live performances and stunning self-produced releases\, including the Queen for Me EP (April 2014)\, Live @ Strobe (April 2015)\, and\, most notably\, their debut full-length album\, Fluke (May 2016).
URL:https://cottagehome.info/event/frances-luke-accord-w-chris-wilson/
LOCATION:Square Cat Vinyl\, 1054 Virginia Avenue\, Indianapolis\, IN\, 46203\, United States
CATEGORIES:Local Business Events
ATTACH;FMTTYPE=image/jpeg:https://cottagehome.info/wp-content/uploads/2017/04/f51c3fef849d9f9d55659cb302a357cd.jpg
END:VEVENT
BEGIN:VEVENT
DTSTART;TZID=America/Indiana/Indianapolis:20170425T190000
DTEND;TZID=America/Indiana/Indianapolis:20170425T220000
DTSTAMP:20260424T125018
CREATED:20170418T161240Z
LAST-MODIFIED:20170425T165944Z
UID:10009313-1493146800-1493157600@cottagehome.info
SUMMARY:Matt Cox at Square Cat Vinyl - Indianapolis
DESCRIPTION:
URL:https://cottagehome.info/event/matt-cox-at-square-cat-vinyl-indianapolis/
LOCATION:Square Cat Vinyl\, 1054 Virginia Avenue\, Indianapolis\, IN\, 46203\, United States
CATEGORIES:Local Business Events
ATTACH;FMTTYPE=image/jpeg:https://cottagehome.info/wp-content/uploads/2017/04/6b9117bb5e39e76ad26a8af2a3deb7c6.jpg
END:VEVENT
BEGIN:VEVENT
DTSTART;TZID=America/Indiana/Indianapolis:20170422T080000
DTEND;TZID=America/Indiana/Indianapolis:20170422T235900
DTSTAMP:20260424T125018
CREATED:20170418T161240Z
LAST-MODIFIED:20170422T162234Z
UID:10009312-1492848000-1492905540@cottagehome.info
SUMMARY:Record Store Day 2017 at Square Cat Vinyl
DESCRIPTION:8am – Midnight \nOur first foray into Record Store Day\, and we’re going big. Record Store Day will be an all day party at Square Cat. \nWe’ll have lots of the limited\, exclusive releases available for you all you early birds getting there when we open. Full list of our offerings to come soon. \nWe’ll be giving away badass gift bags to the first few dozen people who make a purchase. Lots of goodies will be in these one of a kind giveaways.  \nWe’ll have our bar stocked with all the coffee\, beer\, and wine you can desire. We’ll have Long’s Donuts available for sale throughout the morning and free coffee to the first few dozen folks in line. We’ll also be serving special RSD mimosas for those that want to get the drinking started early that day. \nDogfish Head will be doing special giveaways and promotions throughout the day. GOMEZ BBQ will have their delicious meat treats available all day by the music tent as well. \nWe’re gonna be taking over the alley behind our shop with music all day from noon – 10 PM. We’ll also have beer and merch available for sale out back as well.  \nMUSIC LINEUP: \nNOON – BYBYE\n1 PM – Park Stone\n2 PM – Ryan M Brewer\n3 PM – Circle City Deacons\n4 PM – Duckland Seals\n4:30 PM – Bashiri Asad\n5 PM – Charlie Ballantine\n6 PM – Moor dub\n7 PM – Tied\n8 PM – New Wave Collective\n9 PM – Sirius Blvck \nGomez BBQ will have his food truck setup by our music area slinging that delicious BBQ. \nExperience Square Cat’s take on RSD and you won’t be disappointed.
URL:https://cottagehome.info/event/record-store-day-2017-at-square-cat-vinyl/
LOCATION:Square Cat Vinyl\, 1054 Virginia Avenue\, Indianapolis\, IN\, 46203\, United States
CATEGORIES:Local Business Events
ATTACH;FMTTYPE=image/jpeg:https://cottagehome.info/wp-content/uploads/2017/04/10ebbe866ffa97ea242008b2d03aae14.jpg
END:VEVENT
BEGIN:VEVENT
DTSTART;TZID=America/Indiana/Indianapolis:20170420T190000
DTEND;TZID=America/Indiana/Indianapolis:20170420T230000
DTSTAMP:20260424T125018
CREATED:20170418T161239Z
LAST-MODIFIED:20170420T161753Z
UID:10009310-1492714800-1492729200@cottagehome.info
SUMMARY:Midwest Contraband w/ Jethro Easyfields
DESCRIPTION:
URL:https://cottagehome.info/event/midwest-contraband-w-jethro-easyfields/
LOCATION:Square Cat Vinyl\, 1054 Virginia Avenue\, Indianapolis\, IN\, 46203\, United States
CATEGORIES:Local Business Events
ATTACH;FMTTYPE=image/jpeg:https://cottagehome.info/wp-content/uploads/2017/04/956c61e61e698aebc3688ebec69d75c9.jpg
END:VEVENT
BEGIN:VEVENT
DTSTART;TZID=America/Indiana/Indianapolis:20170419T193000
DTEND;TZID=America/Indiana/Indianapolis:20170419T223000
DTSTAMP:20260424T125018
CREATED:20170418T161238Z
LAST-MODIFIED:20170419T161834Z
UID:10009309-1492630200-1492641000@cottagehome.info
SUMMARY:Swing Dance Night w/ The Dianna Davis Ensemble
DESCRIPTION:$5\nALL AGES \nBeginner’s lesson at 7:30 – learn to dance\, no partner needed!\nLesson taught by Elizabeth and Brent from Naptown Stomp \nDianna Davis and her gypsy jazz trio! http://www.diannadavis.com/gypsy-jazz\nDianna – vocals\, clarinet and accordion\nJohn Fell – guitar\nBob Foster – guitar\nhttps://www.youtube.com/watch?v=CxYBZv-ebVU \nDianna Davis began her career as a classical pianist and clarinetist but has since expanded into styles such as folk\, Eastern European\, jazz\, and improvisation. After experiencing a gypsy band thrill an audience and move them to dance wildly to music\, she knew that that’s the kind of music she wanted to play. \nDianna has studied at the famous Django in June gypsy jazz festival multiple times\, accordion jazz masterclasses\, and privately with well known musicians locally and around the world.
URL:https://cottagehome.info/event/swing-dance-night-w-the-dianna-davis-ensemble/
LOCATION:Square Cat Vinyl\, 1054 Virginia Avenue\, Indianapolis\, IN\, 46203\, United States
CATEGORIES:Local Business Events
ATTACH;FMTTYPE=image/jpeg:https://cottagehome.info/wp-content/uploads/2017/04/1d3b23ef7b6cbacabc1f70eb81a5cc93.jpg
END:VEVENT
END:VCALENDAR