BEGIN:VCALENDAR
VERSION:2.0
PRODID:-//Cottage Home Neighborhood Indianapolis - ECPv6.15.20//NONSGML v1.0//EN
CALSCALE:GREGORIAN
METHOD:PUBLISH
X-WR-CALNAME:Cottage Home Neighborhood Indianapolis
X-ORIGINAL-URL:https://cottagehome.info
X-WR-CALDESC:Events for Cottage Home Neighborhood Indianapolis
REFRESH-INTERVAL;VALUE=DURATION:PT1H
X-Robots-Tag:noindex
X-PUBLISHED-TTL:PT1H
BEGIN:VTIMEZONE
TZID:America/Indiana/Indianapolis
BEGIN:DAYLIGHT
TZOFFSETFROM:-0500
TZOFFSETTO:-0400
TZNAME:EDT
DTSTART:20160313T070000
END:DAYLIGHT
BEGIN:STANDARD
TZOFFSETFROM:-0400
TZOFFSETTO:-0500
TZNAME:EST
DTSTART:20161106T060000
END:STANDARD
BEGIN:DAYLIGHT
TZOFFSETFROM:-0500
TZOFFSETTO:-0400
TZNAME:EDT
DTSTART:20170312T070000
END:DAYLIGHT
BEGIN:STANDARD
TZOFFSETFROM:-0400
TZOFFSETTO:-0500
TZNAME:EST
DTSTART:20171105T060000
END:STANDARD
BEGIN:DAYLIGHT
TZOFFSETFROM:-0500
TZOFFSETTO:-0400
TZNAME:EDT
DTSTART:20180311T070000
END:DAYLIGHT
BEGIN:STANDARD
TZOFFSETFROM:-0400
TZOFFSETTO:-0500
TZNAME:EST
DTSTART:20181104T060000
END:STANDARD
END:VTIMEZONE
BEGIN:VEVENT
DTSTART;TZID=America/Indiana/Indianapolis:20170420T113000
DTEND;TZID=America/Indiana/Indianapolis:20170420T130000
DTSTAMP:20260424T100751
CREATED:20170417T125345Z
LAST-MODIFIED:20170420T135714Z
UID:10009218-1492687800-1492693200@cottagehome.info
SUMMARY:NEAR 2017 Community Luncheon
DESCRIPTION:Join Near East Area Renewal (NEAR) at our Annual Community Luncheon on Thursday\, April 20th\, from 11:30am until 1:00pm. This year we will be celebrating 100 (yes ONE HUNDRED!) redeveloped and newly constructed homes on the Near Eastside of Indianapolis. We will have great food catered by Hoaglin’s Catering\, and you will hear from our invited guest speaker\, US Congressman Andre Carson about the redevelopment and growth on the Near Eastside. \nWe hope you can join us. There are a variety of sponsorship levels and benefits associated with those sponsorships. \nGo to near100homes.eventbrite.com to purchase tickets or sponsor tables for your organization or group.
URL:https://cottagehome.info/event/near-2017-community-luncheon/
LOCATION:Near East Area Renewal\, 2236 E 10th St\, Indianapolis\, IN\, 46201\, United States
CATEGORIES:Nearby Neighborhood Events
ATTACH;FMTTYPE=image/jpeg:https://cottagehome.info/wp-content/uploads/2017/04/9d21d224ba9060e74d4a60e85519db86.jpg
END:VEVENT
END:VCALENDAR