BEGIN:VCALENDAR
VERSION:2.0
PRODID:-//Cottage Home Neighborhood Indianapolis - ECPv6.15.20//NONSGML v1.0//EN
CALSCALE:GREGORIAN
METHOD:PUBLISH
X-ORIGINAL-URL:https://cottagehome.info
X-WR-CALDESC:Events for Cottage Home Neighborhood Indianapolis
REFRESH-INTERVAL;VALUE=DURATION:PT1H
X-Robots-Tag:noindex
X-PUBLISHED-TTL:PT1H
BEGIN:VTIMEZONE
TZID:America/Indiana/Indianapolis
BEGIN:DAYLIGHT
TZOFFSETFROM:-0500
TZOFFSETTO:-0400
TZNAME:EDT
DTSTART:20200308T070000
END:DAYLIGHT
BEGIN:STANDARD
TZOFFSETFROM:-0400
TZOFFSETTO:-0500
TZNAME:EST
DTSTART:20201101T060000
END:STANDARD
BEGIN:DAYLIGHT
TZOFFSETFROM:-0500
TZOFFSETTO:-0400
TZNAME:EDT
DTSTART:20210314T070000
END:DAYLIGHT
BEGIN:STANDARD
TZOFFSETFROM:-0400
TZOFFSETTO:-0500
TZNAME:EST
DTSTART:20211107T060000
END:STANDARD
BEGIN:DAYLIGHT
TZOFFSETFROM:-0500
TZOFFSETTO:-0400
TZNAME:EDT
DTSTART:20220313T070000
END:DAYLIGHT
BEGIN:STANDARD
TZOFFSETFROM:-0400
TZOFFSETTO:-0500
TZNAME:EST
DTSTART:20221106T060000
END:STANDARD
END:VTIMEZONE
BEGIN:VEVENT
DTSTART;TZID=America/Indiana/Indianapolis:20211206T180000
DTEND;TZID=America/Indiana/Indianapolis:20211206T200000
DTSTAMP:20260424T023528
CREATED:20211117T230939Z
LAST-MODIFIED:20211117T231143Z
UID:10009465-1638813600-1638820800@cottagehome.info
SUMMARY:Annual Membership Meeting
DESCRIPTION:Cottage Home Neighborhood will hold its final General Membership Meeting for 2021 on December 6th at 6:00 p.m. at Paramount School of Excellence Cottage Home. The meeting will include a pitch in of food for dinner. The Association will also offer a zoom option for those not comfortable in person. Those using Zoom can vote via email. If you are interested in attending via Zoom\, please contact Nancy Bain at nabain@msn.com.   \n\n\n\nThis meeting will be social combined with the general meeting agenda items including an annual wrap up and voting for new board members by the active general membership. Any member wishing to vote must have paid their membership dues at lease 30 days prior to the new board member election.
URL:https://cottagehome.info/event/annual-membership-meeting/
ATTACH;FMTTYPE=image/jpeg:https://cottagehome.info/wp-content/uploads/2021/11/element5-digital-T9CXBZLUvic-unsplash-2.jpg
ORGANIZER;CN="Nancy Bain%2C Membership Chair":MAILTO:nabain@msn.com
END:VEVENT
END:VCALENDAR