BEGIN:VCALENDAR
VERSION:2.0
PRODID:-//Cottage Home Neighborhood Indianapolis - ECPv6.15.20//NONSGML v1.0//EN
CALSCALE:GREGORIAN
METHOD:PUBLISH
X-WR-CALNAME:Cottage Home Neighborhood Indianapolis
X-ORIGINAL-URL:https://cottagehome.info
X-WR-CALDESC:Events for Cottage Home Neighborhood Indianapolis
REFRESH-INTERVAL;VALUE=DURATION:PT1H
X-Robots-Tag:noindex
X-PUBLISHED-TTL:PT1H
BEGIN:VTIMEZONE
TZID:America/Indiana/Indianapolis
BEGIN:DAYLIGHT
TZOFFSETFROM:-0500
TZOFFSETTO:-0400
TZNAME:EDT
DTSTART:20200308T070000
END:DAYLIGHT
BEGIN:STANDARD
TZOFFSETFROM:-0400
TZOFFSETTO:-0500
TZNAME:EST
DTSTART:20201101T060000
END:STANDARD
BEGIN:DAYLIGHT
TZOFFSETFROM:-0500
TZOFFSETTO:-0400
TZNAME:EDT
DTSTART:20210314T070000
END:DAYLIGHT
BEGIN:STANDARD
TZOFFSETFROM:-0400
TZOFFSETTO:-0500
TZNAME:EST
DTSTART:20211107T060000
END:STANDARD
BEGIN:DAYLIGHT
TZOFFSETFROM:-0500
TZOFFSETTO:-0400
TZNAME:EDT
DTSTART:20220313T070000
END:DAYLIGHT
BEGIN:STANDARD
TZOFFSETFROM:-0400
TZOFFSETTO:-0500
TZNAME:EST
DTSTART:20221106T060000
END:STANDARD
BEGIN:DAYLIGHT
TZOFFSETFROM:-0500
TZOFFSETTO:-0400
TZNAME:EDT
DTSTART:20230312T070000
END:DAYLIGHT
BEGIN:STANDARD
TZOFFSETFROM:-0400
TZOFFSETTO:-0500
TZNAME:EST
DTSTART:20231105T060000
END:STANDARD
END:VTIMEZONE
BEGIN:VEVENT
DTSTART;TZID=America/Indiana/Indianapolis:20221205T181500
DTEND;TZID=America/Indiana/Indianapolis:20221205T200000
DTSTAMP:20260423T201101
CREATED:20221108T031107Z
LAST-MODIFIED:20221202T163750Z
UID:10009629-1670264100-1670270400@cottagehome.info
SUMMARY:Final 2022 General Membership Meeting
DESCRIPTION:The final General Membership meeting is Monday\, December 5th. A pitch in meal is scheduled for 6:15pm. The business meeting will start at 7pm. The meeting will be held at Paramount Cottage Home. Please bring a dish to share and drinks/table service for your family. Children are welcome! \n\n\n\n\n\n\n\nWe will take nominations from the floor and vote on the slate at the meeting on December 5th. **Reminder that while all neighbors are welcome to attend the dinner/meeting\, only those current dues paying members are eligible to vote. \n\n\n\n\n\n\n\n\n\n\nOn behalf of the Nominating Committee\, we are announcing the 2023 Board Slate: \n\n\n\n\nBri Jones (new)\n\n\n\nJosh Bronson (new)\n\n\n\nScott Moore (new term).\n\n\n\n\n\n\n\n\nThe rest of the board members returning in 2023 are: \n\n\n\nValerie Scott (2) \n\n\n\nMaureen Mladucky (2) \n\n\n\nJulia Taughner (1) \n\n\n\nKacy Ray (1) \n\n\n\nHeather Sullivan (1) \n\n\n\nMike Clements (2)
URL:https://cottagehome.info/event/final-2022-general-membership-meeting/
LOCATION:Paramount Cottage Home\, 1203 East St Clair Street\, Indianapolis\, IN\, 46202\, United States
CATEGORIES:CoHo Neighborhood Events,Membership
ATTACH;FMTTYPE=image/jpeg:https://cottagehome.info/wp-content/uploads/2022/11/pexels-element-digital-1550337-1.jpg
ORGANIZER;CN="Membership Committee":MAILTO:CHNAMembership@gmail.com
END:VEVENT
BEGIN:VEVENT
DTSTART;TZID=America/Indiana/Indianapolis:20211020T183000
DTEND;TZID=America/Indiana/Indianapolis:20211020T193000
DTSTAMP:20260423T201101
CREATED:20211018T214808Z
LAST-MODIFIED:20220524T195154Z
UID:10009464-1634754600-1634758200@cottagehome.info
SUMMARY:Rock E Bassoon Concert
DESCRIPTION:Enjoy the music of these awesome musicians right in our own neighborhood! \n\n\n\n\nRock E Bassoon is an electric rock band comprised of six bassoonists and a drummer. Rock E Bassoon performs classic rock and pop\, such as Led Zeppelin\, The Beatles\, The Rolling Stones\, Queen\, Metallica\, Michael Jackson and The Who. Rock E Bassoon’s musicians include three members of the Indianapolis Symphony Orchestra\, a professor of bassoon at the Butler University School of Music and professional free-lance bassoonists.  \n\n\n\n\n\n\n\n\n\n\nEvent Venue\n\n\n\n\n\n\n\n\n\n\n\n\n\nEvent Organizer\n\n\n\n\n\n\n\n\n\n\n\n\n\nEvent Price
URL:https://cottagehome.info/event/rock-e-bassoon-concert-event/
LOCATION:Community Space\, 714 N Highland Ave\, Indianapolis\, IN\, 46202\, United States
CATEGORIES:CoHo Neighborhood Events,Membership
ATTACH;FMTTYPE=image/jpeg:https://cottagehome.info/wp-content/uploads/2021/10/rock-e-basson2-e1634656247336.jpg
ORGANIZER;CN="Membership Committee":MAILTO:CHNAMembership@gmail.com
END:VEVENT
BEGIN:VEVENT
DTSTART;TZID=America/Indiana/Indianapolis:20210909T190000
DTEND;TZID=America/Indiana/Indianapolis:20210909T200000
DTSTAMP:20260423T201101
CREATED:20210818T181628Z
LAST-MODIFIED:20210906T122640Z
UID:10009462-1631214000-1631217600@cottagehome.info
SUMMARY:Castleton String Quartet Performance with ISO Musician Amy Kniffen & Friends
DESCRIPTION:The program is titled “America the  Beautiful\, Songs from the Melting Pot”.  From the Wild West\, to Appalachia\, to Broadway\, the songs of America represent immigrant voices from all over the world.  Not frequently heard on American stages are the voices of the original inhabitants of this great land. \n\n\n\nCome join the Castleton Quartet as we offer the music of familiar as well as unheard voices of America\, the beautiful.  Bring a chair or blanket and come enjoy live classical music with a twist!  \n\n\n\n\n\n\n\n \n\n\n\nEvent Price\n\n\n\n\n\n\n\n \n\n\n\n\n\n \n\n\n\n\n\n\n\n\n\n\n\n\n\n\n\n\n\n\n\nEvent Sponsor\n\n\n\n\n\n\n\n\n\n\n\nEvent Venue
URL:https://cottagehome.info/event/string-quartet-performance-with-iso-musician-amy-kniffen-friends/
CATEGORIES:CoHo Neighborhood Events,Membership
ATTACH;FMTTYPE=image/jpeg:https://cottagehome.info/wp-content/uploads/2021/08/call-me-hangry-a3YXYC1n5ao-unsplash-1.jpg
ORGANIZER;CN="Membership Committee":MAILTO:CHNAMembership@gmail.com
END:VEVENT
END:VCALENDAR