BEGIN:VCALENDAR
VERSION:2.0
PRODID:-//Cottage Home Neighborhood Indianapolis - ECPv6.15.20//NONSGML v1.0//EN
CALSCALE:GREGORIAN
METHOD:PUBLISH
X-ORIGINAL-URL:https://cottagehome.info
X-WR-CALDESC:Events for Cottage Home Neighborhood Indianapolis
REFRESH-INTERVAL;VALUE=DURATION:PT1H
X-Robots-Tag:noindex
X-PUBLISHED-TTL:PT1H
BEGIN:VTIMEZONE
TZID:America/Indiana/Indianapolis
BEGIN:DAYLIGHT
TZOFFSETFROM:-0500
TZOFFSETTO:-0400
TZNAME:EDT
DTSTART:20160313T070000
END:DAYLIGHT
BEGIN:STANDARD
TZOFFSETFROM:-0400
TZOFFSETTO:-0500
TZNAME:EST
DTSTART:20161106T060000
END:STANDARD
BEGIN:DAYLIGHT
TZOFFSETFROM:-0500
TZOFFSETTO:-0400
TZNAME:EDT
DTSTART:20170312T070000
END:DAYLIGHT
BEGIN:STANDARD
TZOFFSETFROM:-0400
TZOFFSETTO:-0500
TZNAME:EST
DTSTART:20171105T060000
END:STANDARD
BEGIN:DAYLIGHT
TZOFFSETFROM:-0500
TZOFFSETTO:-0400
TZNAME:EDT
DTSTART:20180311T070000
END:DAYLIGHT
BEGIN:STANDARD
TZOFFSETFROM:-0400
TZOFFSETTO:-0500
TZNAME:EST
DTSTART:20181104T060000
END:STANDARD
END:VTIMEZONE
BEGIN:VEVENT
DTSTART;TZID=America/Indiana/Indianapolis:20170516T190000
DTEND;TZID=America/Indiana/Indianapolis:20170516T200000
DTSTAMP:20260424T083508
CREATED:20170512T160617Z
LAST-MODIFIED:20170515T161656Z
UID:10009381-1494961200-1494964800@cottagehome.info
SUMMARY:May neighborhood meeting
DESCRIPTION:Please join us for our May neighborhood meeting at 7pm in the cafeteria of the Little Flower School. All are welcome and light refreshments will be provided! \nWe’ll be hearing from special guest Valerie Davis of the I Am Ubuntu Near East Diversity Task Force. We’ll also hear about the proceeds from our April fundraising dinner at Steer-In\, share details about our upcoming inaugural Heritage potluck in June\, our summer Little Veggie Swap series and our neighborhood history project.  \nOur City Councilor Blake Johnson\, Tom Costello of Little Flower Parish\, Mayor’s Neighborhood Advocate Olubunmi Ijose and Steve Talley of IMPD East District will be on hand to provide community updates. \nCome meet your neighbors! Looking forward to seeing you there!
URL:https://cottagehome.info/event/may-neighborhood-meeting/
LOCATION:Little Flower Catholic Church and School\, 4720 E 13th St\, Indianapolis\, IN\, 46201\, United States
CATEGORIES:Nearby Neighborhood Events
ATTACH;FMTTYPE=image/jpeg:https://cottagehome.info/wp-content/uploads/2017/05/755fec6dcf2985a4b34792be3ac121db.jpg
END:VEVENT
BEGIN:VEVENT
DTSTART;TZID=America/Indiana/Indianapolis:20170418T070000
DTEND;TZID=America/Indiana/Indianapolis:20170418T210000
DTSTAMP:20260424T083508
CREATED:20170417T130152Z
LAST-MODIFIED:20220920T200216Z
UID:10009220-1492498800-1492549200@cottagehome.info
SUMMARY:Little Flower Day at Steer In
DESCRIPTION:Breakfast\, lunch and dinner – gather your family\, friends and neighbors and head over to the Steer In on Tuesday\, April 18 to get a great meal and support your neighborhood association!  \nThis awesome Eastside dining institution will donate 15% of the day’s sales – dine-in\, carryout and delivery – to the Little Flower Neighborhood Association. All you need to do is let your server know that you’re eating for Little Flower! A great excuse to get yourself an order of beef and noodles\, Meat Me pizza or a Big Steer burger! \nThe proceeds will help the neighborhood association as we continue to support the success\, health\, safety and wellbeing of Little Flower residents. See you there!
URL:https://cottagehome.info/event/little-flower-day-at-steer-in/
LOCATION:Steer In Indianapolis\, 5130 E 10th St\, Indianapolis\, IN\, 46219\, United States
CATEGORIES:Nearby Neighborhood Events
ATTACH;FMTTYPE=image/jpeg:https://cottagehome.info/wp-content/uploads/2017/04/3360b7ff2afbc2b94c2214b128064fda.jpg
END:VEVENT
END:VCALENDAR