BEGIN:VCALENDAR
VERSION:2.0
PRODID:-//Cottage Home Neighborhood Indianapolis - ECPv6.15.20//NONSGML v1.0//EN
CALSCALE:GREGORIAN
METHOD:PUBLISH
X-ORIGINAL-URL:https://cottagehome.info
X-WR-CALDESC:Events for Cottage Home Neighborhood Indianapolis
REFRESH-INTERVAL;VALUE=DURATION:PT1H
X-Robots-Tag:noindex
X-PUBLISHED-TTL:PT1H
BEGIN:VTIMEZONE
TZID:America/Indiana/Indianapolis
BEGIN:DAYLIGHT
TZOFFSETFROM:-0500
TZOFFSETTO:-0400
TZNAME:EDT
DTSTART:20160313T070000
END:DAYLIGHT
BEGIN:STANDARD
TZOFFSETFROM:-0400
TZOFFSETTO:-0500
TZNAME:EST
DTSTART:20161106T060000
END:STANDARD
BEGIN:DAYLIGHT
TZOFFSETFROM:-0500
TZOFFSETTO:-0400
TZNAME:EDT
DTSTART:20170312T070000
END:DAYLIGHT
BEGIN:STANDARD
TZOFFSETFROM:-0400
TZOFFSETTO:-0500
TZNAME:EST
DTSTART:20171105T060000
END:STANDARD
BEGIN:DAYLIGHT
TZOFFSETFROM:-0500
TZOFFSETTO:-0400
TZNAME:EDT
DTSTART:20180311T070000
END:DAYLIGHT
BEGIN:STANDARD
TZOFFSETFROM:-0400
TZOFFSETTO:-0500
TZNAME:EST
DTSTART:20181104T060000
END:STANDARD
END:VTIMEZONE
BEGIN:VEVENT
DTSTART;TZID=America/Indiana/Indianapolis:20170422T150000
DTEND;TZID=America/Indiana/Indianapolis:20170422T170000
DTSTAMP:20260424T105130
CREATED:20170419T020800Z
LAST-MODIFIED:20170422T024614Z
UID:10009348-1492873200-1492880400@cottagehome.info
SUMMARY:Planet Indy Film - This Changes Everything
DESCRIPTION:DeBoest Lecture Hall\nSaturday\, April 22 / 3 pm\n$8 Members / $12 Public\n(2015\, dir. Avi Lewis\, 99 mins.\, NR) \nFilmed over 211 shoot days in nine countries and five continents over four years\, This Changes Everything is an epic attempt to re-imagine the vast challenge of climate change. Directed by Avi Lewis\, and inspired by Naomi Klein’s international non-fiction bestseller This Changes Everything\, the film presents seven powerful portraits of communities on the front lines\, from Montana’s Powder River Basin to the Alberta Tar Sands\, from the coast of South India to Beijing and beyond. Throughout the film\, Klein builds to her most controversial and exciting idea: that we can seize the existential crisis of climate change to transform our failed economic system into something radically better.
URL:https://cottagehome.info/event/planet-indy-film-this-changes-everything/
LOCATION:Indianapolis Museum of Art\, 4000 Michigan Rd\, Indianapolis\, IN\, 46208\, United States
CATEGORIES:Local Parks & Recreation
ATTACH;FMTTYPE=image/jpeg:https://cottagehome.info/wp-content/uploads/2017/04/5cbab4406b1831cc45a2d3ecc98bc858.jpg
END:VEVENT
BEGIN:VEVENT
DTSTART;TZID=America/Indiana/Indianapolis:20170422T120000
DTEND;TZID=America/Indiana/Indianapolis:20170422T140000
DTSTAMP:20260424T105130
CREATED:20170419T020759Z
LAST-MODIFIED:20170422T024614Z
UID:10009345-1492862400-1492869600@cottagehome.info
SUMMARY:Planet Indy Film - The Messenger
DESCRIPTION:DeBoest Lecture Hall\nSaturday\, April 22 / Noon\n$8 Members / $12 Public\n(2015\, dir. Su Rynard\, 99 mins.\, NR)\, preceded by Bluebird Man (2014\, dir. Neil Paprocki & Matthew Podolsky\, 27 mins.\, NR) \nThe Messenger explores our deep-seated connection to birds and warns that the uncertain fate of songbirds might mirror our own. Su Rynard takes us on an engaging\, visually stunning\, emotional journey\, one that mixes its elegiac message with hopeful notes and unique glances into the influence of songbirds on our own expressions of the soul. On another level\, The Messenger is the artful story about the mass depletion of songbirds on multiple continents\, and about those who are working to turn the tide. In ancient times humans looked to the flight and songs of birds to protect the future. Today once again\, birds have something to tell us.
URL:https://cottagehome.info/event/planet-indy-film-the-messenger/
LOCATION:Indianapolis Museum of Art\, 4000 Michigan Rd\, Indianapolis\, IN\, 46208\, United States
CATEGORIES:Local Parks & Recreation
ATTACH;FMTTYPE=image/jpeg:https://cottagehome.info/wp-content/uploads/2017/04/2a8948d4d297d4cabe8f76332d4563ff.jpg
END:VEVENT
BEGIN:VEVENT
DTSTART;TZID=America/Indiana/Indianapolis:20170422T100000
DTEND;TZID=America/Indiana/Indianapolis:20170422T110000
DTSTAMP:20260424T105130
CREATED:20170418T020632Z
LAST-MODIFIED:20170422T024613Z
UID:10009250-1492855200-1492858800@cottagehome.info
SUMMARY:Yoga at the IMA
DESCRIPTION:Start your weekend relaxing with yoga on the IMA’s beautiful campus. The hour-long session\, offered by registered yoga instructors from Indianapolis\, will let you stretch your limbs and realign mind\, body\, and spirit while surrounded by inspiring art and nature. All levels are welcome. Please meet in the Efroymson Family Entrance Pavilion by 9:50 am. Locations are subject to change and weather permitting.  \nSaturdays 10 – 11 am\nSeptember 2016 – February 2017\nMembers: $12 Single Class\nPublic: $15 Single Class \n$10 Discount per order when you select 6+ Classes\nMembers use code MEMBERYOGA / Public use code PUBLICYOGA \nApril 22 Location: IMA Orchard
URL:https://cottagehome.info/event/yoga-at-the-ima/
LOCATION:Indianapolis Museum of Art\, 4000 Michigan Rd\, Indianapolis\, IN\, 46208\, United States
CATEGORIES:Local Parks & Recreation
ATTACH;FMTTYPE=image/jpeg:https://cottagehome.info/wp-content/uploads/2017/04/d3928f65e77e3c463438eb80a289bccd.jpg
END:VEVENT
END:VCALENDAR