BEGIN:VCALENDAR
VERSION:2.0
PRODID:-//Cottage Home Neighborhood Indianapolis - ECPv6.15.20//NONSGML v1.0//EN
CALSCALE:GREGORIAN
METHOD:PUBLISH
X-ORIGINAL-URL:https://cottagehome.info
X-WR-CALDESC:Events for Cottage Home Neighborhood Indianapolis
REFRESH-INTERVAL;VALUE=DURATION:PT1H
X-Robots-Tag:noindex
X-PUBLISHED-TTL:PT1H
BEGIN:VTIMEZONE
TZID:America/Indiana/Indianapolis
BEGIN:DAYLIGHT
TZOFFSETFROM:-0500
TZOFFSETTO:-0400
TZNAME:EDT
DTSTART:20160313T070000
END:DAYLIGHT
BEGIN:STANDARD
TZOFFSETFROM:-0400
TZOFFSETTO:-0500
TZNAME:EST
DTSTART:20161106T060000
END:STANDARD
BEGIN:DAYLIGHT
TZOFFSETFROM:-0500
TZOFFSETTO:-0400
TZNAME:EDT
DTSTART:20170312T070000
END:DAYLIGHT
BEGIN:STANDARD
TZOFFSETFROM:-0400
TZOFFSETTO:-0500
TZNAME:EST
DTSTART:20171105T060000
END:STANDARD
BEGIN:DAYLIGHT
TZOFFSETFROM:-0500
TZOFFSETTO:-0400
TZNAME:EDT
DTSTART:20180311T070000
END:DAYLIGHT
BEGIN:STANDARD
TZOFFSETFROM:-0400
TZOFFSETTO:-0500
TZNAME:EST
DTSTART:20181104T060000
END:STANDARD
END:VTIMEZONE
BEGIN:VEVENT
DTSTART;TZID=America/Indiana/Indianapolis:20170623T173000
DTEND;TZID=America/Indiana/Indianapolis:20170623T203000
DTSTAMP:20260424T100751
CREATED:20170430T142545Z
LAST-MODIFIED:20170518T170722Z
UID:10009365-1498239000-1498249800@cottagehome.info
SUMMARY:HCN Foundation Fundraiser
DESCRIPTION:Holy Cross Neighborhood Foundation Fundraiser \nThe State Street Pub is hosting a fundraiser for our Holy Cross Neighborhood Foundation on Friday\, June 23rd\, 5:30 to 8:30 PM.  Please join us for food\, drinks and fun. The SSP will donate a percent of your purchase to our foundation. The patio is child-friendly for this event! \nHCNF Fundraiser at the State Street Pub\n243 N. State Avenue\nFriday\, June 23rd – 5:30 to 8:30 PM
URL:https://cottagehome.info/event/hcn-foundation-fundraiser/
LOCATION:State Street Pub\, 243 N State Ave\, Indianapolis\, IN\, 46201\, United States
CATEGORIES:Nearby Neighborhood Events
ATTACH;FMTTYPE=image/jpeg:https://cottagehome.info/wp-content/uploads/2017/05/89fd654611f987f6b49bfd1509f5db46.jpg
END:VEVENT
END:VCALENDAR