BEGIN:VCALENDAR
VERSION:2.0
PRODID:-//Cottage Home Neighborhood Indianapolis - ECPv6.15.20//NONSGML v1.0//EN
CALSCALE:GREGORIAN
METHOD:PUBLISH
X-WR-CALNAME:Cottage Home Neighborhood Indianapolis
X-ORIGINAL-URL:https://cottagehome.info
X-WR-CALDESC:Events for Cottage Home Neighborhood Indianapolis
REFRESH-INTERVAL;VALUE=DURATION:PT1H
X-Robots-Tag:noindex
X-PUBLISHED-TTL:PT1H
BEGIN:VTIMEZONE
TZID:America/Indiana/Indianapolis
BEGIN:DAYLIGHT
TZOFFSETFROM:-0500
TZOFFSETTO:-0400
TZNAME:EDT
DTSTART:20160313T070000
END:DAYLIGHT
BEGIN:STANDARD
TZOFFSETFROM:-0400
TZOFFSETTO:-0500
TZNAME:EST
DTSTART:20161106T060000
END:STANDARD
BEGIN:DAYLIGHT
TZOFFSETFROM:-0500
TZOFFSETTO:-0400
TZNAME:EDT
DTSTART:20170312T070000
END:DAYLIGHT
BEGIN:STANDARD
TZOFFSETFROM:-0400
TZOFFSETTO:-0500
TZNAME:EST
DTSTART:20171105T060000
END:STANDARD
BEGIN:DAYLIGHT
TZOFFSETFROM:-0500
TZOFFSETTO:-0400
TZNAME:EDT
DTSTART:20180311T070000
END:DAYLIGHT
BEGIN:STANDARD
TZOFFSETFROM:-0400
TZOFFSETTO:-0500
TZNAME:EST
DTSTART:20181104T060000
END:STANDARD
END:VTIMEZONE
BEGIN:VEVENT
DTSTART;TZID=America/Indiana/Indianapolis:20170610T190000
DTEND;TZID=America/Indiana/Indianapolis:20170610T220000
DTSTAMP:20260424T141122
CREATED:20170418T161540Z
LAST-MODIFIED:20170427T172243Z
UID:10009340-1497121200-1497132000@cottagehome.info
SUMMARY:The McDonalds Album Release Show
DESCRIPTION:We’re so excited to be releasing our first full-length album!  We’ve taken a year\, a tanker truck full of coffee\, and multiple sleepless nights to bring you 10 hand-made\, hard earned songs that you’re going to love.  It would mean the world to us if you could join us on June 10th at Fountain Square Brewery!  We love you all and want to celebrate with you.  (Also\, it’s FREE) \nKatie Pederson\nMike Boo Music\nThe McDonalds
URL:https://cottagehome.info/event/the-mcdonalds-album-release-show/
LOCATION:Spark Joy Music\, 366 South Grand Ave\, Indianapolis\, IN\, 46219\, United States
CATEGORIES:Local Business Events
ATTACH;FMTTYPE=image/jpeg:https://cottagehome.info/wp-content/uploads/2017/04/ced8435e0c609ceead28a719a364929b.jpg
END:VEVENT
BEGIN:VEVENT
DTSTART;TZID=America/Indiana/Indianapolis:20170609T200000
DTEND;TZID=America/Indiana/Indianapolis:20170609T233000
DTSTAMP:20260424T141122
CREATED:20170418T161539Z
LAST-MODIFIED:20170427T172243Z
UID:10009337-1497038400-1497051000@cottagehome.info
SUMMARY:Eliot Bigger Album Release
DESCRIPTION:After a mere four years of writing\, everyone’s favorite fictional person and rock band\, Eliot Bigger\, is finally releasing their debut album\, Murals. Murals is a celebration of both the artwork of our lead singer and songwriter\, Kara Tucker\, and the songs that were often inspired by it.  Joining Kara will be the fashionable Erin Jeter on drums\, the seductive Jameson Rhodes on bass\, and the ever-so-charming Joel Tucker on guitar.  In addition to the album release\, Kara’s abstract and illustrative artwork will be featured in her debut art exhibit\, and will be for sale. All proceeds from art sales will support the band’s inaugural summer tour! \nJoin Eliot Bigger and special guests\, Bonesetters\, VV Torso\, Smother Party and Theon Lee Jones performing spoken word between each set! Come celebrate Indy music\, art\, and beer with us at Fountain Square Brewing Co. \nDoors at 7pm\nSmother Party – 8 pm\nVV Torso- 8:45 pm\nEliot Bigger – 9:30 pm\nBonesetters – 10:30 pm \nPresale ticket holders will get a special package made by Eliot Bigger including the brand new CD for $10\nDay-of admission & album: $12
URL:https://cottagehome.info/event/eliot-bigger-album-release/
LOCATION:Fountain Square Brewery\, 1301 Barth Avenue\, Indianapolis\, IN\, 46203\, United States
CATEGORIES:Local Business Events
ATTACH;FMTTYPE=image/jpeg:https://cottagehome.info/wp-content/uploads/2017/04/ddbf69c2b9e7e30268458cb368c57b37.jpg
END:VEVENT
BEGIN:VEVENT
DTSTART;TZID=America/Indiana/Indianapolis:20170520T193000
DTEND;TZID=America/Indiana/Indianapolis:20170520T233000
DTSTAMP:20260424T141122
CREATED:20170421T161757Z
LAST-MODIFIED:20170427T172243Z
UID:10009325-1495308600-1495323000@cottagehome.info
SUMMARY:Tracksuit Lyfestile\, Molehill\, and Vaudevileins
DESCRIPTION:-Tracksuit Lyfestile-\n returns to Founatin Square Brewery (https://tracksuitlyfestile.bandcamp.com)! Easily one of the hottest bands in Indy currently with a very loyal local following that has seen them open up at The Vogue\, The Hi-Fi\, and many festivals since their start in 2015. Between the horns and rhythm section in this wonderful lineup of musicians\, there is no way better to spend your evenign on May 20th!\nKicking off the night with two brilliant Chicago rock bands\, Vaudevileins and Molehill! \n-Molehill – http://www.molehillmusic.com\nMolehill is currently releasing a new EP ‘Hearts on Fire” and has performed at SXSW and Canadian Music Week in 2017. \n-Vaudevileins – http://www.vaudevileins.com \n21+
URL:https://cottagehome.info/event/tracksuit-lyfestile-molehill-and-vaudevileins/
LOCATION:Fountain Square Brewery\, 1301 Barth Avenue\, Indianapolis\, IN\, 46203\, United States
CATEGORIES:Local Business Events
ATTACH;FMTTYPE=image/jpeg:https://cottagehome.info/wp-content/uploads/2017/04/86a9eb0a75211a557909a2c9653fd3dc.jpg
END:VEVENT
BEGIN:VEVENT
DTSTART;TZID=America/Indiana/Indianapolis:20170519T190000
DTEND;TZID=America/Indiana/Indianapolis:20170519T233000
DTSTAMP:20260424T141122
CREATED:20170418T161538Z
LAST-MODIFIED:20170427T172243Z
UID:10009335-1495220400-1495236600@cottagehome.info
SUMMARY:Lee Dewyze w/ Eric Pedigo & Kathryn Dean
DESCRIPTION:An evening with Lee Dewyze and local favorite Eric Pedigo and touring artist Kathryn Dean on May 19th is coming to Fountain Square Brewery. Early Bird Tickets & VIP Packages on sale 3/4/17 on Eventbrite.  \nBorn in Mount Prospect\, IL\, one of four children\, Lee DeWyze discovered music and quickly developed a passion at a young age. He cites Cat Stevens’ Tea For The Tillerman and Paul Simons’ Graceland as two of the albums that changed his life.  As a teen Lee played guitar\, piano and the drums and it was not long before he started to write his own songs. “I discovered that I could turn my thoughts and ideas into a clever song or line.  I fell in love\,” recalls Lee. “I would sit around and write funny or witty songs to make my friends or family laugh.” DeWyze was crowned the winner of  American Idol’s Season 9 in 2010\, DeWyze had a stint working as both a paint salesman and trading floor clerk at the Chicago Mercantile Exchange. Before he was 20\, he recorded two albums for an independent label in Chicago: So I’m Told and Slumberland. He made his major label debut in 2010 with Live It Up. His critically lauded Frames followed in 2013 and his song “Fight” reached the top 40 on the Billboard Hot AC charts for 10 weeks straight. The video\, which Lee produced and created\, won first place at the Los Angeles Indie Film Festival.  2014 was a banner year for Lee as he made major headway as a songwriter. His song “Blackbird Song” was placed in the show The Walking Dead. The song racked up more then 3 million YouTube views\, 2 million Spotify streams and was selected as one of the Top 10 most influential placements in 2014 by the Music Writers Guild of America.  The same year Lee landed a #1 song in Ireland with his song “Lullaby” which was covered by Ronan Keating. He also scored a #3 hit in Italy when his “Magnetic Heart” was recorded by Marco Mengioni.  \nLee DeWyze will embark on an ambitious national tour in 2016 in support Oil & Water.  “I love my fans. I truly do.  They are the fuel to my engine. I want the audience to feel what I’m saying. To know it’s real and honest.” With the release of Oil & Water Lee DeWyze takes a no holds barred approach and bares it all and the results are well worth the journey. “I write what I like to hear and how I feel. I am not defining what kind of composer or artist I am. My audience can do that. Because the minute you start to concern yourself with what you’re ‘supposed’ to be doing\, you start to second-guess who you are. And that is one thing I am very sure of.” \nhttp://www.leedewyzeofficial.com \nhttps://www.facebook.com/KathrynDeanOfficial/ \nhttp://www.ericpedigomusic.com
URL:https://cottagehome.info/event/lee-dewyze-w-eric-pedigo-kathryn-dean/
LOCATION:Fountain Square Brewing Co.\, 1301 Barth Ave\, Indianapolis\, IN\, 46203\, United States
CATEGORIES:Local Business Events
ATTACH;FMTTYPE=image/jpeg:https://cottagehome.info/wp-content/uploads/2017/04/252782a8ee5f4ef0d4ba833a59617918.jpg
END:VEVENT
BEGIN:VEVENT
DTSTART;TZID=America/Indiana/Indianapolis:20170512T190000
DTEND;TZID=America/Indiana/Indianapolis:20170512T230000
DTSTAMP:20260424T141122
CREATED:20170418T161537Z
LAST-MODIFIED:20170427T172224Z
UID:10009332-1494615600-1494630000@cottagehome.info
SUMMARY:Sarah Grain w/speical guests Brett Newski & Luka
DESCRIPTION:A special\, FREE event in the tasting room\, with Sarah Grain and Doug Sauter of Sarah Grain & the Billions of Stars\, brilliant touring songwrtier Brett Newski\, and the soulful Luka Music.  \nSarah Grain: http://sarahgrain.bandcamp.com\nBrett Newski: http://www.brettnewski.com\nLuka: https://www.reverbnation.com/lukamusic\nDoors 7pm\nShow 8pm\n21+
URL:https://cottagehome.info/event/sarah-grain-wspeical-guests-brett-newski-luka/
LOCATION:Fountain Square Brewing Co.\, 1301 Barth Ave\, Indianapolis\, IN\, 46203\, United States
CATEGORIES:Local Business Events
ATTACH;FMTTYPE=image/jpeg:https://cottagehome.info/wp-content/uploads/2017/04/2b90dd7ae57676772787ead3f7e6d90f.jpg
END:VEVENT
BEGIN:VEVENT
DTSTART;TZID=America/Indiana/Indianapolis:20170506T200000
DTEND;TZID=America/Indiana/Indianapolis:20170506T233000
DTSTAMP:20260424T141122
CREATED:20170418T161536Z
LAST-MODIFIED:20170427T172224Z
UID:10009330-1494100800-1494113400@cottagehome.info
SUMMARY:Bizarre Noir's 4th Annual Big Crazy Circus
DESCRIPTION:Featuring special guest:\nTinderbox Circus Sideshow\nSpacewords\nChiasma  \n21+ \nDoors open at 7pm\nMusic starts at 8pm \nEarly Bird $7 Tickets (No Fee’s)\nLimited Reserved Table Seating (2 chairs per table) $15\nDay of Show Tickets $10
URL:https://cottagehome.info/event/bizarre-noirs-4th-annual-big-crazy-circus/
LOCATION:Fountain Square Brewery\, 1301 Barth Avenue\, Indianapolis\, IN\, 46203\, United States
CATEGORIES:Local Business Events
ATTACH;FMTTYPE=image/jpeg:https://cottagehome.info/wp-content/uploads/2017/04/1569e1dc7be8a79ddbd6406bbaf4379c.jpg
END:VEVENT
BEGIN:VEVENT
DTSTART;TZID=America/Indiana/Indianapolis:20170505T190000
DTEND;TZID=America/Indiana/Indianapolis:20170505T220000
DTSTAMP:20260424T141122
CREATED:20170418T161529Z
LAST-MODIFIED:20170427T172224Z
UID:10009327-1494010800-1494021600@cottagehome.info
SUMMARY:First Stop\, First Friday May 5th
DESCRIPTION:Kicking off the new year with a new layout for our First Friday events for 2017. Each month we will being our event at 7pm with a local art gallery and a few new speciality craft beers. Then we will move the night along with special musical performances each month that will offer something different for all to enjoy.  \nEvent at 7pm\nFree\n21+ only\nSpecial Musical Performances this month:\nThe Hawkeyes and The Lady Presidents \nVisual Artists:\nCourtney Brooks- http://www.facebook.com/CourtneyBrooksPhotography \nTracy Redman-\nhttp://www.onestepredman.com/ \nDave Pluimer-\nhttps://www.instagram.com/davepluimer \nRadomir Jordanovic- https://www.instagram.com/custommadename \nMark Brown-\nhttp://Instagram.com/m4rrrrk \nTim McLaughlin-\nhttps://www.facebook.com/Hapless-Guitar-Photography-615351858515989/ \nBrandon Guise-\nhttps://www.facebook.com/creativeguisephoto/ \nMichelle Pemberton-\nhttps://www.instagram.com/redrocketphoto/
URL:https://cottagehome.info/event/first-stop-first-friday-may-5th/
LOCATION:Fountain Square Brewing Co.\, 1301 Barth Ave\, Indianapolis\, IN\, 46203\, United States
CATEGORIES:Local Business Events
ATTACH;FMTTYPE=image/jpeg:https://cottagehome.info/wp-content/uploads/2017/04/dc37ddfbe5fc76a3fbd08cee83f9e34e.jpg
END:VEVENT
BEGIN:VEVENT
DTSTART;TZID=America/Indiana/Indianapolis:20170429T200000
DTEND;TZID=America/Indiana/Indianapolis:20170429T233000
DTSTAMP:20260424T141122
CREATED:20170418T161527Z
LAST-MODIFIED:20170427T172224Z
UID:10009324-1493496000-1493508600@cottagehome.info
SUMMARY:Keller & Cole EP Release w/ Katie Pederson and Chad Mills
DESCRIPTION:Join us for an evening with the wonderful Keller&Cole on April 29th as they are set to release their new EP. Special musical performances from Katie Pederson and Chad Mills.  \n$10 early bird tickets available on Eventbrite.  \nDoors at 7pm\nShow at 8pm\n21+ ONLY
URL:https://cottagehome.info/event/keller-cole-ep-release-w-katie-pederson-and-chad-mills/
LOCATION:Fountain Square Brewing Co.\, 1301 Barth Ave\, Indianapolis\, IN\, 46203\, United States
CATEGORIES:Local Business Events
ATTACH;FMTTYPE=image/jpeg:https://cottagehome.info/wp-content/uploads/2017/04/8e0c447182670739e3ee0d686f14e5d6.jpg
END:VEVENT
BEGIN:VEVENT
DTSTART;TZID=America/Indiana/Indianapolis:20170428T190000
DTEND;TZID=America/Indiana/Indianapolis:20170428T233000
DTSTAMP:20260424T141122
CREATED:20170418T161526Z
LAST-MODIFIED:20170427T172224Z
UID:10009322-1493406000-1493422200@cottagehome.info
SUMMARY:Pluto Revolts\, KIDS\, & Young Kingdom
DESCRIPTION:An evening of great rock music with Pluto Revolts\, KIDS\, and Young Kingdom!\nPluto Revolts: Labeled as “refreshing” and “one of the most dedicated artists in Cincinnati” (CincyMusic.com)\, this band is the definition of “rebirth\,” as singer Benjamin James describes the meaning behind the name parallels the groups origins in the wake of a band that once reached the majors\, and their capacity to thrive on reinvention by blending a near-limitless list of influences in pop\, alternative and rock.\nPluto Revolts: http://www.plutorevolts.com/\nK I D S: http://d.pr/i/5YS3\nYoung Kingdom: http://Youngkingdomindy.com/
URL:https://cottagehome.info/event/pluto-revolts-kids-young-kingdom/
LOCATION:Fountain Square Brewery\, 1301 Barth Avenue\, Indianapolis\, IN\, 46203\, United States
CATEGORIES:Local Business Events
ATTACH;FMTTYPE=image/jpeg:https://cottagehome.info/wp-content/uploads/2017/04/45d217382cbdd2eb365a326aa5555ecd.jpg
END:VEVENT
BEGIN:VEVENT
DTSTART;TZID=America/Indiana/Indianapolis:20170424T193000
DTEND;TZID=America/Indiana/Indianapolis:20170424T213000
DTSTAMP:20260424T141122
CREATED:20170420T163139Z
LAST-MODIFIED:20170424T170152Z
UID:10009317-1493062200-1493069400@cottagehome.info
SUMMARY:Off Topic and Friends at Fountain Square Brewery!
DESCRIPTION:Join Off Topic\, The Cat Bureau\, Steven Vincent Giles\, and Ann Marie Elliott at Fountain Square Brewery on Monday\, April 24th!  Comedy and beer\, together at last!  It’s guaranteed to be cat-tastic 🐱 \nAdmission is FREE!
URL:https://cottagehome.info/event/off-topic-and-friends-at-fountain-square-brewery/
LOCATION:Fountain Square Brewing Co.\, 1301 Barth Ave\, Indianapolis\, IN\, 46203\, United States
CATEGORIES:Local Business Events
ATTACH;FMTTYPE=image/jpeg:https://cottagehome.info/wp-content/uploads/2017/04/916360f87eda775226254e9ca12d3a02.jpg
END:VEVENT
BEGIN:VEVENT
DTSTART;TZID=America/Indiana/Indianapolis:20170423T150000
DTEND;TZID=America/Indiana/Indianapolis:20170423T170000
DTSTAMP:20260424T141122
CREATED:20170418T161525Z
LAST-MODIFIED:20170423T163802Z
UID:10009320-1492959600-1492966800@cottagehome.info
SUMMARY:Pints and Paint
DESCRIPTION:Spring is here so come join us for an easy to follow guided  painting where we learn\, laugh\, and drink beer! What a great way to spend your Sunday afternoon\, creating art with your friends! Spots are limited so hurry and buy your tickets.
URL:https://cottagehome.info/event/pints-and-paint/
LOCATION:Indy Arty Party\, 3121 N Kenwood Ave\, Indianapolis\, IN\, 46208\, United States
CATEGORIES:Local Business Events
ATTACH;FMTTYPE=image/jpeg:https://cottagehome.info/wp-content/uploads/2017/04/4114e4b9fafbba470e342a21f0c66bf4.jpg
END:VEVENT
BEGIN:VEVENT
DTSTART;TZID=America/Indiana/Indianapolis:20170422T210000
DTEND;TZID=America/Indiana/Indianapolis:20170422T235900
DTSTAMP:20260424T141122
CREATED:20170418T161523Z
LAST-MODIFIED:20170423T163802Z
UID:10009318-1492894800-1492905540@cottagehome.info
SUMMARY:Creme de les Femmes Presents: Express Yourself
DESCRIPTION:Creme de les Femmes is proud to present Express Yourself: a burlesque tribute to Madonna!  Get into the groove with us as we celebrate her Madjesty’s prolific discography and filmography!  This is sure to be one of our boldest\, sexiest and most exciting shows yet.  Our incredible guest performer list includes Desda Mae Q Moana\, Jaimee Spangle\, Pepper Mills\, and Bloomington drag queen Argenta Peron.  Also joining us is the incredibly talented Cleveland-based burlesque beauty Eliza Sidecar!  Keep an eye out for her two exciting workshops on Sunday. \nDon’t run away right when we “Take A Bow”- our show will be followed by audience member performed lip-sync battles hosted by our very own hostess with the most tits\, Gwen Sunkel! Duke it out to win fun prizes and bragging rights! \nDoors: 8pm\nShow: 9pm\nTickets: $10-$15\n21+
URL:https://cottagehome.info/event/creme-de-les-femmes-presents-express-yourself/
LOCATION:Fountain Square Brewing Co.\, 1301 Barth Ave\, Indianapolis\, IN\, 46203\, United States
CATEGORIES:Local Business Events
ATTACH;FMTTYPE=image/jpeg:https://cottagehome.info/wp-content/uploads/2017/04/68145a335d8007c165f50d85a7ea431e.jpg
END:VEVENT
END:VCALENDAR