BEGIN:VCALENDAR
VERSION:2.0
PRODID:-//Cottage Home Neighborhood Indianapolis - ECPv6.15.20//NONSGML v1.0//EN
CALSCALE:GREGORIAN
METHOD:PUBLISH
X-ORIGINAL-URL:https://cottagehome.info
X-WR-CALDESC:Events for Cottage Home Neighborhood Indianapolis
REFRESH-INTERVAL;VALUE=DURATION:PT1H
X-Robots-Tag:noindex
X-PUBLISHED-TTL:PT1H
BEGIN:VTIMEZONE
TZID:America/Indiana/Indianapolis
BEGIN:DAYLIGHT
TZOFFSETFROM:-0500
TZOFFSETTO:-0400
TZNAME:EDT
DTSTART:20160313T070000
END:DAYLIGHT
BEGIN:STANDARD
TZOFFSETFROM:-0400
TZOFFSETTO:-0500
TZNAME:EST
DTSTART:20161106T060000
END:STANDARD
BEGIN:DAYLIGHT
TZOFFSETFROM:-0500
TZOFFSETTO:-0400
TZNAME:EDT
DTSTART:20170312T070000
END:DAYLIGHT
BEGIN:STANDARD
TZOFFSETFROM:-0400
TZOFFSETTO:-0500
TZNAME:EST
DTSTART:20171105T060000
END:STANDARD
BEGIN:DAYLIGHT
TZOFFSETFROM:-0500
TZOFFSETTO:-0400
TZNAME:EDT
DTSTART:20180311T070000
END:DAYLIGHT
BEGIN:STANDARD
TZOFFSETFROM:-0400
TZOFFSETTO:-0500
TZNAME:EST
DTSTART:20181104T060000
END:STANDARD
END:VTIMEZONE
BEGIN:VEVENT
DTSTART;TZID=America/Indiana/Indianapolis:20170826T160000
DTEND;TZID=America/Indiana/Indianapolis:20170826T230000
DTSTAMP:20260424T044545
CREATED:20170427T232326Z
LAST-MODIFIED:20230913T224928Z
UID:10009405-1503763200-1503788400@cottagehome.info
SUMMARY:2017 Feast of Lanterns
DESCRIPTION:The official event page of the historic Near Eastside neighborhood festival. Presented By: John Boner Neighborhood Centers \nFeaturing live music\, artisans\, kids activities\, food trucks\, local breweries and more! \nhttp://www.indyfol.org\n#IndyFOL
URL:https://cottagehome.info/event/2017-feast-of-lanterns/
LOCATION:Spades Park – Indy Parks and Recreation\, 1800 Nowland Ave\, Indianapolis\, IN\, 46201\, United States
CATEGORIES:Nearby Neighborhood Events
ATTACH;FMTTYPE=image/jpeg:https://cottagehome.info/wp-content/uploads/2017/04/0f94d5549a7a8fd4c0117e5c9e321a09.jpg
END:VEVENT
END:VCALENDAR