BEGIN:VCALENDAR
VERSION:2.0
PRODID:-//Cottage Home Neighborhood Indianapolis - ECPv6.15.20//NONSGML v1.0//EN
CALSCALE:GREGORIAN
METHOD:PUBLISH
X-WR-CALNAME:Cottage Home Neighborhood Indianapolis
X-ORIGINAL-URL:https://cottagehome.info
X-WR-CALDESC:Events for Cottage Home Neighborhood Indianapolis
REFRESH-INTERVAL;VALUE=DURATION:PT1H
X-Robots-Tag:noindex
X-PUBLISHED-TTL:PT1H
BEGIN:VTIMEZONE
TZID:America/Indiana/Indianapolis
BEGIN:DAYLIGHT
TZOFFSETFROM:-0500
TZOFFSETTO:-0400
TZNAME:EDT
DTSTART:20210314T070000
END:DAYLIGHT
BEGIN:STANDARD
TZOFFSETFROM:-0400
TZOFFSETTO:-0500
TZNAME:EST
DTSTART:20211107T060000
END:STANDARD
BEGIN:DAYLIGHT
TZOFFSETFROM:-0500
TZOFFSETTO:-0400
TZNAME:EDT
DTSTART:20220313T070000
END:DAYLIGHT
BEGIN:STANDARD
TZOFFSETFROM:-0400
TZOFFSETTO:-0500
TZNAME:EST
DTSTART:20221106T060000
END:STANDARD
BEGIN:DAYLIGHT
TZOFFSETFROM:-0500
TZOFFSETTO:-0400
TZNAME:EDT
DTSTART:20230312T070000
END:DAYLIGHT
BEGIN:STANDARD
TZOFFSETFROM:-0400
TZOFFSETTO:-0500
TZNAME:EST
DTSTART:20231105T060000
END:STANDARD
END:VTIMEZONE
BEGIN:VEVENT
DTSTART;TZID=America/Indiana/Indianapolis:20221110T183000
DTEND;TZID=America/Indiana/Indianapolis:20221110T203000
DTSTAMP:20260423T220212
CREATED:20221017T190321Z
LAST-MODIFIED:20230207T202636Z
UID:10009627-1668105000-1668112200@cottagehome.info
SUMMARY:Square Dance Party
DESCRIPTION:Neighbors are invited to attend the second Square Dance Party in Cottage Home.\n\n\n\nAll ages welcome. No experience necessary. \n\n\n\nCome and learn how to square dance and have fun with neighbors and friends.  The event is free but donations are welcome. \n\n\n\nEvent Cost\n\n\n\n\n\n\n\n\n\n\n\nEvent Venue\n\n\n\n\n\nUSE THE SOUTH SIDE DOOR #8 \n\n\n\n\n\n\n\n\n\n\n\n\n\n\n\n\n\n\n\n\n\n\nSign up for the Square Dance Party\n\n\n\n\n\n\n\n\n    Name\n        *\n    \n    \n    First\n    \n\n\n    Last Name\n        \n    \n    \n    Last\n    \n\n\n    Will you be attending?\n        *\n    \n    					\n					 Yes\n					\n					 No\n\n    \n    \n\n\n    How many additional guests?\n        \n    \n    \n    \n    \n\n\n    Comments or Questions\n        \n    \n    \n    \n    \n\n	\n			\n			\n				If you are human\, leave this field blank.			\n			\n		\n		\n\nSign Up Now\n\n\n\n\n\nΔ \n\n\n\n\nEvent Organizer
URL:https://cottagehome.info/event/square-dance-party-2/
LOCATION:Paramount Cottage Home\, 1203 East St Clair Street\, Indianapolis\, IN\, 46202\, United States
CATEGORIES:CoHo Neighborhood Events,Social
ATTACH;FMTTYPE=image/jpeg:https://cottagehome.info/wp-content/uploads/2022/10/square-dance-party-2.jpg
ORGANIZER;CN="Dan Doll":MAILTO:dantheman685@hotmail.com
END:VEVENT
BEGIN:VEVENT
DTSTART;TZID=America/Indiana/Indianapolis:20221013T183000
DTEND;TZID=America/Indiana/Indianapolis:20221013T203000
DTSTAMP:20260423T220212
CREATED:20221202T163526Z
LAST-MODIFIED:20230207T211038Z
UID:10009475-1665685800-1665693000@cottagehome.info
SUMMARY:Square Dance Party October 13
DESCRIPTION:Neighbors are invited to attend the first Square Dance Party in Cottage Home.\n\n\n\nAll ages welcome. No experience necessary. \n\n\n\nCome and learn how to square dance and have fun with neighbors and friends.  The event is free but donations are welcome. \n\n\n\nEvent Cost\n\n\n\n\n\n\n\n\n\n\n\nEvent Venue\n\n\n\n\n\nUSE THE EAST DOOR #8 \n\n\n\n\n\n\n\n\n\n\n\n\n\n\nSign up for the Square Dance Party\n\n\n\n\n\n\n\n\n    Name\n        *\n    \n    \n    First\n    \n\n\n    Last Name\n        \n    \n    \n    Last\n    \n\n\n    Will you be attending?\n        *\n    \n    					\n					 Yes\n					\n					 No\n\n    \n    \n\n\n    How many additional guests?\n        \n    \n    \n    \n    \n\n\n    Comments or Questions\n        \n    \n    \n    \n    \n\n	\n			\n			\n				If you are human\, leave this field blank.			\n			\n		\n		\n\nSign Up Now\n\n\n\n\n\nΔ \n\n\n\n\nEvent Organizer
URL:https://cottagehome.info/event/square-dance-party-october-13/
LOCATION:Paramount Cottage Home\, 1203 East St Clair Street\, Indianapolis\, IN\, 46202\, United States
CATEGORIES:CoHo Neighborhood Events,Social
ATTACH;FMTTYPE=image/jpeg:https://cottagehome.info/wp-content/uploads/2022/09/square-dance-party.jpg
ORGANIZER;CN="Dan Doll":MAILTO:dantheman685@hotmail.com
END:VEVENT
END:VCALENDAR