BEGIN:VCALENDAR
VERSION:2.0
PRODID:-//Cottage Home Neighborhood Indianapolis - ECPv6.15.20//NONSGML v1.0//EN
CALSCALE:GREGORIAN
METHOD:PUBLISH
X-ORIGINAL-URL:https://cottagehome.info
X-WR-CALDESC:Events for Cottage Home Neighborhood Indianapolis
REFRESH-INTERVAL;VALUE=DURATION:PT1H
X-Robots-Tag:noindex
X-PUBLISHED-TTL:PT1H
BEGIN:VTIMEZONE
TZID:America/Indiana/Indianapolis
BEGIN:DAYLIGHT
TZOFFSETFROM:-0500
TZOFFSETTO:-0400
TZNAME:EDT
DTSTART:20160313T070000
END:DAYLIGHT
BEGIN:STANDARD
TZOFFSETFROM:-0400
TZOFFSETTO:-0500
TZNAME:EST
DTSTART:20161106T060000
END:STANDARD
BEGIN:DAYLIGHT
TZOFFSETFROM:-0500
TZOFFSETTO:-0400
TZNAME:EDT
DTSTART:20170312T070000
END:DAYLIGHT
BEGIN:STANDARD
TZOFFSETFROM:-0400
TZOFFSETTO:-0500
TZNAME:EST
DTSTART:20171105T060000
END:STANDARD
BEGIN:DAYLIGHT
TZOFFSETFROM:-0500
TZOFFSETTO:-0400
TZNAME:EDT
DTSTART:20180311T070000
END:DAYLIGHT
BEGIN:STANDARD
TZOFFSETFROM:-0400
TZOFFSETTO:-0500
TZNAME:EST
DTSTART:20181104T060000
END:STANDARD
END:VTIMEZONE
BEGIN:VEVENT
DTSTART;TZID=America/Indiana/Indianapolis:20171014T140000
DTEND;TZID=America/Indiana/Indianapolis:20171014T200000
DTSTAMP:20260424T102136
CREATED:20170417T022757Z
LAST-MODIFIED:20170711T130233Z
UID:10009192-1507989600-1508011200@cottagehome.info
SUMMARY:Midnight Mash\, Block Party Bash
DESCRIPTION:The annual Cottage Home Neighborhood Fall Block Party is the best party in town!  \nWHEN: Saturday\, October 14th\, 5-11pm\n———-\nWHERE: Highland Ave. and Dorman St. between E. St. Clair & North St. (714 N. Highland Ave.)\n———-\nFOOD TRUCKS:\nBettis BBQ & the Corn Man\, Cosmic Chrome Cafe\, Cottage Home food booth\, Duos Indy\, General American Donut Company\, Gordon’s Ice Cream Parlor\, Scully Culinary (brick oven pizza & hamburgers)\n———-\nBEVERAGES:\nFlat12 Bierwerks Indianapolis\, Mass Ave Wine\, New Day Craft\n———-\nSPONSORED BY:\n(details coming soon)\n———-\nART VENDORS:\n(details coming soon)\n———-\nMUSIC SCHEDULE:\nDorman Street Stage\n5:00 – 6:15 DJ Kyle Long\n6:30 – 7:30 The Midtown Mad Men\n7:45 – 8:45 Pork & Beans Brass Band\n9:00 – 11:00 Squires Family Band \nCommunity Space Stage\n5:00 – 5:30 (30 min) Silly Safaris Shows Inc (live animal show for the kids!)\n5:45 – 6:15 (30 min) Rocky Bassoon (Tentative)\n6:30 – 7:45 (75 min) DJ Andy Capps\n8:00 – 9:00 (60 min) Tucker Brothers Group\n9:15 – 11:00 (105 min) Louie Louie\n———-\nKIDS ACTIVITIES in the playground\n(details coming soon)\n———-\nOTHER ACTIVITIES\nLawn Twister\nLawn Yahtzee\nRing Toss\nJumbo Jenga\nCornhole\nJumbo Connect Four\nRing on a String\n———-\nABOUT:\nCottage Home Neighborhood Association invites the public to attend their annual block party on Saturday\, October 14th from 5:00-11:00 p.m. This Halloween-themed party is held between the 700 blocks of Dorman Street and Highland Avenue\, just south of E. St. Clair Street. The party takes place on Dorman Street\, in the playground and in the community space; with a back drop that includes the wonderful 1890 Ruskaup Mansion\, designed by Vonnegut & Bohn\, as well as various Victorian-era cottages sprinkled throughout. Dorman Street\, Cottage Home’s community owned playground and community space\, featuring its newly built shelter will feature a host of activities throughout the entire event\, with the musical styling of various local musicians on 2 stages\, local artists and other vendors peppering the well lit and highly decorated areas. \nChildren of all ages are encouraged to wear Halloween costumes\, and enjoy the horse drawn hay rides\, pudding eating contest and other kids games and other activities. Food and beverages will be available from a variety of vendors. \nThis magical event is FREE to the public. However\, for those that can afford it\, a suggested donation of $5.00 helps pay for event expenses\, entertainment\, and future neighborhood projects. Proceeds will include helping the continued development of the Cottage Home neighborhood.
URL:https://cottagehome.info/event/cottage-home-block-party/
END:VEVENT
BEGIN:VEVENT
DTSTART;TZID=America/Indiana/Indianapolis:20170812T160000
DTEND;TZID=America/Indiana/Indianapolis:20170812T220000
DTSTAMP:20260424T102136
CREATED:20170507T061700Z
LAST-MODIFIED:20170711T130233Z
UID:10009419-1502553600-1502575200@cottagehome.info
SUMMARY:CoHo Jungle Gym Jam
DESCRIPTION:Join the Cottage Home Neighborhood Association and members as we celebrate the kids in our community with a celebration of music\, food and fun. This is a free event but donations will be accepted and appreciated. All proceeds will go towards funding our Community Playground\, a public space for children to play.
URL:https://cottagehome.info/event/coho-jungle-gym-jam/
LOCATION:Cottage Home Neighborhood\, 714 N Highland Ave\, Indianapolis\, IN\, 46202\, United States
END:VEVENT
BEGIN:VEVENT
DTSTART;TZID=America/Indiana/Indianapolis:20170722T183000
DTEND;TZID=America/Indiana/Indianapolis:20170722T220000
DTSTAMP:20260424T102136
CREATED:20170711T130233Z
LAST-MODIFIED:20170711T130233Z
UID:10009388-1500748200-1500760800@cottagehome.info
SUMMARY:Christmas in July
DESCRIPTION:The weather outside is delightful and we have a fun place to go! Come out\, celebrate summer and spread holiday cheer with CoHomies during the Christmas in July party! \nThere will be music\, food\, games\, gift exchange\, ugly sweater contest\, a movie and more!
URL:https://cottagehome.info/event/christmas-in-july/
LOCATION:Cottage Home Neighborhood\, 714 N Highland Ave\, Indianapolis\, IN\, 46202\, United States
END:VEVENT
BEGIN:VEVENT
DTSTART;TZID=America/Indiana/Indianapolis:20170624T160000
DTEND;TZID=America/Indiana/Indianapolis:20170624T220000
DTSTAMP:20260424T102136
CREATED:20170507T061657Z
LAST-MODIFIED:20230614T160341Z
UID:10009417-1498320000-1498341600@cottagehome.info
SUMMARY:CoHo Reggae Party
DESCRIPTION:In the mood for a Caribbean getaway? Well look no further than right here at Cottage Home! Our Reggae Party features the sounds our very own Andy Beck\, a.k.a. DJ Andy Capps\, who spins authentic reggae music that will have you dancing all night long. You will also find plenty of delicious food\, great local beer and wine\, and an abundance of fun! This is a free event but we do accept and appreciate donations. All proceeds go toward neighborhood and community improvement projects.
URL:https://cottagehome.info/event/coho-reggae-party/
LOCATION:Cottage Home Neighborhood\, 714 N Highland Ave\, Indianapolis\, IN\, 46202\, United States
ATTACH;FMTTYPE=image/jpeg:https://cottagehome.info/wp-content/uploads/2017/05/20daf75aac170090d12db692656d2903.jpg
END:VEVENT
BEGIN:VEVENT
DTSTART;TZID=America/Indiana/Indianapolis:20170624T080000
DTEND;TZID=America/Indiana/Indianapolis:20170624T140000
DTSTAMP:20260424T102136
CREATED:20170507T061654Z
LAST-MODIFIED:20170520T073120Z
UID:10009373-1498291200-1498312800@cottagehome.info
SUMMARY:CoHo Flea Market/Yard Sale
DESCRIPTION:Cottage Home Neighborhood Association will hold a flea market and yard sale event on June 24 before the Reggae Party. Yard sales will be held at neighbor’s homes and the flea market will be held in the Community Space. The neighborhood association is asking for donations of items which can be sold at the flea market to raise money for the neighborhood. Those neighbors participating in the yard sale are asked to donate $20 to help pay for advertising and signage for the event. After 2:00 pm all items not sold at yard sales may be donated to the flea makret which will continue throughout the day into the Reggae Party.
URL:https://cottagehome.info/event/coho-flea-marketyard-sale/
LOCATION:Cottage Home Neighborhood\, 714 N Highland Ave\, Indianapolis\, IN\, 46202\, United States
ATTACH;FMTTYPE=image/jpeg:https://cottagehome.info/wp-content/uploads/2017/05/a45054660b6a9ff566de62e522e50a76.jpg
END:VEVENT
END:VCALENDAR