BEGIN:VCALENDAR
VERSION:2.0
PRODID:-//Cottage Home Neighborhood Indianapolis - ECPv6.15.20//NONSGML v1.0//EN
CALSCALE:GREGORIAN
METHOD:PUBLISH
X-WR-CALNAME:Cottage Home Neighborhood Indianapolis
X-ORIGINAL-URL:https://cottagehome.info
X-WR-CALDESC:Events for Cottage Home Neighborhood Indianapolis
REFRESH-INTERVAL;VALUE=DURATION:PT1H
X-Robots-Tag:noindex
X-PUBLISHED-TTL:PT1H
BEGIN:VTIMEZONE
TZID:America/Indiana/Indianapolis
BEGIN:DAYLIGHT
TZOFFSETFROM:-0500
TZOFFSETTO:-0400
TZNAME:EDT
DTSTART:20200308T070000
END:DAYLIGHT
BEGIN:STANDARD
TZOFFSETFROM:-0400
TZOFFSETTO:-0500
TZNAME:EST
DTSTART:20201101T060000
END:STANDARD
BEGIN:DAYLIGHT
TZOFFSETFROM:-0500
TZOFFSETTO:-0400
TZNAME:EDT
DTSTART:20210314T070000
END:DAYLIGHT
BEGIN:STANDARD
TZOFFSETFROM:-0400
TZOFFSETTO:-0500
TZNAME:EST
DTSTART:20211107T060000
END:STANDARD
BEGIN:DAYLIGHT
TZOFFSETFROM:-0500
TZOFFSETTO:-0400
TZNAME:EDT
DTSTART:20220313T070000
END:DAYLIGHT
BEGIN:STANDARD
TZOFFSETFROM:-0400
TZOFFSETTO:-0500
TZNAME:EST
DTSTART:20221106T060000
END:STANDARD
BEGIN:DAYLIGHT
TZOFFSETFROM:-0500
TZOFFSETTO:-0400
TZNAME:EDT
DTSTART:20230312T070000
END:DAYLIGHT
BEGIN:STANDARD
TZOFFSETFROM:-0400
TZOFFSETTO:-0500
TZNAME:EST
DTSTART:20231105T060000
END:STANDARD
BEGIN:DAYLIGHT
TZOFFSETFROM:-0500
TZOFFSETTO:-0400
TZNAME:EDT
DTSTART:20240310T070000
END:DAYLIGHT
BEGIN:STANDARD
TZOFFSETFROM:-0400
TZOFFSETTO:-0500
TZNAME:EST
DTSTART:20241103T060000
END:STANDARD
END:VTIMEZONE
BEGIN:VEVENT
DTSTART;TZID=America/Indiana/Indianapolis:20231014T170000
DTEND;TZID=America/Indiana/Indianapolis:20231014T230000
DTSTAMP:20260423T234727
CREATED:20230606T214002Z
LAST-MODIFIED:20231012T170659Z
UID:10009658-1697302800-1697324400@cottagehome.info
SUMMARY:Cottage Home Block Party 2023
DESCRIPTION:Don’t Miss the 2023 Cottage Home Block Party! Saturday\, October 14th Cottage Home Neighborhood Association invites the public to attend their annual block party on Saturday\, October 14th from 5:00 – 11:00 p.m. at the Cottage Home Community Space – 714 N Highland Ave\, Indianapolis\, IN 46202.This Halloween-themed party is held between the 700 block of Dorman Street and Highland Avenue\, just south of E. St. Clair Street. The party takes place on Dorman Street\, in the playground and in the community space; with a back drop that includes the wonderful 1890 Ruskaup Mansion\, designed by Vonnegut & Bohn\, as well as various Victorian-era cottages sprinkled throughout. \n\n\n\nMusic\, Kid’s Activities\, Artist VendorsDorman Street\, Cottage Home’s community owned playground and community space\, will feature a host of activities throughout the entire event\, with the musical styling of various local musicians on 2 stages\, local artists and other vendors peppering the well lit and highly decorated areas.  Food\, beer and wine will be available from a variety of vendors. Hannah Hedgehog will be performing at the Kids’ Stage. \n\n\n\n\nHalloween costumes encouraged\n\n\n\nChildren of all ages are encouraged to wear Halloween costumes. \n\n\n\n\n\n\n\nLocation\n\n\n\n\n\n\n\n\n\n\n\n\nOrganizer\n\n\n\n\n\n\n\n\n\n\n\n\n\nSponsor Information\n\n\n\n\n\n\n\nBig thanks to our Generous Sponsors! \n\n\n\n\n\n\n\n\n\n\n\n\nMain Stage Sponsor\n\n\n\n\n\nMain Event Sponsor\n\n\n\n\n\nLarge Sponsor\n\n\n\n\n\n\n\n\n\n\n\n\n\n\n\n\n\n\n\n\n\n\nEvent Price\n\n\n\n\n\n\n\nFREE \n\n\n\nThis magical event is FREE to the public. However\, for those that can afford it\, a suggested donation of $5.00 helps pay for event expenses\, entertainment\, and future neighborhood projects.  \n\n\n\nProceeds will include helping the continued development of Cottage Home’s community space\, beehive\, green gathering space and gardens (including vegetables\, herbs\, wildflowers and fruit trees)\, all of which will bring a unique rural meets urban atmosphere for residents and friends of Cottage Home to enjoy well into the future. \n\n\n\n\n\n\n\nVolunteer Information\n\n\n\n\n\n\n\nThank you for considering giving the gift of your time and energy. It takes so many people working together to pull off our event and we’re looking forward to working alongside you.  \n\n\n\nWe need help on: \n\n\n\n\nTuesday\, October 3rd\n\n\n\nFriday\, October 13th\n\n\n\nSaturday\, October 14th\n\n\n\n\nSign Up Here\n\n\n\n\n\n\n\nIf you have any questions about volunteering please contact cohoblockparty@gmail.com. \n\n\n\n\n\nEvent Schedule\n\n\n\n\n\n\n\nDorman Street Stage Lineup: \n\n\n\nEmcee:  \n\n\n\nTimeEntertainment5:15 – 6:30 PMWayward Pilots6:45 – 7:45 PMMidtown Madmen8:00 – 9:00 PMPork & Beans Brass Band9:30 – 11 PMKarmaF8f8f8\n\n\n\n\n\n\n\nCommunity Space Stage Lineup: \n\n\n\nEmcee:  \n\n\n\nTimeEntertainment5:15 – 6:30 PM Jeff Bowen           6:45 – 7:45 PM The Dog Moms 8:00 – 9:00 PM Audio Guild 9:30 – 11:00 PM Grupo Bembe  \n\n\n\n\n\n\n\n\n\n\n\nKid’s Game Area: \n\n\n\nTime   Entertainment6:00 PM   Hedgehog Hannah          \n\n\n\n\n\n\n\nVendors\n\n\n\n\n\n\n\nArtist Vendors:The Rugged PressPierre’s ClosetTusk and TemperanceFarrand Fine ArtBody Eceltic Skin CareYellow Door CeramicsBumble and BirdAlison Emery ArtSunday Afternoon HousewifeLaura Uhls Art\n\n\n\n\n\n\n\n\n\nArtist Vendors:Papier-mâché Halloween decorRare BrewCopper Sky StudioTravis OwensLil Boat BoutiqueMae BloomJocelyn GlanzmanPale Fox DesignsPure Barre Indy
URL:https://cottagehome.info/event/block-party-2023/
LOCATION:Cottage Home Community Space\, 714 N. Highland Avenue\, Indianapolis\, IN\, United States
CATEGORIES:Block Party,CoHo Neighborhood Events
ATTACH;FMTTYPE=image/jpeg:https://cottagehome.info/wp-content/uploads/2023/06/FB_IMG_1665365633392.jpg
ORGANIZER;CN="Cottage Home Block Party":MAILTO:cohoblockparty@gmail.com
END:VEVENT
BEGIN:VEVENT
DTSTART;TZID=America/Indiana/Indianapolis:20211009T170000
DTEND;TZID=America/Indiana/Indianapolis:20211009T230000
DTSTAMP:20260423T234727
CREATED:20210804T211500Z
LAST-MODIFIED:20220806T184745Z
UID:10009459-1633798800-1633820400@cottagehome.info
SUMMARY:Cottage Home Block Party 2021
DESCRIPTION:Cottage Home Neighborhood Association invites the public to attend their annual block party on Saturday\, October 12th from 5:00-11:00 p.m. \n\n\n\nThis Halloween-themed party is held between the 700 blocks of Dorman Street and Highland Avenue\, just south of E. St. Clair Street. The party takes place on Dorman Street\, in the playground and in the community space; with a back drop that includes the wonderful 1890 Ruskaup Mansion\, designed by Vonnegut & Bohn\, as well as various Victorian-era cottages sprinkled throughout. \n\n\n\nDorman Street\, Cottage Home’s community owned playground and community space\, will feature a host of activities throughout the entire event\, with the musical styling of various local musicians on 2 stages\, local artists and other vendors peppering the well lit and highly decorated areas. \n\n\n\nFood\, beer\, and wine will be available from a variety of vendors.  \n\n\n\n\n\n\n\n \n\n\n\n\n\n\n\n\n\n Children of all ages are encouraged to wear Halloween costumes. \n\n\n\n \n\n\n\n \n\n\n\n \n\n\n\n \n\n\n\n\n\n\n\nEvent Venue\n\n\n\n\n\n\n\n\n\n \n\n\n\n\n\nEvent Organizer\n\n\n\n\n\n\n\n\n\n\n\n\n\nEvent Price\n\n\n\n\n\n\n\nFREE \n\n\n\nThis magical event is FREE to the public. However\, for those that can afford it\, a suggested donation of $5.00 helps pay for event expenses\, entertainment\, and future neighborhood projects.  \n\n\n\nProceeds will include helping the continued development of Cottage Home’s community space\, beehive\, green gathering space and gardens (including vegetables\, herbs\, wildflowers and fruit trees)\, all of which will bring a unique rural meets urban atmosphere for residents and friends of Cottage Home to enjoy well into the future. \n\n\n\n\n\n\n\n \n\n\n\n\n\n\n\nEvent Schedule\n\n\n\n\n\n\n\nDorman Street Stage Lineup: \n\n\n\nTimeEntertainment5:00 PM D. J. Kyle Long 6:30 PM Manners Please & Jennasen8:00 PM Pork & Beans Brass Band9:30 PM Karma \n\n\n\n\n\n\n\nCommunity Space Stage Lineup: \n\n\n\nTimeEntertainment5:00 PMThe Dog Moms 6:30 PM D. J. Kyle Long  8:00 PM Audio Guild Band9:30 PM 45 RPM \n\n\n\n\n\n\n\n\n\n\n\n\nVolunteer Information\n\n\n\n\n\n\n\nVolunteer here. \n\n\n\nThank you for considering giving the gift of your time and energy. It takes so many people working together to pull off our event and we’re looking forward to working alongside you. If you have any questions about volunteering please contact cohoblockparty@gmail.com \n\n\n\nVolunteers are needed for these dates: \n\n\n\nSat Sep 25\, 2021 \n\n\n\nThu Oct 7\, 2021 \n\n\n\nFri Oct 8\, 2021 \n\n\n\nSat Oct 9\, 2021 \n\n\n\n\n\n\n\n\n\n\nSponsor Information\n\n\n\n\n\n\n\nBig thanks to our Generous Sponsors! \n\n\n\n \n\n\n\n\n\n\n\nMAIN SPONSORS\n\n\n\n\n\n\n\n\n\nCompendium LLC\n\n\n\n \n\n\n\n\n\nJess Martin of Maywright Property Co.\n\n\n\n\n\n\n\n\n\n\n\n\n\nMID-LEVEL SPONSORS\n\n\n\n\n\n\n\n\n\n\nHomespun Modern Handmade\n\n\n\n\n\n\nMoonshot Games\n\n\n\n \n\n\n\n\n\nSilver in the City\n\n\n\n \n\n\n\n\n\n\n\n\n\n\n\n\n\nSPONSORS\n\n\n\n\n\n\n\n\n\nAAA Roofing \n\n\n\nBlettner Engineering \n\n\n\nHeath Outdoor \n\n\n\nMass Ave. Pub   \n\n\n\n\n\nNorth Mass Boulder \n\n\n\nParamount School of Excellence Cottage Home \n\n\n\nRick Smith State Farm Agency \n\n\n\nStomping Ground
URL:https://cottagehome.info/event/cottage-home-block-party-2021/
CATEGORIES:CoHo Neighborhood Events,Fundraising
ATTACH;FMTTYPE=image/jpeg:https://cottagehome.info/wp-content/uploads/2021/08/12068437_10153634549018480_2337257168489276418_o.jpg
ORGANIZER;CN="Cottage Home Block Party":MAILTO:cohoblockparty@gmail.com
END:VEVENT
END:VCALENDAR