BEGIN:VCALENDAR
VERSION:2.0
PRODID:-//Cottage Home Neighborhood Indianapolis - ECPv6.15.20//NONSGML v1.0//EN
CALSCALE:GREGORIAN
METHOD:PUBLISH
X-WR-CALNAME:Cottage Home Neighborhood Indianapolis
X-ORIGINAL-URL:https://cottagehome.info
X-WR-CALDESC:Events for Cottage Home Neighborhood Indianapolis
REFRESH-INTERVAL;VALUE=DURATION:PT1H
X-Robots-Tag:noindex
X-PUBLISHED-TTL:PT1H
BEGIN:VTIMEZONE
TZID:America/Indiana/Indianapolis
BEGIN:DAYLIGHT
TZOFFSETFROM:-0500
TZOFFSETTO:-0400
TZNAME:EDT
DTSTART:20220313T070000
END:DAYLIGHT
BEGIN:STANDARD
TZOFFSETFROM:-0400
TZOFFSETTO:-0500
TZNAME:EST
DTSTART:20221106T060000
END:STANDARD
BEGIN:DAYLIGHT
TZOFFSETFROM:-0500
TZOFFSETTO:-0400
TZNAME:EDT
DTSTART:20230312T070000
END:DAYLIGHT
BEGIN:STANDARD
TZOFFSETFROM:-0400
TZOFFSETTO:-0500
TZNAME:EST
DTSTART:20231105T060000
END:STANDARD
BEGIN:DAYLIGHT
TZOFFSETFROM:-0500
TZOFFSETTO:-0400
TZNAME:EDT
DTSTART:20240310T070000
END:DAYLIGHT
BEGIN:STANDARD
TZOFFSETFROM:-0400
TZOFFSETTO:-0500
TZNAME:EST
DTSTART:20241103T060000
END:STANDARD
END:VTIMEZONE
BEGIN:VEVENT
DTSTART;TZID=America/Indiana/Indianapolis:20230715T100000
DTEND;TZID=America/Indiana/Indianapolis:20230715T160000
DTSTAMP:20260423T215234
CREATED:20230614T150833Z
LAST-MODIFIED:20230614T155033Z
UID:10009660-1689415200-1689436800@cottagehome.info
SUMMARY:Raiders of the Lost Antiques
DESCRIPTION:Cottage Home Neighborhood is coordinating a neighborhood yardsale at the Community Space as part of the Raiders of the Lost Antiques event. Check out our yardsale to purchase fun and desired items while helping raise funds for our community.  \n\n\n\nThe event is free and this location can be added to the passport for a Gift Card from Raiders of the Lost Antiques.If you are a Cottage Home neighbor and would like to sell at this event\, please contact CHNAconservation@gmail.com \n\n\n\n\n\n\n\n\n\n\n\n\n\n\n\n\n\nFind out more
URL:https://cottagehome.info/event/raiders-of-the-lost-antiques/
LOCATION:Cottage Home Community Space\, 714 N. Highland Avenue\, Indianapolis\, IN\, United States
CATEGORIES:CoHo Neighborhood Events,Fundraising
ATTACH;FMTTYPE=image/jpeg:https://cottagehome.info/wp-content/uploads/2023/06/RaiderofLostAntiquesHeader-1.jpg
ORGANIZER;CN="Conservation Committee":MAILTO:CHNAConservation@gmail.com
END:VEVENT
END:VCALENDAR