BEGIN:VCALENDAR
VERSION:2.0
PRODID:-//Cottage Home Neighborhood Indianapolis - ECPv6.15.20//NONSGML v1.0//EN
CALSCALE:GREGORIAN
METHOD:PUBLISH
X-WR-CALNAME:Cottage Home Neighborhood Indianapolis
X-ORIGINAL-URL:https://cottagehome.info
X-WR-CALDESC:Events for Cottage Home Neighborhood Indianapolis
REFRESH-INTERVAL;VALUE=DURATION:PT1H
X-Robots-Tag:noindex
X-PUBLISHED-TTL:PT1H
BEGIN:VTIMEZONE
TZID:America/Indiana/Indianapolis
BEGIN:DAYLIGHT
TZOFFSETFROM:-0500
TZOFFSETTO:-0400
TZNAME:EDT
DTSTART:20160313T070000
END:DAYLIGHT
BEGIN:STANDARD
TZOFFSETFROM:-0400
TZOFFSETTO:-0500
TZNAME:EST
DTSTART:20161106T060000
END:STANDARD
BEGIN:DAYLIGHT
TZOFFSETFROM:-0500
TZOFFSETTO:-0400
TZNAME:EDT
DTSTART:20170312T070000
END:DAYLIGHT
BEGIN:STANDARD
TZOFFSETFROM:-0400
TZOFFSETTO:-0500
TZNAME:EST
DTSTART:20171105T060000
END:STANDARD
BEGIN:DAYLIGHT
TZOFFSETFROM:-0500
TZOFFSETTO:-0400
TZNAME:EDT
DTSTART:20180311T070000
END:DAYLIGHT
BEGIN:STANDARD
TZOFFSETFROM:-0400
TZOFFSETTO:-0500
TZNAME:EST
DTSTART:20181104T060000
END:STANDARD
END:VTIMEZONE
BEGIN:VEVENT
DTSTART;TZID=America/Indiana/Indianapolis:20170512T170000
DTEND;TZID=America/Indiana/Indianapolis:20170512T200000
DTSTAMP:20260424T120814
CREATED:20170501T145052Z
LAST-MODIFIED:20170505T145655Z
UID:10009367-1494608400-1494619200@cottagehome.info
SUMMARY:Pints for Performance: Lawrence Central Performing Arts Assoc.
DESCRIPTION:$1 from every pint sold will be donated to the Lawrence Central Performing Arts Association! \nCosmic Chrome Cafe will be serving snacks and dinner! \nWe seek support from individuals and community businesses to help sustain Lawrence Central’s nationally recognized Performing Arts Program. These award winning arts programs—including band\, choir\, orchestra\, theater\, dance and color guard—provide extraordinary educational opportunities for our children. In the current economic environment\, many LC families are finding it increasingly difficult to pay the fees necessary for their children to participate in the school’s award winning ensembles.  We ask your support to keep LC’s music and arts programs affordable for all students who desire to participate in and receive the educational benefits from these experiences. \nThis fundraiser is 21+.
URL:https://cottagehome.info/event/pints-for-performance-lawrence-central-performing-arts-assoc/
LOCATION:Centerpoint Brewing\, 1125 E Brookside Ave\, Ste B2\, Indianapolis\, IN\, 46202\, United States
CATEGORIES:Local Business Events
ATTACH;FMTTYPE=image/jpeg:https://cottagehome.info/wp-content/uploads/2017/05/81aff1342f2ab46b429d1557b1d59c3d.jpg
END:VEVENT
BEGIN:VEVENT
DTSTART;TZID=America/Indiana/Indianapolis:20170504T190000
DTEND;TZID=America/Indiana/Indianapolis:20170504T210000
DTSTAMP:20260424T120814
CREATED:20170429T143510Z
LAST-MODIFIED:20170504T145210Z
UID:10009363-1493924400-1493931600@cottagehome.info
SUMMARY:Trivia Night!
DESCRIPTION:Every Thursday | 7pm-9pm | Free-to-Play | Prizes | 21+ \nClusterTruck menus and discount codes available for dinner! \nBring along a group of friends\, use your wit to come up with a team name\, and answer trivia questions to win! Use your knowledge and strategy\, and enjoy a couple beers along the way. Prize gift cards will be awared to the team(s) with the final top scores! \n“The cure for the common night out! Indy’s Live Trivia is a FREE trivia game to play with you and your friends as a TEAM. The game is simple to play\, although some of the questions may not be. You and your friends sign up as a team and compete against other teams. The host poses a question and plays a song; your team has the duration of that song to come up with an answer and a point value. There are five rounds of four questions and you can use each point value once per round. That’s it\, that simple! Or is it? It just depends on how much you had to drink from the fountain of knowledge.”
URL:https://cottagehome.info/event/trivia-night/
LOCATION:Centerpoint Brewing\, 1125 E Brookside Ave\, Ste B2\, Indianapolis\, IN\, 46202\, United States
CATEGORIES:Local Business Events
ATTACH;FMTTYPE=image/jpeg:https://cottagehome.info/wp-content/uploads/2017/04/9023b03f1a44c9cab4b667d17272ea5d.jpg
END:VEVENT
BEGIN:VEVENT
DTSTART;TZID=America/Indiana/Indianapolis:20170427T190000
DTEND;TZID=America/Indiana/Indianapolis:20170427T210000
DTSTAMP:20260424T120814
CREATED:20170426T140748Z
LAST-MODIFIED:20170427T142436Z
UID:10009384-1493319600-1493326800@cottagehome.info
SUMMARY:Trivia Night! + Cosmic Chrome Cafe
DESCRIPTION:Thursdays | 7pm-9pm | Free-to-Play | Prizes | 21+ \nCosmic Chrome Cafe food truck will be on site for snacks and dinner!\nHosted by Indy’s Live Trivia. \nBring along a group of friends\, use your wit to come up with a team name\, and answer trivia questions to win! Use your knowledge and strategy\, and enjoy a couple beers along the way. Prize gift cards will be awared to the team(s) with the final top scores! \n“The cure for the common night out! Indy’s Live Trivia is a FREE trivia game to play with you and your friends as a TEAM. The game is simple to play\, although some of the questions may not be. You and your friends sign up as a team and compete against other teams. The host poses a question and plays a song; your team has the duration of that song to come up with an answer and a point value. There are five rounds of four questions and you can use each point value once per round. That’s it\, that simple! Or is it? It just depends on how much you had to drink from the fountain of knowledge.”
URL:https://cottagehome.info/event/trivia-night-cosmic-chrome-cafe/
LOCATION:Centerpoint Brewing\, 1125 E Brookside Ave\, Ste B2\, Indianapolis\, IN\, 46202\, United States
CATEGORIES:Local Business Events
ATTACH;FMTTYPE=image/jpeg:https://cottagehome.info/wp-content/uploads/2017/04/f61120733f42d6979a4fa3d631f6e706.jpg
END:VEVENT
BEGIN:VEVENT
DTSTART;TZID=America/Indiana/Indianapolis:20170426T163000
DTEND;TZID=America/Indiana/Indianapolis:20170426T200000
DTSTAMP:20260424T120814
CREATED:20170424T140758Z
LAST-MODIFIED:20170426T140748Z
UID:10009354-1493224200-1493236800@cottagehome.info
SUMMARY:Pint Night + Food Truck: Gaucho's Fire
DESCRIPTION:Every Wednesday is Pint Night in our Tap Room! $5 pours (tax included) of all beers on tap. We are also featuring $3 pints of Winter Wit and $3 pints of Berliner Weisse through NUVO Beer Blitz 2017! \nGaucho’s Fire is a local top-rated authentic Brazilian food truck.
URL:https://cottagehome.info/event/food-truck-gauchos-fire/
LOCATION:Centerpoint Brewing\, 1125 E Brookside Ave\, Ste B2\, Indianapolis\, IN\, 46202\, United States
CATEGORIES:Local Business Events
ATTACH;FMTTYPE=image/jpeg:https://cottagehome.info/wp-content/uploads/2017/04/08ff8cd1521413cd3b28939f6505f087.jpg
END:VEVENT
BEGIN:VEVENT
DTSTART;TZID=America/Indiana/Indianapolis:20170423T143000
DTEND;TZID=America/Indiana/Indianapolis:20170423T173000
DTSTAMP:20260424T120814
CREATED:20170417T123332Z
LAST-MODIFIED:20170422T132545Z
UID:10009214-1492957800-1492968600@cottagehome.info
SUMMARY:Live Blues: Chris Ruest + Gene Taylor
DESCRIPTION:Sunday / April 23rd / 2:30pm-5:30pm / Free / 21+ \nCosmic Chrome Cafe on site for lunch and dinner! \nCome enjoy the blues rhythms of Chris Ruest and Gene Taylor in the Centerpoint Brewing Tap Room at 10th & Mass Ave. We are excited to host two remarkable musicians out of Texas. Have a couple pints and let the music flow through you! \nChris Ruest:\n“[He] belongs to the impressive class of serious Texas blues guitarists\, a group that includes Johnny Moeller\, Shawn Pittman\, and Nick Curran. While the others may have wider name recognition\, Ruest has quietly built a reputation of excellence that is spreading beyond his Austin home base. A veteran with nearly two decades’ experience on the bandstand\, Ruest’s passion for classic blues (jump\, Chicago\, and Gulf Coast) and roots rock forms comes through in an original voice that combines immediacy and authenticity. Dead-on songwriting and savvy selection of covers provide a platform for his unaffected\, honest vocals and tough guitar.” \nGene Taylor:\n“[He] is an extraordinary blues piano-player and singer\, born in Los Angeles\, California\, in 1952. At the age of eight\, he came under the influence of a family of blues and boogie-woogie players who moved in next door to his house. After starting out with the drums\, he switched to the piano and the guitar at age ten. He learned very quickly playing by ear and\, at age 11\, he began performing in a ‘family band’ with his best friend Jim Payne and Jim’s parents. They worked occasional neighborhood functions\, giving Gene his first experience as a ‘paid musician’—playing and singing country music.”
URL:https://cottagehome.info/event/live-blues-chris-ruest-gene-taylor/
LOCATION:Centerpoint Brewing\, 1125 E Brookside Ave\, Ste B2\, Indianapolis\, IN\, 46202\, United States
CATEGORIES:Local Business Events
ATTACH;FMTTYPE=image/jpeg:https://cottagehome.info/wp-content/uploads/2017/04/a84ba15392c71661e6613843ca46ae57.jpg
END:VEVENT
BEGIN:VEVENT
DTSTART;TZID=America/Indiana/Indianapolis:20170422T123000
DTEND;TZID=America/Indiana/Indianapolis:20170422T200000
DTSTAMP:20260424T120814
CREATED:20170419T125826Z
LAST-MODIFIED:20170422T132545Z
UID:10009350-1492864200-1492891200@cottagehome.info
SUMMARY:Food Truck: Cosmic Chrome Cafe
DESCRIPTION:Play a few games\, have a couple pints\, and enjoy some Cosmic Chrome Cafe! Cosmic Chrome is a local food truck\, based out of the Circle City Industrial Complex\, servin’ up southwestern style food with a kick.
URL:https://cottagehome.info/event/food-truck-cosmic-chrome-cafe-2/
LOCATION:Centerpoint Brewing\, 1125 E Brookside Ave\, Ste B2\, Indianapolis\, IN\, 46202\, United States
CATEGORIES:Local Business Events
ATTACH;FMTTYPE=image/jpeg:https://cottagehome.info/wp-content/uploads/2017/04/b831949447ddb13655c6a506b9eaa4c0.jpg
END:VEVENT
BEGIN:VEVENT
DTSTART;TZID=America/Indiana/Indianapolis:20170421T163000
DTEND;TZID=America/Indiana/Indianapolis:20170421T200000
DTSTAMP:20260424T120814
CREATED:20170418T124910Z
LAST-MODIFIED:20170421T130528Z
UID:10009266-1492792200-1492804800@cottagehome.info
SUMMARY:Food Truck: Cosmic Chrome Cafe
DESCRIPTION:Play a few games\, have a couple pints\, and enjoy some Cosmic Chrome Cafe! Cosmic Chrome is a local food truck\, based out of the Circle City Industrial Complex\, servin’ up southwestern style food with a kick.
URL:https://cottagehome.info/event/food-truck-cosmic-chrome-cafe/
LOCATION:Centerpoint Brewing\, 1125 E Brookside Ave\, Ste B2\, Indianapolis\, IN\, 46202\, United States
CATEGORIES:Local Business Events
ATTACH;FMTTYPE=image/jpeg:https://cottagehome.info/wp-content/uploads/2017/04/784321e96f4b559f355ce382fd2c832f.jpg
END:VEVENT
BEGIN:VEVENT
DTSTART;TZID=America/Indiana/Indianapolis:20170420T190000
DTEND;TZID=America/Indiana/Indianapolis:20170420T210000
DTSTAMP:20260424T120814
CREATED:20170418T124909Z
LAST-MODIFIED:20170420T130223Z
UID:10009264-1492714800-1492722000@cottagehome.info
SUMMARY:Trivia Night! + Chomp'z Food Truck
DESCRIPTION:Thursdays | 7pm-9pm | Free-to-Play | Prizes! \nChomp’z Truck will be on site for dinner and snacks!\nHosted by Indy’s Live Trivia. \nBring along a group of friends\, use your wit to come up with a team name\, and answer trivia questions to win! Use your knowledge and strategy\, and enjoy a couple beers along the way. Prize gift cards will be awared to the team(s) with the final top scores! \n“The cure for the common night out! Indy’s Live Trivia is a FREE trivia game to play with you and your friends as a TEAM. The game is simple to play\, although some of the questions may not be. You and your friends sign up as a team and compete against other teams. The host poses a question and plays a song; your team has the duration of that song to come up with an answer and a point value. There are five rounds of four questions and you can use each point value once per round. That’s it\, that simple! Or is it? It just depends on how much you had to drink from the fountain of knowledge.”
URL:https://cottagehome.info/event/trivia-night-chompz-food-truck/
LOCATION:Centerpoint Brewing\, 1125 E Brookside Ave\, Ste B2\, Indianapolis\, IN\, 46202\, United States
CATEGORIES:Local Business Events
ATTACH;FMTTYPE=image/jpeg:https://cottagehome.info/wp-content/uploads/2017/04/cb3ff4edcc524a28c85165b82cdf5b6e.jpg
END:VEVENT
END:VCALENDAR