BEGIN:VCALENDAR
VERSION:2.0
PRODID:-//Cottage Home Neighborhood Indianapolis - ECPv6.15.20//NONSGML v1.0//EN
CALSCALE:GREGORIAN
METHOD:PUBLISH
X-WR-CALNAME:Cottage Home Neighborhood Indianapolis
X-ORIGINAL-URL:https://cottagehome.info
X-WR-CALDESC:Events for Cottage Home Neighborhood Indianapolis
REFRESH-INTERVAL;VALUE=DURATION:PT1H
X-Robots-Tag:noindex
X-PUBLISHED-TTL:PT1H
BEGIN:VTIMEZONE
TZID:America/Indiana/Indianapolis
BEGIN:DAYLIGHT
TZOFFSETFROM:-0500
TZOFFSETTO:-0400
TZNAME:EDT
DTSTART:20160313T070000
END:DAYLIGHT
BEGIN:STANDARD
TZOFFSETFROM:-0400
TZOFFSETTO:-0500
TZNAME:EST
DTSTART:20161106T060000
END:STANDARD
BEGIN:DAYLIGHT
TZOFFSETFROM:-0500
TZOFFSETTO:-0400
TZNAME:EDT
DTSTART:20170312T070000
END:DAYLIGHT
BEGIN:STANDARD
TZOFFSETFROM:-0400
TZOFFSETTO:-0500
TZNAME:EST
DTSTART:20171105T060000
END:STANDARD
BEGIN:DAYLIGHT
TZOFFSETFROM:-0500
TZOFFSETTO:-0400
TZNAME:EDT
DTSTART:20180311T070000
END:DAYLIGHT
BEGIN:STANDARD
TZOFFSETFROM:-0400
TZOFFSETTO:-0500
TZNAME:EST
DTSTART:20181104T060000
END:STANDARD
END:VTIMEZONE
BEGIN:VEVENT
DTSTART;TZID=America/Indiana/Indianapolis:20170523T103000
DTEND;TZID=America/Indiana/Indianapolis:20170523T120000
DTSTAMP:20260424T101851
CREATED:20170425T140158Z
LAST-MODIFIED:20170505T145155Z
UID:10009374-1495535400-1495540800@cottagehome.info
SUMMARY:Winzlow's Birthday Book Reading
DESCRIPTION:Enjoy the Wonderful World of Winzlow and author and illustrator Devon Kondaki’s creative artwork at the East 38th Street Library from May 1st-June 5th. Come view the art anytime that the library is open! \nJoin us for a special Terrific Tuesday’s story time on May 23rd with the author as we celebrate Winzlow’s birthday!
URL:https://cottagehome.info/event/winzlows-birthday-book-reading/
LOCATION:East 38th Street library\, 5420 E 38th St\, Indianapolis\, IN\, 46218\, United States
CATEGORIES:Local Libraries
ATTACH;FMTTYPE=image/jpeg:https://cottagehome.info/wp-content/uploads/2017/04/9649ec1c59469e748103fac014496178-1.jpg
END:VEVENT
BEGIN:VEVENT
DTSTART;TZID=America/Indiana/Indianapolis:20170516T190000
DTEND;TZID=America/Indiana/Indianapolis:20170516T210000
DTSTAMP:20260424T101851
CREATED:20170504T144629Z
LAST-MODIFIED:20170505T145155Z
UID:10009413-1494961200-1494968400@cottagehome.info
SUMMARY:2017 Indy 500 Film Festival: A Salute to A.J. Foyt
DESCRIPTION:Individuals of all ages are invited for a salute to legendary race car driver A.J. Foyt and the 40th anniversary of his fourth Indy 500 win. View historic Indy 500 highlight films\, some not shown in years. See the great cars and drivers who raced against A.J. Foyt. Each film is a time capsule of the month of May at the Indianapolis Motor Speedway. The film to be shown is “Foyt’s Fourth Win\,” highlighting the 1977 Indy 500.. #isitMayYet
URL:https://cottagehome.info/event/2017-indy-500-film-festival-a-salute-to-a-j-foyt-2/
LOCATION:Indianapolis Public Library\, 40 E Saint Clair St\, Indianapolis\, IN\, 46204\, United States
CATEGORIES:Local Libraries
ATTACH;FMTTYPE=image/jpeg:https://cottagehome.info/wp-content/uploads/2017/05/5ff8257fac321413221e47df871a0b93.jpg
END:VEVENT
BEGIN:VEVENT
DTSTART;TZID=America/Indiana/Indianapolis:20170509T190000
DTEND;TZID=America/Indiana/Indianapolis:20170509T210000
DTSTAMP:20260424T101851
CREATED:20170504T144626Z
LAST-MODIFIED:20170505T145155Z
UID:10009411-1494356400-1494363600@cottagehome.info
SUMMARY:2017 Indy 500 Film Festival: A Salute to A.J. Foyt
DESCRIPTION:Individuals of all ages are invited for a salute to legendary race car driver A.J. Foyt and the 40th anniversary of his fourth Indianapolis Motor Speedway win. View historic Indy 500 highlight films\, some not shown in years. See the great cars and drivers who raced against A.J. Foyt. Each film\, typically 25-30 minutes in length\, is a time capsule of the month of May at the Indianapolis Motor Speedway. Films to be shown are “The Golden Festival of Speed\,” highlighting the 1961 Indy 500 and A.J. Foyt’s first Indy 500 win; “Strategy for Speed\,” highlighting Foyt’s second win in 1964; and “The Fifty-First 500\,” celebrating Foyt’s third win. #isitMayYet
URL:https://cottagehome.info/event/2017-indy-500-film-festival-a-salute-to-a-j-foyt/
LOCATION:Indianapolis Public Library\, 40 E Saint Clair St\, Indianapolis\, IN\, 46204\, United States
CATEGORIES:Local Libraries
ATTACH;FMTTYPE=image/jpeg:https://cottagehome.info/wp-content/uploads/2017/05/37ac8fe09e42fe2658da5a74e4b37207.jpg
END:VEVENT
BEGIN:VEVENT
DTSTART;TZID=America/Indiana/Indianapolis:20170502T183000
DTEND;TZID=America/Indiana/Indianapolis:20170502T200000
DTSTAMP:20260424T101851
CREATED:20170424T135241Z
LAST-MODIFIED:20170502T143253Z
UID:10009351-1493749800-1493755200@cottagehome.info
SUMMARY:An Evening with Bill Foley and Bob Daugherty
DESCRIPTION:Join the Riviera Camera Club for an Evening with Bill Foley and Bob Daugherty. Bob spent 43 years as an AP photographer and covered 9 presidents. In 2007 he retired from his position as AP’s assistant bureau chief and director for the AP State Photo Center in Washington D.C. Bill is a Pulitzer Prize winning photojournalist. Over the years he worked in 47 countries and had his work published in all major newspapers and magazines around the world.
URL:https://cottagehome.info/event/an-evening-with-bill-foley-and-bob-daugherty/
LOCATION:Central Library\, 40 E St Clair Street\, Indianapolis\, IN\, 46204\, United States
CATEGORIES:Local Libraries
ATTACH;FMTTYPE=image/jpeg:https://cottagehome.info/wp-content/uploads/2017/04/ac581639e59ab0112e717405ebef1a98.jpg
END:VEVENT
BEGIN:VEVENT
DTSTART;TZID=America/Indiana/Indianapolis:20170429T140000
DTEND;TZID=America/Indiana/Indianapolis:20170429T150000
DTSTAMP:20260424T101851
CREATED:20170424T135240Z
LAST-MODIFIED:20170429T141955Z
UID:10009349-1493474400-1493478000@cottagehome.info
SUMMARY:YAT: The Secret Garden
DESCRIPTION:Families\, school-age children and teens are invited to a performance of the classic story\, “The Secret Garden\,” reimagined by 4th through 12th grade students of the Young Actors Theatre. It’s about a girl named Mary who is determined to revive the beauty of the garden that once was. Surrounded by spirits from the past\, who both warn and welcome her\, determined Mary begins to peel away the layers of sadness that cover the house and the garden\, showing us the power that one small girl can have when she wants things to grow. This program\, to be held in Central Library’s Clowes Auditorium\, is made possible by the Robert & Toni Bader Charitable Foundation and Friends of the Library through gifts to The Indianapolis Public Library Foundation.
URL:https://cottagehome.info/event/yat-the-secret-garden/
LOCATION:The Learning Curve at Central Library\, 40 E Saint Clair St\, Indianapolis\, IN\, 46204\, United States
CATEGORIES:Local Libraries
ATTACH;FMTTYPE=image/jpeg:https://cottagehome.info/wp-content/uploads/2017/04/156de9a7da1dcfb7bba653a9e5dd053a.jpg
END:VEVENT
BEGIN:VEVENT
DTSTART;TZID=America/Indiana/Indianapolis:20170429T120000
DTEND;TZID=America/Indiana/Indianapolis:20170429T150000
DTSTAMP:20260424T101851
CREATED:20170418T125158Z
LAST-MODIFIED:20170429T141955Z
UID:10009269-1493467200-1493478000@cottagehome.info
SUMMARY:Legacies Leading Legacies - Live Poetry Event
DESCRIPTION:African American History Committee & The Center for African American Literature\, Culture and Black Experience will be hosting a live poetry event where local African American poets will celebrate Poet Legends and the Legacies they have left to the poets of today.\nThis event is Free\, Open to the Public and suitable for all ages.
URL:https://cottagehome.info/event/legacies-leading-legacies-live-poetry-event/
LOCATION:Central Library\, 40 E St Clair Street\, Indianapolis\, IN\, 46204\, United States
CATEGORIES:Local Libraries
ATTACH;FMTTYPE=image/jpeg:https://cottagehome.info/wp-content/uploads/2017/04/cca3ef296a62143821ca794efab33f2c.jpg
END:VEVENT
BEGIN:VEVENT
DTSTART;TZID=America/Indiana/Indianapolis:20170420T180000
DTEND;TZID=America/Indiana/Indianapolis:20170420T203000
DTSTAMP:20260424T101851
CREATED:20170420T130218Z
LAST-MODIFIED:20170420T130218Z
UID:10009368-1492711200-1492720200@cottagehome.info
SUMMARY:States of Incarceration exhibit opening and public conversation
DESCRIPTION:States of Incarceration exhibit opening and public conversation about incarceration and mental illness. Please join us for the official opening of the exhibit. We will celebrate  with a reception\, opportunities to view the exhibit\, and hands-on art response activities. At 7 pm. Anne Parsons\, Department of History\, University of North Carolina at Greensboro\, will offer some remarks on the intersections of the rise of mass incarceration with the deinstitutionalization of mental hospitals.  A panel moderated by Dr. Modupe Labode including Kenneth J. Falk\, (Legal Director\, ACLU of Indiana) and Maurice Young (founder\, Creative Change Project) will offer perspectives on the implications of these issues for Indianapolis.. Thursday\, April 20; IMCPL Central Library\, 6:00 reception in the library atrium and 7:00 program in the auditorium. \nThe reception has been generously sponsored by the Circle City (IN) Chapter of The Links\, Inc. \nFor free tickets register: https://soi_exhibit_opening.eventbrite.com \nhttp://statesofincarceration.org/
URL:https://cottagehome.info/event/states-of-incarceration-exhibit-opening-and-public-conversation/
LOCATION:Indianapolis Public Library\, 40 E Saint Clair St\, Indianapolis\, IN\, 46204\, United States
CATEGORIES:Local Libraries
ATTACH;FMTTYPE=image/jpeg:https://cottagehome.info/wp-content/uploads/2017/04/a5d43eae982d57360e7e082fcd9c387f.jpg
END:VEVENT
BEGIN:VEVENT
DTSTART;TZID=America/Indiana/Indianapolis:20170419T190000
DTEND;TZID=America/Indiana/Indianapolis:20170419T200000
DTSTAMP:20260424T101851
CREATED:20170417T124903Z
LAST-MODIFIED:20170419T125229Z
UID:10009217-1492628400-1492632000@cottagehome.info
SUMMARY:CIBA Speaker Series - What's new in cycling in Central Indiana?
DESCRIPTION:CIBA will host Bicycle Indiana\, IndyCog\, and the City of Indianapolis as we host a town hall meeting for the final 2017 Ciba Lecture Series.\nWe will share information about biking activities and concerns at the Federal\, State\, and Local (Indianapolis) level. There will also be time for Q&A . If weather permits\,we\, will go on a short bike ride after the Town Hall concludes ending at a location where the conversation can continue. Come and learn what is happening and share your ideas of how we can make Central Indiana better for cyclists!
URL:https://cottagehome.info/event/ciba-speaker-series-whats-new-in-cycling-in-central-indiana/
LOCATION:Indianapolis Public Library\, 40 E Saint Clair St\, Indianapolis\, IN\, 46204\, United States
CATEGORIES:Local Libraries
ATTACH;FMTTYPE=image/jpeg:https://cottagehome.info/wp-content/uploads/2017/04/81092740669263b7575330e26a89ee90.jpg
END:VEVENT
END:VCALENDAR