BEGIN:VCALENDAR
VERSION:2.0
PRODID:-//Cottage Home Neighborhood Indianapolis - ECPv6.15.20//NONSGML v1.0//EN
CALSCALE:GREGORIAN
METHOD:PUBLISH
X-ORIGINAL-URL:https://cottagehome.info
X-WR-CALDESC:Events for Cottage Home Neighborhood Indianapolis
REFRESH-INTERVAL;VALUE=DURATION:PT1H
X-Robots-Tag:noindex
X-PUBLISHED-TTL:PT1H
BEGIN:VTIMEZONE
TZID:America/Indiana/Indianapolis
BEGIN:DAYLIGHT
TZOFFSETFROM:-0500
TZOFFSETTO:-0400
TZNAME:EDT
DTSTART:20240310T070000
END:DAYLIGHT
BEGIN:STANDARD
TZOFFSETFROM:-0400
TZOFFSETTO:-0500
TZNAME:EST
DTSTART:20241103T060000
END:STANDARD
BEGIN:DAYLIGHT
TZOFFSETFROM:-0500
TZOFFSETTO:-0400
TZNAME:EDT
DTSTART:20250309T070000
END:DAYLIGHT
BEGIN:STANDARD
TZOFFSETFROM:-0400
TZOFFSETTO:-0500
TZNAME:EST
DTSTART:20251102T060000
END:STANDARD
BEGIN:DAYLIGHT
TZOFFSETFROM:-0500
TZOFFSETTO:-0400
TZNAME:EDT
DTSTART:20260308T070000
END:DAYLIGHT
BEGIN:STANDARD
TZOFFSETFROM:-0400
TZOFFSETTO:-0500
TZNAME:EST
DTSTART:20261101T060000
END:STANDARD
END:VTIMEZONE
BEGIN:VEVENT
DTSTART;TZID=America/Indiana/Indianapolis:20251201T190000
DTEND;TZID=America/Indiana/Indianapolis:20251201T210000
DTSTAMP:20260424T001805
CREATED:20250314T022734Z
LAST-MODIFIED:20250418T175324Z
UID:10009696-1764615600-1764622800@cottagehome.info
SUMMARY:Cottage Home Neighborhood - MEMBER MEETING (BOARD VOTING & HOLIDAY POTLUCK) - ALL Neighbors Welcome!
DESCRIPTION:
URL:https://cottagehome.info/event/cottage-home-neighborhood-member-meeting-board-voting-holiday-potluck-all-neighbors-welcome/
LOCATION:Paramount Cottage Home\, 1203 East St Clair Street\, Indianapolis\, IN\, 46202\, United States
ATTACH;FMTTYPE=image/jpeg:https://cottagehome.info/wp-content/uploads/2023/12/General-meeting-and-election-2023-1.jpg
END:VEVENT
END:VCALENDAR