BEGIN:VCALENDAR
VERSION:2.0
PRODID:-//Cottage Home Neighborhood Indianapolis - ECPv6.15.20//NONSGML v1.0//EN
CALSCALE:GREGORIAN
METHOD:PUBLISH
X-ORIGINAL-URL:https://cottagehome.info
X-WR-CALDESC:Events for Cottage Home Neighborhood Indianapolis
REFRESH-INTERVAL;VALUE=DURATION:PT1H
X-Robots-Tag:noindex
X-PUBLISHED-TTL:PT1H
BEGIN:VTIMEZONE
TZID:America/Indiana/Indianapolis
BEGIN:DAYLIGHT
TZOFFSETFROM:-0500
TZOFFSETTO:-0400
TZNAME:EDT
DTSTART:20240310T070000
END:DAYLIGHT
BEGIN:STANDARD
TZOFFSETFROM:-0400
TZOFFSETTO:-0500
TZNAME:EST
DTSTART:20241103T060000
END:STANDARD
BEGIN:DAYLIGHT
TZOFFSETFROM:-0500
TZOFFSETTO:-0400
TZNAME:EDT
DTSTART:20250309T070000
END:DAYLIGHT
BEGIN:STANDARD
TZOFFSETFROM:-0400
TZOFFSETTO:-0500
TZNAME:EST
DTSTART:20251102T060000
END:STANDARD
BEGIN:DAYLIGHT
TZOFFSETFROM:-0500
TZOFFSETTO:-0400
TZNAME:EDT
DTSTART:20260308T070000
END:DAYLIGHT
BEGIN:STANDARD
TZOFFSETFROM:-0400
TZOFFSETTO:-0500
TZNAME:EST
DTSTART:20261101T060000
END:STANDARD
END:VTIMEZONE
BEGIN:VEVENT
DTSTART;TZID=America/Indiana/Indianapolis:20250809T160000
DTEND;TZID=America/Indiana/Indianapolis:20250809T183000
DTSTAMP:20260424T062932
CREATED:20250604T032917Z
LAST-MODIFIED:20250706T231200Z
UID:10009700-1754755200-1754764200@cottagehome.info
SUMMARY:ALL NEIGHBORS WELCOME: Live Music - Adam Faler Performs Debut Album\, 'Cintukiana'
DESCRIPTION:Local Indy Musician Adam Faler’ Performs his Debut Album: Cintukiana  \n\n\n\nIndy-based musician\, Adam Faler\, released his debut album earlier this spring. He and his band are hoping to do a Vinyl album release show at the Cottage Home Community Space. His music is soft rock\, with elements of funk and jazz\, compared to artists like Jack Johnson. His album ‘Cintukiana’ can be found on Spotify or Apple Music.  \n\n\n\n \n\n\n\nDonations are welcome. \n\n\n\n \n\n\n\nSpotify Link: https://open.spotify.com/album/1C2lgvVRhuOosUjyeKVEEI?si=H9daW3MHQF61bQ-AOVHeCA
URL:https://cottagehome.info/event/all-neighbors-welcome-live-music-adam-faler-performs-debut-album-cintukiana/
END:VEVENT
END:VCALENDAR