BEGIN:VCALENDAR
VERSION:2.0
PRODID:-//Cottage Home Neighborhood Indianapolis - ECPv6.15.20//NONSGML v1.0//EN
CALSCALE:GREGORIAN
METHOD:PUBLISH
X-WR-CALNAME:Cottage Home Neighborhood Indianapolis
X-ORIGINAL-URL:https://cottagehome.info
X-WR-CALDESC:Events for Cottage Home Neighborhood Indianapolis
REFRESH-INTERVAL;VALUE=DURATION:PT1H
X-Robots-Tag:noindex
X-PUBLISHED-TTL:PT1H
BEGIN:VTIMEZONE
TZID:America/Indiana/Indianapolis
BEGIN:DAYLIGHT
TZOFFSETFROM:-0500
TZOFFSETTO:-0400
TZNAME:EDT
DTSTART:20240310T070000
END:DAYLIGHT
BEGIN:STANDARD
TZOFFSETFROM:-0400
TZOFFSETTO:-0500
TZNAME:EST
DTSTART:20241103T060000
END:STANDARD
BEGIN:DAYLIGHT
TZOFFSETFROM:-0500
TZOFFSETTO:-0400
TZNAME:EDT
DTSTART:20250309T070000
END:DAYLIGHT
BEGIN:STANDARD
TZOFFSETFROM:-0400
TZOFFSETTO:-0500
TZNAME:EST
DTSTART:20251102T060000
END:STANDARD
BEGIN:DAYLIGHT
TZOFFSETFROM:-0500
TZOFFSETTO:-0400
TZNAME:EDT
DTSTART:20260308T070000
END:DAYLIGHT
BEGIN:STANDARD
TZOFFSETFROM:-0400
TZOFFSETTO:-0500
TZNAME:EST
DTSTART:20261101T060000
END:STANDARD
END:VTIMEZONE
BEGIN:VEVENT
DTSTART;TZID=America/Indiana/Indianapolis:20250414T190000
DTEND;TZID=America/Indiana/Indianapolis:20250414T203000
DTSTAMP:20260424T133918
CREATED:20250314T021727Z
LAST-MODIFIED:20250418T174738Z
UID:10009690-1744657200-1744662600@cottagehome.info
SUMMARY:Cottage Home Neighborhood Meeting - ALL Neighbors Welcome
DESCRIPTION:The first Monday of every even month\, neighbors gather in the Paramount gym (enter near the garden on the south side of the building) or the Community Space at 714 N. Highland to hear about what’s happening in our community and the communities around us\, and to learn about opportunities to get engaged. Join us in April to vote on updated neighborhood bylaws and learn about exciting things the 2025 Board has planned!
URL:https://cottagehome.info/event/cottage-home-neighborhood-meeting-all-neighbors-welcome/
LOCATION:Paramount Cottage Home\, 1203 East St Clair Street\, Indianapolis\, IN\, 46202\, United States
ATTACH;FMTTYPE=image/jpeg:https://cottagehome.info/wp-content/uploads/2023/12/General-meeting-and-election-2023-1.jpg
END:VEVENT
END:VCALENDAR