BEGIN:VCALENDAR
VERSION:2.0
PRODID:-//Cottage Home Neighborhood Indianapolis - ECPv6.15.20//NONSGML v1.0//EN
CALSCALE:GREGORIAN
METHOD:PUBLISH
X-ORIGINAL-URL:https://cottagehome.info
X-WR-CALDESC:Events for Cottage Home Neighborhood Indianapolis
REFRESH-INTERVAL;VALUE=DURATION:PT1H
X-Robots-Tag:noindex
X-PUBLISHED-TTL:PT1H
BEGIN:VTIMEZONE
TZID:America/Indiana/Indianapolis
BEGIN:DAYLIGHT
TZOFFSETFROM:-0500
TZOFFSETTO:-0400
TZNAME:EDT
DTSTART:20240310T070000
END:DAYLIGHT
BEGIN:STANDARD
TZOFFSETFROM:-0400
TZOFFSETTO:-0500
TZNAME:EST
DTSTART:20241103T060000
END:STANDARD
BEGIN:DAYLIGHT
TZOFFSETFROM:-0500
TZOFFSETTO:-0400
TZNAME:EDT
DTSTART:20250309T070000
END:DAYLIGHT
BEGIN:STANDARD
TZOFFSETFROM:-0400
TZOFFSETTO:-0500
TZNAME:EST
DTSTART:20251102T060000
END:STANDARD
BEGIN:DAYLIGHT
TZOFFSETFROM:-0500
TZOFFSETTO:-0400
TZNAME:EDT
DTSTART:20260308T070000
END:DAYLIGHT
BEGIN:STANDARD
TZOFFSETFROM:-0400
TZOFFSETTO:-0500
TZNAME:EST
DTSTART:20261101T060000
END:STANDARD
END:VTIMEZONE
BEGIN:VEVENT
DTSTART;TZID=America/Indiana/Indianapolis:20250410T180000
DTEND;TZID=America/Indiana/Indianapolis:20250410T200000
DTSTAMP:20260424T133924
CREATED:20250331T231507Z
LAST-MODIFIED:20250331T231514Z
UID:10009698-1744308000-1744315200@cottagehome.info
SUMMARY:Volunteers Needed: Easter Egg Hunt Prep
DESCRIPTION:Madeline Hutchins is doing the prep for the Easter Egg Hunt on Sunday\, April 13.  \n\n\n\nShe is asking volunteers to come to her house (810 N Highland) on Thursday\, April 10 from 6:00-8:00 p.m. Bring a bag of candy or other fun items to fill the plastic eggs\, which will be provided.  \n\n\n\nFeel free to also bring drinks and/or snacks to share.  \n\n\n\nPlease RSVP to Madeline at 317-372-9916
URL:https://cottagehome.info/event/volunteers-needed-easter-egg-hunt-prep-2/
END:VEVENT
END:VCALENDAR